BEGIN:VCALENDAR
VERSION:2.0
PRODID:-//Oradea - ECPv5.1.1//NONSGML v1.0//EN
CALSCALE:GREGORIAN
METHOD:PUBLISH
X-WR-CALNAME:Oradea
X-ORIGINAL-URL:https://ghidlocal.com/oradea
X-WR-CALDESC:Events for Oradea
BEGIN:VTIMEZONE
TZID:Europe/Bucharest
BEGIN:DAYLIGHT
TZOFFSETFROM:+0200
TZOFFSETTO:+0300
TZNAME:EEST
DTSTART:20160327T010000
END:DAYLIGHT
BEGIN:STANDARD
TZOFFSETFROM:+0300
TZOFFSETTO:+0200
TZNAME:EET
DTSTART:20161030T010000
END:STANDARD
END:VTIMEZONE
BEGIN:VEVENT
DTSTART;TZID=Europe/Bucharest:20160707T110000
DTEND;TZID=Europe/Bucharest:20160707T213000
DTSTAMP:20260420T050753
CREATED:20160706T063416Z
LAST-MODIFIED:20160706T063618Z
UID:2322-1467889200-1467927000@ghidlocal.com
SUMMARY:12 obiceiuri de INTELIGENȚĂ EMOȚIONALĂ
DESCRIPTION:„Ești antreprenor și vrei să treci la următorul nivel sau ești angajat și îți dorești creștere masivă în carieră folosind inteligent puterea emoțiilor tale?” – iată introducerea făcută de speaker-ul Zoltan Veres care anunță conferința 12 obiceiuri de Inteligență Emoțională.\nPentru cine este dedicată conferința care abordează tema: inteligența emoțională? Pentru cei cei vor să … \n\nÎși crească performanța în carieră și să aibe mai multe rezultate cu mai puține resurse\nÎși ducă afacerea la următorul nivel\nFie un lider care conduce prin propriul exemplu\nSă facă bani mai mulți și mai ușor\nSă gestioneze conflictele și să le transforme în discuții constructive\nSă construiască relații productive bazate pe autenticitate\nSă dobândească autocontrolul emoțional\nȘi să obțină succesul profesional\, fără să sacrifice timpul liber\, familia și relatiile din viața personală\n\nObiectivele conferinței sunt: \n\nDescoperă CUM afectează Inteligența Emoțională succesul tău profesional și CUM să îți folosești emoțiile ÎN BENEFICIUL tău ca să fii mai performant\nDescoperă CARE este diferența între „creierul emoțional” și „creierul rațional” și CUM îți impactează rezultatele profesionale\nȘtii CUM să te folosești de emoțiile tale și ale celorlalți ca să devii un LIDER autentic\nDescoperă CUM afectează Inteligența Emoțională succesul tău în vânzări și negocieri\nÎnțelege DE CE și CUM se formează conflictele la nivel emoțional și CUM să le gestionezi cu succes ca să le transformi în discuții constructive\nȘtii DE CE și CUM Inteligența Emoțională joacă un rol important în echilibrul dintre viața personală și cea profesională\nDescoperă legătura strânsă între Inteligența Emoțională și veniturile tale\nAflă CUM să îți crești INTELIGENȚA EMOȚIONALĂ și să dobândești autocontrol emoțional\n\nConferința 12 obiceiuri de INTELIGENȚĂ EMOȚIONALĂ va avea loc în data de 7 iulie 2016\, la Hotel Double Tree by Hilton. Participanții pot opta pentru una dintre cele două sesiuni: \n\nsesiunea de dimineață: 10:00 – 13:00\nsesiunea de dupamasă: 17:30 – 20:30\n\nZoltan Veres\, speaker\, trainer și coach\, este cel care va conduce toată discuția pentru ca obiectivele propuse să fie îndeplinite. \nINTRAREA ESTE LIBERĂ! \n*Pentru înscrieri apăsați AICI. \nInformații preluate de AICI. \n
URL:https://ghidlocal.com/oradea/eveniment/12-obiceiuri-de-inteligenta-emotionala/
LOCATION:Hotel Double Tree by Hilton\, Aleea Ștrandului\, nr. 9\, Oradea\, Bihor\, 410051\, România
CATEGORIES:Business
ATTACH;FMTTYPE=image/jpeg:https://cdn.cluj.com/ghidlocalcom/sites/2/2016/07/Zoltan_Veres_12_obiceiuri_de_inteligenta_emotionala_Oradea.jpg
ORGANIZER;CN="Refleqt":MAILTO:events@refleqt.ro
END:VEVENT
END:VCALENDAR