BEGIN:VCALENDAR
VERSION:2.0
PRODID:-//Oradea - ECPv5.1.1//NONSGML v1.0//EN
CALSCALE:GREGORIAN
METHOD:PUBLISH
X-WR-CALNAME:Oradea
X-ORIGINAL-URL:https://ghidlocal.com/oradea
X-WR-CALDESC:Events for Oradea
BEGIN:VTIMEZONE
TZID:Europe/Bucharest
BEGIN:DAYLIGHT
TZOFFSETFROM:+0200
TZOFFSETTO:+0300
TZNAME:EEST
DTSTART:20160327T010000
END:DAYLIGHT
BEGIN:STANDARD
TZOFFSETFROM:+0300
TZOFFSETTO:+0200
TZNAME:EET
DTSTART:20161030T010000
END:STANDARD
END:VTIMEZONE
BEGIN:VEVENT
DTSTART;TZID=Europe/Bucharest:20161111T170000
DTEND;TZID=Europe/Bucharest:20161111T210000
DTSTAMP:20260422T220954
CREATED:20161028T065539Z
LAST-MODIFIED:20161028T065539Z
UID:4719-1478883600-1478898000@ghidlocal.com
SUMMARY:11even Experiences la Sinagoga Zion
DESCRIPTION:Fundaţia Comunitară Oradea vă invită la cea de-a V-a ediţie a evenimentului 11even Experiences\, care va avea loc în data de 11.11.2016\, începând cu ora 17:00\, la Sinagoga Zion.\nDupă ce la primele ediţii ale evenimentelor mii de participanţi din mai multe oraşe ale ţării s-au bucurat de prezenţa unor vorbitori de excepţie\, anul acesta 11even Experiences revine cu noi experienţe de viaţă\, povestite în 11 minute de către fiecare din cei 11 invitaţi\, tema fiind „Puncte de cotitură – Momente care schimbă vieți”. \nInvitații acestei ediţii sunt: Cornel ILIE – Solist trupa VUNK\, speaker motivaţional; Csaba BÉKÉSI – Director AJOFM Bihor\, inovator în administraţie\, susţinător activ al ONG-urilor bihorene; Carmen PANTIȘ – Medic Primar ATI\, Președinte Colegiul Medicilor Bihor\, coordonator transplant\, voluntar asistență pacienți cu boli terminale; Vișinel BALAN – Copil al orfelinatelor ţării\, absolvent a două facultăţi\, activist pentru drepturile copilului; Dana CHIORAN – Tehnician dentar\, nevăzătoare\, absolventă de studii superioare; Otilia FLONTA – Designer şi om de afaceri\, cuceritor al pieţei mondiale a poşetelor de lux; Williams Mihai ROȘIAN – fost vânzător ambulant de ziare\, ajutor de bucătar\, fotograf internaţional\, IT – Creative Director; Tică DARIE – studii universitare în Danemarca\, promotor al mişcării Salvaţi Roșia Montană şi al economiei sociale; Viorel LASCU – inginer aeronautic\, speolog\, alpinist\, renovator de case tradiţionale\, secretar de stat\, Alexandru TĂNASE – managing partner CITR și asociat coordonator pentru zona Transilvania. \nBiletele se pot achiziționa accesând următorul link: http://elevenevents.ro/inregistrare/oradea sau sunând la telefon 0771 358 776. \nFondurile strânse în cadrul evenimentului vor fi direcționate către consolidarea Fondului Științescu Oradea\, program dezvoltat de Fundația Comunitară Oradea în parteneriat cu Romanian American Foundation și cu sprijinul companiilor locale\, prin care vor fi oferite finanțări pentru proiecte din domeniul STEM (științe\, tehnologie\, inginerie\, matematică)\, cu scopul de a stimula pasiunea tinerilor pentru științe. \n11even Experiences este un concept marca „Asociaţia 11even”\, anul acesta evenimentele având loc în 5 orașe din România și Republica Moldova. \n
URL:https://ghidlocal.com/oradea/eveniment/11even-experiences-la-sinagoga-zion/
LOCATION:Sinagoga Neologă Zion\, Str. Independenței\, nr. 22\, Oradea\, Bihor\, România
CATEGORIES:Conferinte
ATTACH;FMTTYPE=image/png:https://cdn.cluj.com/ghidlocalcom/sites/2/2016/10/11even_experiences_Fundatia_Comunitara_Oradea.png
ORGANIZER;CN="Funda%C8%9Bia%20Comunitar%C4%83%20Oradea":MAILTO:info@fundatiacomunitaraoradea.ro
END:VEVENT
END:VCALENDAR