BEGIN:VCALENDAR
VERSION:2.0
PRODID:-//Ghid Local Brasov - ECPv5.1.1//NONSGML v1.0//EN
CALSCALE:GREGORIAN
METHOD:PUBLISH
X-WR-CALNAME:Ghid Local Brasov
X-ORIGINAL-URL:https://ghidlocal.com/brasov
X-WR-CALDESC:Events for Ghid Local Brasov
BEGIN:VTIMEZONE
TZID:Europe/Bucharest
BEGIN:DAYLIGHT
TZOFFSETFROM:+0200
TZOFFSETTO:+0300
TZNAME:EEST
DTSTART:20180325T010000
END:DAYLIGHT
BEGIN:STANDARD
TZOFFSETFROM:+0300
TZOFFSETTO:+0200
TZNAME:EET
DTSTART:20181028T010000
END:STANDARD
END:VTIMEZONE
BEGIN:VEVENT
DTSTART;TZID=Europe/Bucharest:20180324T120000
DTEND;TZID=Europe/Bucharest:20180421T160000
DTSTAMP:20260425T192621
CREATED:20180303T205420Z
LAST-MODIFIED:20180303T205420Z
UID:43873-1521892800-1524326400@ghidlocal.com
SUMMARY:Ateliere de Sambata cu Beti Piscureanu
DESCRIPTION:Daca vrei sa iti petreci sfarsitul de saptamana intr-un mod creativ si relaxat\, atunci iti propunem sa ne dam intalnire Sambata cu Beti Piscureanu si universul materialelor textile din care vom coase lucruri minunate. \nAtelierele sunt atat pentru incepatori\, cat si pentru cei care cunosc deja cateva dintre secretele cusutului. Pentru o buna organizare\, va rugam sa anuntati inscrierea din timp.  \nAtelier 24 Martie\nCOLAJE TEXTILE – cusaturi manuale\nDurata: 3-4 ore\nCost: 120 lei/pers\, insa daca mai vii cu cineva\, veti plati impreuna 200 lei (100 lei/ pers)\nLocuri disponibile: 8\nCe vei invata: cusaturi manuale utilitare si decorative\, notiuni despre materiale textile\, folosirea corecta a accesoriilor de croitorie. \nAtelier 31 Martie\nFUSTA DREAPTA\nDurata: 5-6 ore\nCost: 220 lei/persoana (10% reducere daca vii cu masina ta de cusut)\nCe vei invata: realizarea tiparului pe masuri personalizate\, transfer pe material/croire\, coaserea\, surfilarea si asamblarea fustei\, montarea fermoarului\, realizarea tivului ascuns.\nLocuri disponibile: 5 \nAtelier 14 Aprilie\nPANTALONI ȘALVARI\nDurata: 4-5 ore\nCost: 180 lei/pers (10% reducere daca vii cu masina ta de cusut)\nCe vei invata: croirea\, coaserea\, surfilarea si asamblarea pantalonului\, montarea buzunarelor ascunse\, a beteliei si a elasticului\nLocuri disponibile: 5 \nAtelier 21 Aprilie\nFUSTA CLOȘ DIN TUL cu captuseala\nDurata: 5-6 ore\nCost: 240 lei/pers (10% reducere daca vii cu masina ta de cusut)\nCe vei invata: realizarea tiparului\, croirea\, coaserea\, surfilarea si asamblarea fustei\, montarea beteliei si a elasticului\nLocuri disponibile: 5 \n
URL:https://ghidlocal.com/brasov/eveniment/ateliere-de-sambata-cu-beti-piscureanu/
LOCATION:Ora0 Hive\, Str. RAZBOIENI NR.23\, Brasov\, RO
CATEGORIES:Cursuri
ATTACH;FMTTYPE=image/jpeg:https://cdn.cluj.com/ghidlocalcom/sites/6/2018/03/43873_image_28379608_1439614969484233_2322616450404214684_n.jpg
END:VEVENT
BEGIN:VEVENT
DTSTART;TZID=Europe/Bucharest:20180402T180000
DTEND;TZID=Europe/Bucharest:20180416T220000
DTSTAMP:20260425T192621
CREATED:20180326T132307Z
LAST-MODIFIED:20180326T132307Z
UID:46995-1522692000-1523916000@ghidlocal.com
SUMMARY:Curs de comunicare si public speaking
DESCRIPTION:Când spui cuvintele ”public speaker”\, adică vorbitor în public\, gândul te duce la o persoană care ține un discurs într-o sală publică\, pe o scenă imensă\, cu lumini din toate părțile și cu un public numeros. \nÎnsă adevărul este că vorbitori în public suntem toți. Indiferent de meseria de zi cu zi\, suntem vorbitori în public 24 de ore din 24.  \n– De ce să participi la Speakers Club? –\nPentru că cea mai rapidă și puternică forma de dezvoltare personală și profesională este vorbitul în public. \n– Ce este Speakers Club? –\nEste locul de practică pentru cei care își doresc să devină mai buni comunicatori și să aibă impact de fiecare dată când prezintă. \n– Ce se va întâmpla în cadrul acestui seminar? –\nLa acest seminar vei cunoaște comunitatea\, vei face networking\, vei afla tehnici de public speaking și le vei vedea aplicate în discursurile pregătite ale membrilor Speakers Club\, te vei distra\, te vei motiva și inspira! \n– Ce îți va oferi întâlnirea Speakers Club ? –\n1. Informații relevante despre vorbit în public (tehnici specifice prezentărilor cu public)\n2. Networking cu antreprenori și oameni de succes\, cu care poți lega parteneriate\n3. Un mediu profesionist în care să dezvolți abilitatea de a comunica și de a prezenta\n4. Ocazia de a susține un mini-discurs \n– Cât costă? –\nParticiparea costă 35 lei pentru fiecare dintre cei prezenți la întâlnire. \n– Cine este trainerul grupei? –\nTrainerul grupei este George Nedelcu\, antreprenor\, francizor Speakers Club Brasov\, trainer si speaker. \nTe poți înscrie pentru eveniment la:\nhttp://speakersclub.eu/training-brasov \nTe rugăm să te înscrii pe formular pentru că numărul de locuri este limitat! \n
URL:https://ghidlocal.com/brasov/eveniment/curs-de-comunicare-si-public-speaking/
LOCATION:Kronwell Hotel\, Brașov\, Brasov\, 500203\, RO
CATEGORIES:Workshop Brasov
ATTACH;FMTTYPE=image/jpeg:https://cdn.cluj.com/ghidlocalcom/sites/6/2018/03/46995_image_29468137_899594663576322_8639380991405719552_o.jpg
END:VEVENT
BEGIN:VEVENT
DTSTART;TZID=Europe/Bucharest:20180413T080000
DTEND;TZID=Europe/Bucharest:20180416T150000
DTSTAMP:20260425T192621
CREATED:20180307T171700Z
LAST-MODIFIED:20180307T171700Z
UID:44516-1523606400-1523890800@ghidlocal.com
SUMMARY:Parada Junilor de la Brasov - Senior Voyage
DESCRIPTION:Va invitam la Brasov\, in duminica Tomii (prima dupa Paste) pentru a lua parte la o calatorie in timp. Da\, ati citit bine! Atunci are loc Festivalul Junilor de la Brasov\, o sarbatoare care ne poarta in timpuri dacice si semnifica reinvierea naturii si victoria soarelui asupra frigului iernatic. Junii sunt sapte grupuri\, fiecare cu propriul ritual\, inarmati cu steaguri\, buzdugane si puterea de a lasa cu gura cascata de uimire pe toti cei care privesc spectacolul lor. Un eveniment unic in Europa\, care imbina mitul cu ceremonialul si magia. \nPUNCTE DE IMBARCARE: Bucuresti\, Ploiesti \nVineri\, 13.04: Bucuresti – Brasov (aprox. 180 km) \nPlecare din Bucuresti spre Brasov. Sosire la pensiune\, in centrul orasului\, unde petrecem urmatoarele 3 nopti. Apoi\, pornim intr-un tur de descoperire al Brasovului. Vizitam Muzeul Casa Junilor\, pentru a afla mai multe despre traditiile\, portul de sarbatoare\, semnificatia jocurilor si dansurilor junilor. Dupa amiaza participam la unul dintre obiceiurile cele mai pitoresti si spectaculoase din ceremonialul Ju¬nilor Brasoveni si Brasovecheni: „arun¬¬carea in tol“. \nSambata\, 14.04: Schei Brasovului \nDe dimineata facem o plimbare prin Schei\, vechiul cartier romanesc al Brasovului. Pana in prezent\, scheii au o imagine diferita de cea a vechiului oras\, arhitectura este mai simpla si mai rustica. Vom fi recompensati cu unele dintre cele mai frumoase case din cartier si cu monumente inedite. Apoi avem parte de o surpiza. Suntem asteptati in gospodaria Presedintelui Junilor Brasovecheni\, pentru a participa la pregatirile  ecvestre pentru parada din Duminica Tomii. Vedem pe viu cum se pregatesc harnasamentele cailor\, cum se lustruiesc salangurile\, se pregatesc chingile si caii pentru sarbatoare. Degustam preparate facute in gospodarie pentru oaspetii de la Pietrele lui Solomon din urmatoarea zi (oua rosii\, slanina afumata\, branza de burduf\, mamaliga cu branza\, tocana miel) si incercam ”zara”\, bautura traditionala nealcoolizata specifica brasovechenilor. \nDuminica\, 15.04: Parada Junilor \nDupa micul dejun\, e timpul sa admiram\, dintr-o locatie special aleasa\, spectacolul oferit de cetele de juni. Peste o suta de barbati pastratori ai traditiilor\, imbracati in costume impozante\, coboara in Cetate\, in centrul orasului\, calare pe cai impodobiti cu ciucuri si panglici colorate. Din cand in cand\, fac cate o oprire pentru a putea fi admirati de public. Dupa parada\, in jurul pranzului\, ii urmam la locul de legenda\, Pietrele lui Solomon\, unde junii vor indeplini vechile ritualuri specifice acestei sarbatori: cantarea Troparului Invierii\, hora junilor si aruncarea buzduganului. Suntem invitati cu totii la petrecerea campeneasca\, pentru a ne ospata si veseli impreuna toata ziua. \nLuni\, 16.04: Brasov – Bucuresti (aprox. 180 km) \nDupa micul dejun vizitam Biserica Evanghelică din Bartolomeu\, cea mai veche cladire din Brasov. Intoarcere in Bucuresti spre seara. \n
URL:https://ghidlocal.com/brasov/eveniment/parada-junilor-de-la-brasov-senior-voyage/
LOCATION:Brasov\, Romania\, Brasov\, RO
CATEGORIES:Cultural
ATTACH;FMTTYPE=image/jpeg:https://cdn.cluj.com/ghidlocalcom/sites/6/2018/03/44516_image_28238954_1841061162573729_3702537909291732650_o.jpg
END:VEVENT
BEGIN:VEVENT
DTSTART;TZID=Europe/Bucharest:20180413T173000
DTEND;TZID=Europe/Bucharest:20180601T193000
DTSTAMP:20260425T192621
CREATED:20180402T080649Z
LAST-MODIFIED:20180402T080649Z
UID:47811-1523640600-1527881400@ghidlocal.com
SUMMARY:Curs: Pictura tradițională a icoanei pe lemn/Sfântul Gheorghe
DESCRIPTION:Reputatele artiste și restauratoare de artă Victoria Ţăroi și Georgiana Gămălie\, de la Asociația Culturală Artessentia\, va invită la un curs inedit\, desfăşurat pe durata a opt şedinţe\, prin intermediul căruia veti fi iniţiati în tainele picturii icoanei pe lemn\, in tehnica vechilor iconari. Vom picta un detaliu al Icoanei Sfântului Gheorghe (circa 1300)\, atelierul lui Manuel Panselinos\, Mănăstirea Vatoped\, Muntele Athos\, Grecia. Fiecare participant va lucra o icoană pe  blat de lemn grunduit de dimensiunea 21/29 cm. \nStructură curs: 8 şedinţe a câte două ore\nProgram săptămânal\, vinerea\, in 13\, 20\, 27 aprilie\, 4\, 11\, 18\, 25 mai si  1 iunie 2018\, orele 17.30-19.30.\n1. a) Scurta prezentare a icoanei. Geneza icoanei. Icoana romaneasca pe lemn.\nb) Pregătirea pentru pictura icoanei (rugăciuni ale unor iconari şi zugravi bisericeşti). Transpunerea desenului pe blatul de lemn grunduit.\n2-7. Aplicarea foiţei metalice aurii. Însuşirea teoriei cromatice specifice. Inventarul instrumentarului cromatic. Tehnici de preparare a pigmenţilor. Aşezarea în straturi a zonelor de culoare dupa izvodul/modelul ales – proplasma\, semicarnatie\, carnatie\, lumini/ blicuri.\n8.Vernisare. \nTaxa de participare: 600 lei (se achita la prima sedinta). \nNumăr locuri limitat : 10 participanţi\nPentru inscrieri\, va rugam să transmiteţi o confirmare fermă cu titlul „Curs icoana lemn” la email casajunilor@gmail.com\, impreuna cu datele dumneavoastră de contact (numar de telefon si nume complet). \nAcest curs se adresează adulţilor care doresc să își valorifice timpul printr-o reîntorcere la arta vechilor iconari\, pentru a-și însuși istoria și tehnica acestora. Dorim să va oferim o experiență plăcută\, prin care emoția subconștientului dumneavoastră\, provocată prin artă\, să se exprime la modul cel mai personal\, cu sensibilitate\, cu căldură sufletească\, cu exuberanţă şi moderaţie în cadrul dat. Obiectele create în cadrul atelierelor vor aduce un plus ambianței căminului dumneavoastră sau se pot transformă într-un cadou original pentru cineva drag. \nEchipa noastră\, o echipa creativă și complexă\, compusă din specialiști pe o arie largă de domenii\, se modelează pe diverse subiecte de patrimoniu repunandu-le în atenție prin artă actuală.\nCursurile sunt susţinute de Victoria Taroi și Georgiana Gămălie\, membre fondatoare ale Asociaţiei Culturale Artessentia\, asociaţie situată în inima Scheiului\, care se preocupă de revitalizarea prin artă a patrimoniului local. \nVictoria Ţăroi – licenţiată in conservare – restaurare la Facultatea de Arte Vizuale din Timişoara\, cu dublu masterat în restaurare iconă şi textile – este un reputat artist vizual cu numeroase expoziţii de nivel naţional şi internaţional\, cu experienţe multiple în cercetare si restaurare artă\, pedagogie si curatoriat\, cu portofoliu amplu in domeniul design-ului muzeal\, de interior\, obiectr\, mobilier si vestimentar. \nGeorgiana Gămălie – licențiată în conservare – restaurare icoană/ lemn policrom la Facultatea de Teologie Ortodoxă „Dimitrie Stăniloaie” din Iași\, doctor în biologie aplicată în domeniul conservării colecțiilor muzeale- are o vastă experiență în domeniul cercetării și restaurării de artă\, pedagogic\, muzeal și curatorial\, precum și o largă arie de exprimări personale ca artist vizual. \n
URL:https://ghidlocal.com/brasov/eveniment/curs-pictura-traditionala-a-icoanei-pe-lemn-sfantul-gheorghe/
LOCATION:Casa Junilor\, Prundului 1\, Brasov\, 500123\, RO
CATEGORIES:Cultural
ATTACH;FMTTYPE=image/jpeg:https://cdn.cluj.com/ghidlocalcom/sites/6/2018/04/47811_image_29683132_1997941863754096_6697342368168572447_n.jpg
END:VEVENT
BEGIN:VEVENT
DTSTART;TZID=Europe/Bucharest:20180413T183000
DTEND;TZID=Europe/Bucharest:20180413T203000
DTSTAMP:20260425T192621
CREATED:20180316T083448Z
LAST-MODIFIED:20180316T083448Z
UID:45754-1523644200-1523651400@ghidlocal.com
SUMMARY:Seminar Brasov: Libertate versus dependente! cu Luana Ibacka
DESCRIPTION:Ne bucurăm să te anunțam că anul acesta în aprilie (a doua zi dupa aniversarea zilei sale de nastere)\,?  Luana Ibacka vine sa conferentieze si sa lucreze intr-un seminar &  workshop \, la Brasov.  \n ?Brasov\, 13 aprilie\, 18.30-20.30\n ?Intrare : 30 lei – se achita la intrare!\nFormular inscriere: https://alexaevent.ro/2018/03/11/seminarluanaibackabrasov/ \nTe intreaba zi de zi cineva..”Esti ok?”. Mecanic spunem „Da”\, insa in ecou\, o voce captiva in drama\, are alt raspuns.. Citim\, mergem la cursuri\, cautam miracole pentru a ne elibera. Si fiecare efort conteaza fiind  o mare rasplata\, in  evolutia noastra. Credem ca a fi „impliniti” este mare a dorinta a vietii. Insa nu este decat o iluzie „implinirea” de orice tip. Marea experienta\, este libertatea. Un strop de intelegere a acestui concept\, te pune pe o frecventa inalta\, unde te poti expansiona\, TU\, acel „tu” din spatele oricarei identitati si ego.  \n? OBIECTIVELE seminarului sunt :\n–	Dezvaluirea valorilor interioare – fundamentul existentei si „moartea dramei existentiale”\n–	Intelegerea mai profunda\, a principiilor mintii \, memoriilor arhivate\, si conexiunea cu corpul\n–	Folosirea puterii creatoare a gandului si cuvintelor pt a depasi proiectii\, dezamagiri\, asteptari\n–	Decriptarea limbajului „victimei” si al „libertatii”\n–	Intelegerea corecta a imaginii de sine in contextul iubirii romantice (unde avem de a face cu dependente de obicei)\n–	Secvente de decriptare a constiintei de victima\, a tiparelor co-dependente\n–	Crearea unor noi viziuni de comunicare in familie\, cuplu\, societate \n☻ BENEFICII – acest eveniment este pentru mine daca :  \n–	Sunt o persoana care aspira la o viata autentica\, libera de limitari \, avand deja experienta blocajelor (in emotional\, fizic\, social\, etc)\n–	Doresc  intelegere/instrumente pt  a-mi crea o libertate interioara\n–	Acceptarea vietii libere de EGO\, asteptari\, limitari de orice tip\n–	Sunt gata sa depasesc  identificarile \,prejudecatile \, mostenirile familiale\, informatiile necontrolabile din mediul inconjurator\, si sa  imi creez  Autenticul   “EU” – FIZIC SI SPIRITUAL\n–	Doresc relatii libere de conventii\, contracte\, angajamente\n–	Doresc conectare permanenta cu propria persoana si deschidere catre conexiune autentica cu parteneri de sex opus\n–	Vreau sa traiesc in placere si relaxare \, intelegand mecanismele universale ale vietii \nLuana catre tine ?  :”Evadarea din plasa emotionala\, evadarea din unitatea colectiva de drama\, mi-a indreptat studiile catre noi sisteme de comunicare.    Imi doresc\, la fel ca si tine\,  sa fiu fericita\, vesela\, atractiva si libera de trecut. Modul in care pot sa imi indeplinesc  dorintele sufletesti si fizice se bazeaza pe modul in care armonizez lumea trairilor interioare (emotii\, ganduri\,vise\,asteptari) si lumea trairilor mele exterioare  ( ce vorbesc\,  cum ma comport\, actiuni\, alegeri\, cum arat\, ce transmit non verbal).\n ?Cred cu tarie ca viata poate fi RAIul pe pamant\, si RAI inseamna pentru mine Rabdare\, Atentie si Iubire. ?\nAcest seminar  este ca si cuprinsul unei carti: parcurgem toate capitolele importante dintr-un ghid care te invata cum sa obtii PAS CU PAS \, cate un grad de libertate.  Pas cu pas\, ne schimbam parerea despre dorinte\, si devenim magneti. In perceptia mea\, spun ca „Schimb frecventa”. \n ☻Rezervare: intrarea in sala se face in baza formularului completat aici:\n☻ Locatia se va transmite celor inscrisi prin SMS cu cateva zile inainte de eveniment!\nSambata 14 aprilie\, organizam workshopul? CORPUL SENZORUL FERICIRII?\, si toti cei prezenti la acest seminar vor avea o reducere de 100 ron la inregistrare. Mentionam ca acest seminar teoretic\, este preludiul workshop-ului\, intrucat se dezvolta conceptul de eliberare prin corp.\n Libertatea accesibila corpului ne ajuta sa influentam starea psihica si emotiile\, la fel cum gandurile si sentimentele ne influenteaza corpul. \n
URL:https://ghidlocal.com/brasov/eveniment/seminar-brasov-libertate-versus-dependente-cu-luana-ibacka/
LOCATION:Alexaevent.ro\, Strada15 noiembrie nr 44\, Brasov\, RO
CATEGORIES:Cursuri
ATTACH;FMTTYPE=image/jpeg:https://cdn.cluj.com/ghidlocalcom/sites/6/2018/03/45754_image_29027601_2051585921548110_8862494406310100992_o.jpg
END:VEVENT
BEGIN:VEVENT
DTSTART;TZID=Europe/Bucharest:20180413T190000
DTEND;TZID=Europe/Bucharest:20180413T220000
DTSTAMP:20260425T192621
CREATED:20180122T090627Z
LAST-MODIFIED:20180122T090627Z
UID:36494-1523646000-1523656800@ghidlocal.com
SUMMARY:NUNTA fara DAR! Seara traditional Romaneasca!
DESCRIPTION:De cate ori nu ai spus…” Ce chef as avea de o nunta …sa joc pana nu ma mai tin picioarele”\nTe asteptam la NUNTA’n Foisor…fara DAR doar cu voie buna si chef de distractie.\nFormatia Argo \, are grija de atmosfera sa fie cat mai incinsa! \n
URL:https://ghidlocal.com/brasov/eveniment/nunta-fara-dar-seara-traditional-romaneasca-7/
LOCATION:Foișorul Astra\, Str Panselelor\, Nr 2\, Brasov\, 500419\, RO
CATEGORIES:Culinar Brasov
ATTACH;FMTTYPE=image/jpeg:https://cdn.cluj.com/ghidlocalcom/sites/6/2018/01/36494_image_25073428_2041866069285265_3287806374243440396_o.jpg
END:VEVENT
BEGIN:VEVENT
DTSTART;TZID=Europe/Bucharest:20180413T200000
DTEND;TZID=Europe/Bucharest:20180413T230000
DTSTAMP:20260425T192621
CREATED:20180329T155404Z
LAST-MODIFIED:20180329T155404Z
UID:47400-1523649600-1523660400@ghidlocal.com
SUMMARY:Luiza Zan prezinta: KRiSPER - 13.04 - Rockstadt
DESCRIPTION:Cunoscuta artista jazz Luiza Zan continua seria evenimentelor prezentate in rol de curator si ne va aduce in club Rockstadt o pleiada de artisti jazz\, atat romani si internationali\, in cadrul unor seri de virtuozitate si maiestrie muzicala. \nPe 13 aprilie\, un proiect muzical aparte ajunge la Rockstadt. KRiSPER. \nUna din cele mai recente proiecte jazz-fusion bucurestene\, KRiSPER ajunge in premiera la Brasov intr-o formula deosebita\, alaturi de: \nAdi Stoenescu – Pian Electric\, EFX\nMarcel Moldovan – Tobe\nHarvis Cuni Padron – Trompeta\, EFX\nMIchael Acker – Bass\, EFX\nAlex Arcus – Sax\, EFX \nDetalii despre bilete\, in curand. \n
URL:https://ghidlocal.com/brasov/eveniment/luiza-zan-prezinta-krisper-13-04-rockstadt/
LOCATION:Rockstadt\, Strada Nicolae Titulescu\, Brasov\, 500271\, RO
CATEGORIES:Party-uri Brasov
ATTACH;FMTTYPE=image/jpeg:https://cdn.cluj.com/ghidlocalcom/sites/6/2018/03/47400_image_29542824_1859377637440850_3333637571793897980_n.jpg
END:VEVENT
BEGIN:VEVENT
DTSTART;TZID=Europe/Bucharest:20180413T200000
DTEND;TZID=Europe/Bucharest:20180413T230000
DTSTAMP:20260425T192621
CREATED:20180402T080156Z
LAST-MODIFIED:20180402T080156Z
UID:47804-1523649600-1523660400@ghidlocal.com
SUMMARY:Remember Cenaclul Flacara cu Liviu Ungureanu
DESCRIPTION:
URL:https://ghidlocal.com/brasov/eveniment/remember-cenaclul-flacara-cu-liviu-ungureanu/
LOCATION:Bonanzza Brasov\, Str. Zizinului\, nr.1-3-5\, Brassó\, 520063\, RO
CATEGORIES:Altele,Artă contemporană,Ateliere Brasov
ATTACH;FMTTYPE=image/jpeg:https://cdn.cluj.com/ghidlocalcom/sites/6/2018/04/47804_image_29694436_2032616740393650_7928732421062233373_n.jpg
END:VEVENT
BEGIN:VEVENT
DTSTART;TZID=Europe/Bucharest:20180413T210000
DTEND;TZID=Europe/Bucharest:20180414T000000
DTSTAMP:20260425T192621
CREATED:20180314T165214Z
LAST-MODIFIED:20180314T165214Z
UID:45545-1523653200-1523664000@ghidlocal.com
SUMMARY:GOLAN - 13.04 - Kruhnen Musik Halle\, Brasov
DESCRIPTION:Golan\, una din cele mai revolutionare trupe ale scenei romanesti din ultimii ani\, revine la Brasov pe 13 aprilie\, in Kruhnen Musik Halle.  \nLansati in 2013\, grupul a avut una din cele mai rapide ascensiuni pe scena muzicii electronice din Romania\, iar in 2014 au primit premiul Sunete pentru ‘Best Electro’ si au devenit headlineri la evenimentele din tara. In 2015 Golan a avut debutul international la festivalul Open’er din Polonia\, iar apoi au ajuns sa cante in toata Europa\, imbinand sunetele electronice cu percutii exotice si influente jazz. \nDetalii despre bilete\, in curand. \n
URL:https://ghidlocal.com/brasov/eveniment/golan-13-04-kruhnen-musik-halle-brasov/
LOCATION:Kruhnen Musik Halle\, Nicolae Titulescu\, 2P\, Brasov\, RO
CATEGORIES:Party-uri Brasov
ATTACH;FMTTYPE=image/jpeg:https://cdn.cluj.com/ghidlocalcom/sites/6/2018/03/45545_image_29216348_986788664809573_8407814472481392330_n.jpg
END:VEVENT
BEGIN:VEVENT
DTSTART;TZID=Europe/Bucharest:20180413T210000
DTEND;TZID=Europe/Bucharest:20180413T230000
DTSTAMP:20260425T192621
CREATED:20180319T093540Z
LAST-MODIFIED:20180319T093540Z
UID:46075-1523653200-1523660400@ghidlocal.com
SUMMARY:Seara de Folk-British Pub
DESCRIPTION:Seara de folk live cu Calin Todor\,Vlad Adragai si Gabi Craciun! \nCuza Voda nr\,5\nPret bilet: 20 lei\nInfo si rezervari: 0730007009 \n
URL:https://ghidlocal.com/brasov/eveniment/seara-de-folk-british-pub/
LOCATION:Britishpubbrasov\, Alexandru Ioan Cuza 5\, Brasov\, 500014\, RO
CATEGORIES:Party-uri Brasov
ATTACH;FMTTYPE=image/jpeg:https://cdn.cluj.com/ghidlocalcom/sites/6/2018/03/46075_image_29342187_1838008539583024_4490872647135002624_n.jpg
END:VEVENT
END:VCALENDAR