BEGIN:VCALENDAR
VERSION:2.0
PRODID:-//Ghid Local Brasov - ECPv5.1.1//NONSGML v1.0//EN
CALSCALE:GREGORIAN
METHOD:PUBLISH
X-WR-CALNAME:Ghid Local Brasov
X-ORIGINAL-URL:https://ghidlocal.com/brasov
X-WR-CALDESC:Events for Ghid Local Brasov
BEGIN:VTIMEZONE
TZID:Europe/Bucharest
BEGIN:DAYLIGHT
TZOFFSETFROM:+0200
TZOFFSETTO:+0300
TZNAME:EEST
DTSTART:20180325T010000
END:DAYLIGHT
BEGIN:STANDARD
TZOFFSETFROM:+0300
TZOFFSETTO:+0200
TZNAME:EET
DTSTART:20181028T010000
END:STANDARD
END:VTIMEZONE
BEGIN:VEVENT
DTSTART;TZID=Europe/Bucharest:20180324T120000
DTEND;TZID=Europe/Bucharest:20180421T160000
DTSTAMP:20260425T173736
CREATED:20180303T205420Z
LAST-MODIFIED:20180303T205420Z
UID:43873-1521892800-1524326400@ghidlocal.com
SUMMARY:Ateliere de Sambata cu Beti Piscureanu
DESCRIPTION:Daca vrei sa iti petreci sfarsitul de saptamana intr-un mod creativ si relaxat\, atunci iti propunem sa ne dam intalnire Sambata cu Beti Piscureanu si universul materialelor textile din care vom coase lucruri minunate. \nAtelierele sunt atat pentru incepatori\, cat si pentru cei care cunosc deja cateva dintre secretele cusutului. Pentru o buna organizare\, va rugam sa anuntati inscrierea din timp.  \nAtelier 24 Martie\nCOLAJE TEXTILE – cusaturi manuale\nDurata: 3-4 ore\nCost: 120 lei/pers\, insa daca mai vii cu cineva\, veti plati impreuna 200 lei (100 lei/ pers)\nLocuri disponibile: 8\nCe vei invata: cusaturi manuale utilitare si decorative\, notiuni despre materiale textile\, folosirea corecta a accesoriilor de croitorie. \nAtelier 31 Martie\nFUSTA DREAPTA\nDurata: 5-6 ore\nCost: 220 lei/persoana (10% reducere daca vii cu masina ta de cusut)\nCe vei invata: realizarea tiparului pe masuri personalizate\, transfer pe material/croire\, coaserea\, surfilarea si asamblarea fustei\, montarea fermoarului\, realizarea tivului ascuns.\nLocuri disponibile: 5 \nAtelier 14 Aprilie\nPANTALONI ȘALVARI\nDurata: 4-5 ore\nCost: 180 lei/pers (10% reducere daca vii cu masina ta de cusut)\nCe vei invata: croirea\, coaserea\, surfilarea si asamblarea pantalonului\, montarea buzunarelor ascunse\, a beteliei si a elasticului\nLocuri disponibile: 5 \nAtelier 21 Aprilie\nFUSTA CLOȘ DIN TUL cu captuseala\nDurata: 5-6 ore\nCost: 240 lei/pers (10% reducere daca vii cu masina ta de cusut)\nCe vei invata: realizarea tiparului\, croirea\, coaserea\, surfilarea si asamblarea fustei\, montarea beteliei si a elasticului\nLocuri disponibile: 5 \n
URL:https://ghidlocal.com/brasov/eveniment/ateliere-de-sambata-cu-beti-piscureanu/
LOCATION:Ora0 Hive\, Str. RAZBOIENI NR.23\, Brasov\, RO
CATEGORIES:Cursuri
ATTACH;FMTTYPE=image/jpeg:https://cdn.cluj.com/ghidlocalcom/sites/6/2018/03/43873_image_28379608_1439614969484233_2322616450404214684_n.jpg
END:VEVENT
BEGIN:VEVENT
DTSTART;TZID=Europe/Bucharest:20180402T180000
DTEND;TZID=Europe/Bucharest:20180416T220000
DTSTAMP:20260425T173736
CREATED:20180326T132307Z
LAST-MODIFIED:20180326T132307Z
UID:46995-1522692000-1523916000@ghidlocal.com
SUMMARY:Curs de comunicare si public speaking
DESCRIPTION:Când spui cuvintele ”public speaker”\, adică vorbitor în public\, gândul te duce la o persoană care ține un discurs într-o sală publică\, pe o scenă imensă\, cu lumini din toate părțile și cu un public numeros. \nÎnsă adevărul este că vorbitori în public suntem toți. Indiferent de meseria de zi cu zi\, suntem vorbitori în public 24 de ore din 24.  \n– De ce să participi la Speakers Club? –\nPentru că cea mai rapidă și puternică forma de dezvoltare personală și profesională este vorbitul în public. \n– Ce este Speakers Club? –\nEste locul de practică pentru cei care își doresc să devină mai buni comunicatori și să aibă impact de fiecare dată când prezintă. \n– Ce se va întâmpla în cadrul acestui seminar? –\nLa acest seminar vei cunoaște comunitatea\, vei face networking\, vei afla tehnici de public speaking și le vei vedea aplicate în discursurile pregătite ale membrilor Speakers Club\, te vei distra\, te vei motiva și inspira! \n– Ce îți va oferi întâlnirea Speakers Club ? –\n1. Informații relevante despre vorbit în public (tehnici specifice prezentărilor cu public)\n2. Networking cu antreprenori și oameni de succes\, cu care poți lega parteneriate\n3. Un mediu profesionist în care să dezvolți abilitatea de a comunica și de a prezenta\n4. Ocazia de a susține un mini-discurs \n– Cât costă? –\nParticiparea costă 35 lei pentru fiecare dintre cei prezenți la întâlnire. \n– Cine este trainerul grupei? –\nTrainerul grupei este George Nedelcu\, antreprenor\, francizor Speakers Club Brasov\, trainer si speaker. \nTe poți înscrie pentru eveniment la:\nhttp://speakersclub.eu/training-brasov \nTe rugăm să te înscrii pe formular pentru că numărul de locuri este limitat! \n
URL:https://ghidlocal.com/brasov/eveniment/curs-de-comunicare-si-public-speaking/
LOCATION:Kronwell Hotel\, Brașov\, Brasov\, 500203\, RO
CATEGORIES:Workshop Brasov
ATTACH;FMTTYPE=image/jpeg:https://cdn.cluj.com/ghidlocalcom/sites/6/2018/03/46995_image_29468137_899594663576322_8639380991405719552_o.jpg
END:VEVENT
BEGIN:VEVENT
DTSTART;TZID=Europe/Bucharest:20180411T173000
DTEND;TZID=Europe/Bucharest:20180412T220000
DTSTAMP:20260425T173736
CREATED:20180316T083445Z
LAST-MODIFIED:20180316T083445Z
UID:45752-1523467800-1523570400@ghidlocal.com
SUMMARY:Atelier: Spune-mi ce numar ai\, sa iti spun cum te imbraci!
DESCRIPTION:Atelier: Spune-mi ce numar ai sa iti spun cum te imbraci!\nCand?\n11 si 12 aprilie\n17.30-22.00 \n“Imbraca-te prost\, isi vor aminti rochia; imbraca-te impecabil\, isi vor aminti femeia.” (Coco Chanel)\nZilnic intram in contact cu zeci de persoane\, insa cate ne raman in minte?\nCe ne atrage atentia la unele si la altele nu?\nPot tinutele sa faca diferenta?\nDe ce in unele haine ne simtim confortabil si in altele parem niste simple umerase?\nIata doar cateva dintre intrebarile la care workshop-ul nostru va oferi raspunsuri. Cred ca tuturor ni s-a intamplat sa mizam intr-un moment important pe un look impecabil si\, totusi\, sa nu reusim sa transmite ceea ce ne doream\, ba mai mult\, sa nu ne simtim confortabil. Motivul? Propria personalitate in antonimie cu tinuta aleasa.\nInsa\, oare nu ar fi fost mai usor daca am fi stiut inaite de o astfel de aparitie care sunt trasaturile personalitatii noastre si ceea ce se potriveste acesteia din punct de vedere structural si cromatic? Ei bine\, aici intervin numerele din viata noastra care ascund misterele personalitatii fiecaruia dintre noi. Si uite asa ajungem la concluzia ca si moda este tot o matematica! Numerologia va fi pusa in practica pentru beneficiul tau! Vom face calculele necesare pentru a transpune in tinuta ta ceea ce ti se potriveste\, personalitatea ta!\nCe este numerologia?\nEste o stiinta straveche ce studiaza calitatea numerelor! Cunoasterea datei de nastere spre exemplu\, ne ofera un tablou complex si complet cu informatii cu privire la persoana studiata!\nNumerologia ne oferă cunoștințe despre:\n•	puterea psihică a omului\n•	emoțiile trăite\, modul de exprimare a acestora\, energia de care dispune\, modul de a comunica\n•	puterea de a memora\, de a crea\, dorința de cunoaștere și educare\n•	sănătatea corpului fizic\n•	stima de sine\, intuiția\n•	capacitatea de a face bani\, echilibrul\, instinctul\n•	gradul de înțelepciune\, dorința dezvoltării acesteia\n•	dorința de putere\, gradul de responsabilitate\, poziția socială și importanța acesteia pentru persoana în cauză\n•	gradul de altruism\, dorința de schimbare și adaptare la medii noi\n•	ce este cel mai important pentru omul în cauză: a avea\, a face\, a fi\n•	motivația persoanei\n•	creativitatea\, îndreptarea spre latura artistică\n•	atingerea scopurilor și obiectivelor\n•	cariera\n•	scara fericirii proprie și modul de a o îndeplini\n•	și multe alte aspecte\nInvestitie: 200 lei – pret promotional valabil pentru primul atelier! Asadar\, nu pierde ocazia de a participa la atelier! Plata se face in avans\, iar odata inscrierea realizata se va oferi ca informatia data de nastere pentru a pregati analiza pentru atelier!\nAtentie! Acest atelier este unul practic in care vom discuta punctual\, pentru fiecare participanta\, detaliile tinutei in functie de personalitatea ei! Locurile sunt limitate la 15 persoane!\nDe ce sa participi?\n•	descoperi lucruri noi si interesante ce le poti pune in practica\n•	afli detalii din perpectiva numerologica cu privire la personalitatea ta\n•	inveti tinutele potrivite pentru a avea impact de zi cu zi\n•	multa buna dispozitie\n•	pe langa experienta ta si tinutele tale\, vei avea ocazia sa inveti si de la colegele tale tinute noi si abordari noi\n•	prieteni noi si un start spre o altfel de schimbare!\nData limita inscrieri – 9 aprilie\nInformatii la 0742483333 sau office@alexaevent.ro\nInscrieri aici: https://alexaevent.ro/2018/03/14/atelier-spune-mi-ce-numar-ai-sa-iti-spun-cum-te-imbraci/\nUlterior inscrierii veti primi informatiile pentru plata workshop-ului!\nTraineri\nAlexandra Condur – numerolog\, psiholog\, formator\nBianca Buca – fashion designer \n
URL:https://ghidlocal.com/brasov/eveniment/atelier-spune-mi-ce-numar-ai-sa-iti-spun-cum-te-imbraci/
LOCATION:Alexaevent.ro\, Strada15 noiembrie nr 44\, Brasov\, RO
CATEGORIES:Cursuri
ATTACH;FMTTYPE=image/jpeg:https://cdn.cluj.com/ghidlocalcom/sites/6/2018/03/45752_image_29216316_2056946004345435_6033374773847785472_o.jpg
END:VEVENT
BEGIN:VEVENT
DTSTART;TZID=Europe/Bucharest:20180412T100000
DTEND;TZID=Europe/Bucharest:20180412T180000
DTSTAMP:20260425T173736
CREATED:20180313T151549Z
LAST-MODIFIED:20180313T151549Z
UID:45399-1523527200-1523556000@ghidlocal.com
SUMMARY:Curs make-up Brasov
DESCRIPTION:Metropolitan Beauty Academy organizeaza in Brasov curs calificare profesionala in machiaj. Data estimativa de incepere este 12.04.2018 \, durata cursului fiind de 2\, 4 sau 6 luni\, in functie de numarul de tipuri de machiaj abordate si complexitatea lor.\nPretul cursului de 2 luni este 1350 lei achitabili in maxim 3 rate a 450 lei fiecare.\nPretul cursului de 4 luni este 2250 lei achitabili in maxim 5 rate a 450 lei fiecare.\nPretul cursului de 6 luni este 3150 lei achitabili in maxim 7 rate a cate 450 lei fiecare.\nIn costul cursului sunt incluse toate ustensilele si materialele consumabile folosite la curs si manualul de curs.\nCertificatele obtinute la finalul cursului sunt eliberate de Ministerul Muncii si Ministerul Educatiei si sunt recunoscute atat in tara cat si in strainatate.\nPentru ocuparea locului in aceasta serie de curs\, va asteptam la inscriere la sediul nostru pe str. Dobrogea\, nr. 37\, Brasov cu o copie CI si prima rata de curs. Program luni-vineri 10.00-18.00.\nInscrierea la cursuri se poate face online prin trimiterea documentelor pe adresa de email metropolitan@curs-calificare.ro  \nDaca ai intrebari sau doresti detalii suplimentare\n– ne poti trimite un mesaj pe pagina de facebook Metropolitan Beauty Academy Brasov\, https://www.facebook.com/metropolitanbeautyacademybrasov/?ref=bookmarks\n– ne poti trimite un email pe adresa metropolitan@curs-calificare.ro – ne poti suna la numarul de telefon 0753192525. \nVa invitam sa accesati si site-ul nostru: https://brasov.curs-calificare.ro/curs/curs-make-up-brasov-machiaj/ \n
URL:https://ghidlocal.com/brasov/eveniment/curs-make-up-brasov-7/
LOCATION:Metropolitan Beauty Academy Brasov\, Str.Dobrogea\, nr.37\, Brasov\, Brasov\, RO
CATEGORIES:Cursuri
ATTACH;FMTTYPE=image/jpeg:https://cdn.cluj.com/ghidlocalcom/sites/6/2018/03/45399_image_29136863_2007639726168468_1164247402085875712_o.jpg
END:VEVENT
BEGIN:VEVENT
DTSTART;TZID=Europe/Bucharest:20180412T130000
DTEND;TZID=Europe/Bucharest:20180412T160000
DTSTAMP:20260425T173736
CREATED:20180326T090752Z
LAST-MODIFIED:20180326T090752Z
UID:46955-1523538000-1523548800@ghidlocal.com
SUMMARY:Mental Architects - 12.04 - Rockstadt
DESCRIPTION:Duo-ul bulgar de post/math rock Mental Architects ajunge pe 12 aprilie la Brasov\, in Rockstadt. Recomandat fanilor And So I Watched You From Afara\, ISIS\, Adebisib Shank su BATS. \nMental Architects are a post-rock band with punk and prog edges sticking out chaotically from any side you reach for. Imagine what you know about post-rock\, take out all of the melodrama\, add some amplifier worship and you get us. \n„Formed in 2001\, one EP and two LPs later\, we will present our latest work with a tour across Romania that will also mark another big change for the band – playing as a duo. The band has worked on previous releases with Aaron Harris (ex-ISIS)\, Chris Common (ex-TAAS) & Andrew Schneider.” \nFB> https://www.facebook.com/pg/MentalArchitectsBand \n
URL:https://ghidlocal.com/brasov/eveniment/mental-architects-12-04-rockstadt/
LOCATION:Rockstadt\, Strada Nicolae Titulescu\, Brasov\, 500271\, RO
CATEGORIES:Party-uri Brasov
ATTACH;FMTTYPE=image/jpeg:https://cdn.cluj.com/ghidlocalcom/sites/6/2018/03/46955_image_29064182_1855774694467811_709602805253340713_o.jpg
END:VEVENT
BEGIN:VEVENT
DTSTART;TZID=Europe/Bucharest:20180412T160000
DTEND;TZID=Europe/Bucharest:20180412T190000
DTSTAMP:20260425T173736
CREATED:20180404T151545Z
LAST-MODIFIED:20180404T151545Z
UID:48086-1523548800-1523559600@ghidlocal.com
SUMMARY:Pachet curs cosmetica + make-up Brasov
DESCRIPTION:Pentru persoanele interesate de cursurile de Cosmetica si de Make up\, Metropolitan Beauty Academy a conceput pachetul COSMO pentru a va oferi posibilitatea de a absolvi ambele meserii. In functie de timpul pe care il aveti la dispozitie sau de suma pe care doriti sa o alocati pentru curs\, vom gasi varianta de pachet care sa va satisfaca cerintele.\nDurata pachetelor variaza intre 6 si 12 luni iar pretul intre 380 lei si 810 lei/luna in functie de nivelul informational pe care doriti sa-l abordati si in functie de durata cursului.\nPuteti beneficia de urmatoarele discount-uri:\n– discount de 5% oferit pentru fiecare persoana adusa in cadrul cursurilor noastre;\n– discount de 5% pentru plata integrala.\nCursurile de cosmetica si machiaj sunt autorizate de Ministerul Muncii si Ministerul Educatiei. La finalul perioadei de curs\, veti sustine examen in urma caruia veti obtine doua certificate de calificare profesionala prin care se atesta abilitatile dobandite in cadrul cursurilor si care va vor permite sa practicati cele 2 meserii.\nVa intereseaza doar cursul de cosmetica? https://brasov.curs-calificare.ro/curs/curs-cosmetica-brasov/\nVa intereseaza doar cursul de machiaj? https://brasov.curs-calificare.ro/curs/curs-make-up-brasov-machiaj/\nPentru ocuparea locului in aceasta serie de curs\, va asteptam la inscriere la sediul nostru pe str. Dobrogea\, nr. 37\, Brasov cu o copie CI si prima rata de curs. Program luni-vineri 10.00-18.00.\nInscrierea la cursuri se poate face online prin trimiterea documentelor pe adresa de email metropolitan@curs-calificare.ro  \nDaca ai intrebari sau doresti detalii suplimentare\n– ne poti trimite un mesaj pe pagina de facebook Metropolitan Beauty Academy Brasov\,https://www.facebook.com/metropolitanbeautyacademybrasov/?ref=bookmarks\n– ne poti trimite un email pe adresa metropolitan@curs-calificare.ro – ne poti suna la numarul de telefon 0753192525. \nVa invitam sa accesati pagina noastra de web https://brasov.curs-calificare.ro/category/oferte/cosmetica-make-up/ \n
URL:https://ghidlocal.com/brasov/eveniment/pachet-curs-cosmetica-make-up-brasov-9/
LOCATION:Metropolitan Beauty Academy Brasov\, Str.Dobrogea\, nr.37\, Brasov\, Brasov\, RO
CATEGORIES:Cursuri
ATTACH;FMTTYPE=image/jpeg:https://cdn.cluj.com/ghidlocalcom/sites/6/2018/04/48086_image_29598203_2018562545076186_4860793238414204948_n.jpg
END:VEVENT
BEGIN:VEVENT
DTSTART;TZID=Europe/Bucharest:20180412T160000
DTEND;TZID=Europe/Bucharest:20180412T190000
DTSTAMP:20260425T173736
CREATED:20180404T151548Z
LAST-MODIFIED:20180404T151548Z
UID:48088-1523548800-1523559600@ghidlocal.com
SUMMARY:Pachet curs coafor-stilist + make-up Brasov
DESCRIPTION:Pentru persoanele interesate de cursurile de Coafor si de Make up\, Metropolitan Beauty Academy a conceput pachetul HAIR MAKE-UP pentru a va oferi posibilitatea de a absolvi ambele meserii. In functie de timpul pe care il aveti la dispozitie sau de suma pe care doriti sa o alocati pentru curs\, vom gasi varianta de pachet care sa va satisfaca cerintele.\nDurata pachetelor variaza intre 6 si 10 luni iar pretul intre 470 lei si 930 lei/luna in functie de nivelul informational pe care doriti sa-l abordati si in functie de durata cursului.\nPuteti beneficia de urmatoarele discount-uri:\n– discount de 5% oferit pentru fiecare persoana adusa in cadrul cursurilor noastre;\n– discount de 5% pentru plata integrala.\nCursurile de cosmetica si machiaj sunt autorizate de Ministerul Muncii si Ministerul Educatiei. La finalul perioadei de curs\, veti sustine examen in urma caruia veti obtine doua certificate de calificare profesionala prin care se atesta abilitatile dobandite in cadrul cursurilor si care va vor permite sa practicati cele 2 meserii.\nVa intereseaza doar cursul de coafor? https://brasov.curs-calificare.ro/curs/curs-coafor-stilist-brasov/\nVa intereseaza doar cursul de machiaj? https://brasov.curs-calificare.ro/curs/curs-make-up-brasov-machiaj/ \nPentru ocuparea locului in aceasta serie de curs\, va asteptam la inscriere la sediul nostru pe str. Dobrogea\, nr. 37\, Brasov cu o copie CI si prima rata de curs. Program luni-vineri 10.00-18.00.\nInscrierea la cursuri se poate face online prin trimiterea documentelor pe adresa de email metropolitan@curs-calificare.ro  \nDaca ai intrebari sau doresti detalii suplimentare\n– ne poti trimite un mesaj pe pagina de facebook Metropolitan Beauty Academy Brasov\,https://www.facebook.com/metropolitanbeautyacademybrasov/?ref=bookmarks\n– ne poti trimite un email pe adresa metropolitan@curs-calificare.ro – – ne poti suna la numarul de telefon 0753192525. \nVa invitam sa accesati pagina noastra de web https://brasov.curs-calificare.ro/oferte-curs-coafor-stilist-si-make-up-brasov/ \n
URL:https://ghidlocal.com/brasov/eveniment/pachet-curs-coafor-stilist-make-up-brasov-8/
LOCATION:Metropolitan Beauty Academy Brasov\, Str.Dobrogea\, nr.37\, Brasov\, Brasov\, RO
CATEGORIES:Cursuri
ATTACH;FMTTYPE=image/jpeg:https://cdn.cluj.com/ghidlocalcom/sites/6/2018/04/48088_image_29793217_2018570361742071_1056020561609069518_n.jpg
END:VEVENT
BEGIN:VEVENT
DTSTART;TZID=Europe/Bucharest:20180412T160000
DTEND;TZID=Europe/Bucharest:20180412T190000
DTSTAMP:20260425T173736
CREATED:20180404T151551Z
LAST-MODIFIED:20180404T151551Z
UID:48090-1523548800-1523559600@ghidlocal.com
SUMMARY:Curs cosmetica Brasov
DESCRIPTION:Metropolitan Beauty Academy organizeaza in Brasov\, incepand cu data de 12.04.2018 cursuri de calificare in meseria de Cosmetician. Durata cursului este de 4 sau de 6 luni in functie de nivelul informational pe care doriti sa-l accesati.\nPretul pentru programul de 4 luni este de 2000 de lei si se poate esalona pe maxim 5 transe a cate 400 de lei fiecare. Pentru programul de 6 luni\, pretul este de 2800 de lei si se poate esalona pe maxim 7 transe egale de 400 de lei fiecare. In acest pret sunt incluse toate materialele consumabile\, ustensilele de lucru si manualul de curs.\nPentru fiecare persoana adusa in cadrul cursurilor noastre oferim un discount de 5 %.\nCertificatele obtinute la finalul cursului sunt eliberate de Ministerul Muncii si Ministerul Educatiei si sunt recunoscute atat in tara cat si in strainatate.\nPentru ocuparea locului in aceasta serie de curs\, va asteptam la inscriere la sediul nostru pe str. Dobrogea\, nr. 37\, Brasov cu o copie CI si prima rata de curs. Program luni-vineri 10.00-18.00.\nInscrierea la cursuri se poate face online prin trimiterea documentelor pe adresa de email metropolitan@curs-calificare.ro  \nDaca ai intrebari sau doresti detalii suplimentare\n– ne poti trimite un mesaj pe pagina de facebook Metropolitan Beauty Academy Brasov\, https://www.facebook.com/metropolitanbeautyacademybrasov/?ref=bookmarks\n– ne poti trimite un email pe adresa metropolitan@curs-calificare.ro – ne poti suna la numarul de telefon 0753192525. \nVa invitam sa accesati si site-ul nostru:  \n\nCurs Cosmetica Brasov \n\n
URL:https://ghidlocal.com/brasov/eveniment/curs-cosmetica-brasov-6/
LOCATION:Metropolitan Beauty Academy Brasov\, Str.Dobrogea\, nr.37\, Brasov\, Brasov\, RO
CATEGORIES:Cursuri
ATTACH;FMTTYPE=image/jpeg:https://cdn.cluj.com/ghidlocalcom/sites/6/2018/04/48090_image_30167808_2018564301742677_4973363632353943851_o.jpg
END:VEVENT
BEGIN:VEVENT
DTSTART;TZID=Europe/Bucharest:20180412T170000
DTEND;TZID=Europe/Bucharest:20180412T200000
DTSTAMP:20260425T173736
CREATED:20180404T151555Z
LAST-MODIFIED:20180404T151555Z
UID:48092-1523552400-1523563200@ghidlocal.com
SUMMARY:Curs nail art Brasov
DESCRIPTION:Acest curs se adreseaza atat tehnicienelor experimentate cat si celor care s-au hotarat sa faca primii pasi in designul pentru unghii cu gel.\nTinem sa precizam ca parcurgerea acestui seminar nu necesita talent in pictura\, cursul implicand folosirea corecta a tehnicilor de lucru\, dar si a ustensilelor necesare realizarii modelelor.\nIn cadrul acestui seminar de Nail Art se vor prezenta tendintele actuale in materie de decoruri pe unghii tehnice\, acestea fiind extrem de solicitate pe piata de profil.\nTematica acestui curs include:\n1 – notiuni teoretice despre designul pe unghii\n2 – folosirea corecta a pensulelor\n3 – pictura Baroque\n4 – dantela eleganta\n5 – design piele de reptile\n6 – accesorizarea unghiilor\n7 – salon mix design\n8 – aplicare perle\, strasuri\, scoici\, sclipici\, paiete \nPretul acestui curs este de 280 de ron si include toate ustensilele si materialele consumabile. Nu exista costuri suplimentare!\nIn urma acestui curs veti obtine o diploma de participare.\nPentru ocuparea locului in aceasta serie de curs\, va asteptam la inscriere la sediul nostru pe str. Dobrogea\, nr. 37\, Brasov cu o copie CI si prima rata de curs. Program luni-vineri 10.00-18.00.\nInscrierea la cursuri se poate face online prin trimiterea documentelor pe adresa de email metropolitan@curs-calificare.ro  \nDaca ai intrebari sau doresti detalii suplimentare\n– ne poti trimite un mesaj pe pagina de facebook Metropolitan Beauty Academy Brasov\,https://www.facebook.com/metropolitanbeautyacademybrasov/?ref=bookmarks\n– ne poti trimite un email pe adresa metropolitan@curs-calificare.ro – ne poti suna la numarul de telefon 0753192525. \nVa invitam sa accesati pagina noastra de web: https://brasov.curs-calificare.ro/?s=nail \n
URL:https://ghidlocal.com/brasov/eveniment/curs-nail-art-brasov-6/
LOCATION:Metropolitan Beauty Academy Brasov\, Str.Dobrogea\, nr.37\, Brasov\, Brasov\, RO
CATEGORIES:Cursuri
ATTACH;FMTTYPE=image/jpeg:https://cdn.cluj.com/ghidlocalcom/sites/6/2018/04/48092_image_29983693_2018590225073418_7027164565598300258_o.jpg
END:VEVENT
BEGIN:VEVENT
DTSTART;TZID=Europe/Bucharest:20180412T190000
DTEND;TZID=Europe/Bucharest:20180412T210000
DTSTAMP:20260425T173736
CREATED:20180320T073834Z
LAST-MODIFIED:20180320T073834Z
UID:46166-1523559600-1523566800@ghidlocal.com
SUMMARY:Albrecht Maurer & Theo Jörgensmann – Hymns to the Night
DESCRIPTION:Albrecht Maurer – violă\, voce\nTheo Jörgensmann – clarinet \nAtmosfera magică\, profunzimea și complexitatea operei lui Novalis i-au inspirat pe Theo Jörgensmann și pe Albrecht Maurer să folosească extrase din „Imnuri către noapte” pentru a îi ghida în călătoria muzicală.  \n„În muzica noastră este\nvorba despre libertate”\, spune Jörgensmann. „Tot ceea ce este prea concret sau distinctiv în ceea ce privește stilul sau materialul muzical e sortit stagnării și epuizării.  Muzica noastră e mai degrabă un exercițiu de demantelare decât unul de creație.”\nÎn ciuda credoului lor\, care poate părea militant\, rezultatul e unul surprinzător de omogen și liniștitor. (…) Din tot ce fac transpare o estetică comună\, bazată pe conectarea la prezent. Fiecare sunet abia descoperit conține o cale către altceva\, chiar dacă muzicienii nu o urmează întotdeauna. Puterea lor poetică e dată de intensitatea momentului. – Beate Bartlewski \nTHEO JÖRGENSMANN\nTheo Jörgensmann aparține celei de-a doua generații de muzicieni free-jazz europeni. A luat parte la renașterea clarinetului în jazz și improvizație. Este unul dintre puținii clarinetiști pentru care înregistrările solo reprezintă o parte semnificativă din discografie.  De-a lungul unei cariere de trei decenii\, a lucrat cu artiști de renume precum Mike Richmond\, Barre Phillips\, Kent Carter\, John Lindberg\, Charlie Mariano\, Wilbur Morris\, Eric Vloeimans\, Jeanne Lee\, John Fischer\, Vincent Chancey\, Kenny Wheeler\, Paul McCandless\, Lee Konitz și alții. \nALBRECHT MAURER\nAlbrecht Maurer a studiat vioară și violă la Musikhochschule Köln. S-a dedicat de asemenea studiului sistemelor tonele non-europene și al muzicii asistate de computer alături de Johannes Fritsch și Klarenz Barlow. A colaborat cu muzicieni precum Kent Carter\, Wolter Wierbos\, Benoît Delbecq\, Bobo Stenson\, Norbert Stein\, Klaus Kugel\, Charlie Mariano\, Karl Berger\, Steve Argüelles\, Barre Phillips\, Carla Bley\, Peter Jacquemyn\, Lucian Ban și John Hébert.\nRevista „Signal to Noise” îl caracterizează în următorii termeni: „Maurer este când intens și ludic\, când de o tandrețe aproape tragică\, dar rămâne mereu provocator”\, iar criticul de jazz Richard Cocharne îi descrie tehnica ca fiind extraordinară\, iar interpretarea\, plină de imaginație. \n
URL:https://ghidlocal.com/brasov/eveniment/albrecht-maurer-theo-jorgensmann-hymns-to-the-night/
LOCATION:Centrul Multicultural al Universității Transilvania din Brașov\, Bd. Eroilor 29\, parter Rectorat UTBv\, Brasov\, 500036\, RO
CATEGORIES:Cultural
ATTACH;FMTTYPE=image/jpeg:https://cdn.cluj.com/ghidlocalcom/sites/6/2018/03/46166_image_28827600_616845791996316_8769560017075010332_o.jpg
END:VEVENT
BEGIN:VEVENT
DTSTART;TZID=Europe/Bucharest:20180412T200000
DTEND;TZID=Europe/Bucharest:20180412T230000
DTSTAMP:20260425T173736
CREATED:20180319T074304Z
LAST-MODIFIED:20180319T074304Z
UID:46036-1523563200-1523574000@ghidlocal.com
SUMMARY:RAV sound meditation la Tipografia
DESCRIPTION:Casa cu Artiști îl aduce în premieră la Brașov în Tipografia pe unul dintre cei mai promițători artiști din clar obscurul alternativ al scenei românești de free art / avangarde : Gabriel Bălașa \n„Odata ce a fost acceptata de catre suflet \, muzica devine un fel de spirit \, nicicand muritor.” Edward George Bulwer-Lytton \nGabriel Bălașa este un percuționist inventiv\, înzestrat cu har și imaginație care prin căutările sale sonore aduce de această dată în spații convenționale un instrument mai puțin cunoscut melodic și armonic numit Rav.  \nRav-ul este un instrument nou inspirat de Handpan\, inventat în Rusia de Andrey Remyannikov. Fiecare notă conține până la 6 armonici diferite\, în timp ce nota centrală conține 7\, oferind sonorități incredibile\, ambientale care trimit spre meditație și o stare de liniște interioară. \nVă invităm cu drag să pășim în acest spectru sonor\, atemporal în care vibrația cosmică ajunge să facă parte din noi. \nEvenimentul începe la ora 20 cu o sesiune introductivă de sunete eterice ghidată de Bufnitza Alba \nSuport artiști: 15 lei\nLocuri limitate.\nRezervări la telefon:  0722.373.090 \n
URL:https://ghidlocal.com/brasov/eveniment/rav-sound-meditation-la-tipografia/
LOCATION:Tipografia\, Str. Postăvarului Nr.1 (colț cu Str. Diaconu Coresi)\, Brasov\, 500024\, RO
CATEGORIES:Altele
ATTACH;FMTTYPE=image/jpeg:https://cdn.cluj.com/ghidlocalcom/sites/6/2018/03/46036_image_29343040_153210718830693_6683615359125159936_o.jpg
END:VEVENT
END:VCALENDAR