BEGIN:VCALENDAR
VERSION:2.0
PRODID:-//Ghid Local Brasov - ECPv5.1.1//NONSGML v1.0//EN
CALSCALE:GREGORIAN
METHOD:PUBLISH
X-WR-CALNAME:Ghid Local Brasov
X-ORIGINAL-URL:https://ghidlocal.com/brasov
X-WR-CALDESC:Events for Ghid Local Brasov
BEGIN:VTIMEZONE
TZID:Europe/Bucharest
BEGIN:DAYLIGHT
TZOFFSETFROM:+0200
TZOFFSETTO:+0300
TZNAME:EEST
DTSTART:20180325T010000
END:DAYLIGHT
BEGIN:STANDARD
TZOFFSETFROM:+0300
TZOFFSETTO:+0200
TZNAME:EET
DTSTART:20181028T010000
END:STANDARD
END:VTIMEZONE
BEGIN:VEVENT
DTSTART;TZID=Europe/Bucharest:20180324T120000
DTEND;TZID=Europe/Bucharest:20180421T160000
DTSTAMP:20260425T161002
CREATED:20180303T205420Z
LAST-MODIFIED:20180303T205420Z
UID:43873-1521892800-1524326400@ghidlocal.com
SUMMARY:Ateliere de Sambata cu Beti Piscureanu
DESCRIPTION:Daca vrei sa iti petreci sfarsitul de saptamana intr-un mod creativ si relaxat\, atunci iti propunem sa ne dam intalnire Sambata cu Beti Piscureanu si universul materialelor textile din care vom coase lucruri minunate. \nAtelierele sunt atat pentru incepatori\, cat si pentru cei care cunosc deja cateva dintre secretele cusutului. Pentru o buna organizare\, va rugam sa anuntati inscrierea din timp.  \nAtelier 24 Martie\nCOLAJE TEXTILE – cusaturi manuale\nDurata: 3-4 ore\nCost: 120 lei/pers\, insa daca mai vii cu cineva\, veti plati impreuna 200 lei (100 lei/ pers)\nLocuri disponibile: 8\nCe vei invata: cusaturi manuale utilitare si decorative\, notiuni despre materiale textile\, folosirea corecta a accesoriilor de croitorie. \nAtelier 31 Martie\nFUSTA DREAPTA\nDurata: 5-6 ore\nCost: 220 lei/persoana (10% reducere daca vii cu masina ta de cusut)\nCe vei invata: realizarea tiparului pe masuri personalizate\, transfer pe material/croire\, coaserea\, surfilarea si asamblarea fustei\, montarea fermoarului\, realizarea tivului ascuns.\nLocuri disponibile: 5 \nAtelier 14 Aprilie\nPANTALONI ȘALVARI\nDurata: 4-5 ore\nCost: 180 lei/pers (10% reducere daca vii cu masina ta de cusut)\nCe vei invata: croirea\, coaserea\, surfilarea si asamblarea pantalonului\, montarea buzunarelor ascunse\, a beteliei si a elasticului\nLocuri disponibile: 5 \nAtelier 21 Aprilie\nFUSTA CLOȘ DIN TUL cu captuseala\nDurata: 5-6 ore\nCost: 240 lei/pers (10% reducere daca vii cu masina ta de cusut)\nCe vei invata: realizarea tiparului\, croirea\, coaserea\, surfilarea si asamblarea fustei\, montarea beteliei si a elasticului\nLocuri disponibile: 5 \n
URL:https://ghidlocal.com/brasov/eveniment/ateliere-de-sambata-cu-beti-piscureanu/
LOCATION:Ora0 Hive\, Str. RAZBOIENI NR.23\, Brasov\, RO
CATEGORIES:Cursuri
ATTACH;FMTTYPE=image/jpeg:https://cdn.cluj.com/ghidlocalcom/sites/6/2018/03/43873_image_28379608_1439614969484233_2322616450404214684_n.jpg
END:VEVENT
BEGIN:VEVENT
DTSTART;TZID=Europe/Bucharest:20180402T180000
DTEND;TZID=Europe/Bucharest:20180416T220000
DTSTAMP:20260425T161002
CREATED:20180326T132307Z
LAST-MODIFIED:20180326T132307Z
UID:46995-1522692000-1523916000@ghidlocal.com
SUMMARY:Curs de comunicare si public speaking
DESCRIPTION:Când spui cuvintele ”public speaker”\, adică vorbitor în public\, gândul te duce la o persoană care ține un discurs într-o sală publică\, pe o scenă imensă\, cu lumini din toate părțile și cu un public numeros. \nÎnsă adevărul este că vorbitori în public suntem toți. Indiferent de meseria de zi cu zi\, suntem vorbitori în public 24 de ore din 24.  \n– De ce să participi la Speakers Club? –\nPentru că cea mai rapidă și puternică forma de dezvoltare personală și profesională este vorbitul în public. \n– Ce este Speakers Club? –\nEste locul de practică pentru cei care își doresc să devină mai buni comunicatori și să aibă impact de fiecare dată când prezintă. \n– Ce se va întâmpla în cadrul acestui seminar? –\nLa acest seminar vei cunoaște comunitatea\, vei face networking\, vei afla tehnici de public speaking și le vei vedea aplicate în discursurile pregătite ale membrilor Speakers Club\, te vei distra\, te vei motiva și inspira! \n– Ce îți va oferi întâlnirea Speakers Club ? –\n1. Informații relevante despre vorbit în public (tehnici specifice prezentărilor cu public)\n2. Networking cu antreprenori și oameni de succes\, cu care poți lega parteneriate\n3. Un mediu profesionist în care să dezvolți abilitatea de a comunica și de a prezenta\n4. Ocazia de a susține un mini-discurs \n– Cât costă? –\nParticiparea costă 35 lei pentru fiecare dintre cei prezenți la întâlnire. \n– Cine este trainerul grupei? –\nTrainerul grupei este George Nedelcu\, antreprenor\, francizor Speakers Club Brasov\, trainer si speaker. \nTe poți înscrie pentru eveniment la:\nhttp://speakersclub.eu/training-brasov \nTe rugăm să te înscrii pe formular pentru că numărul de locuri este limitat! \n
URL:https://ghidlocal.com/brasov/eveniment/curs-de-comunicare-si-public-speaking/
LOCATION:Kronwell Hotel\, Brașov\, Brasov\, 500203\, RO
CATEGORIES:Workshop Brasov
ATTACH;FMTTYPE=image/jpeg:https://cdn.cluj.com/ghidlocalcom/sites/6/2018/03/46995_image_29468137_899594663576322_8639380991405719552_o.jpg
END:VEVENT
BEGIN:VEVENT
DTSTART;TZID=Europe/Bucharest:20180411T160000
DTEND;TZID=Europe/Bucharest:20180411T190000
DTSTAMP:20260425T161002
CREATED:20180404T151531Z
LAST-MODIFIED:20180404T151531Z
UID:48080-1523462400-1523473200@ghidlocal.com
SUMMARY:Pachet curs manichiura-pedichiura +stilist protezist unghii
DESCRIPTION:Fie ca lucrezi deja in domeniu si ai nevoie de diploma sau vrei sa incepi acum o cariera ca manichiurist-pedichiurist pachetul Manichiura-pedichiura si Stilist protezist de unghii este ideal pentru tine.\nTimp de 2 luni vei invata atat manichiura-pedichiura clasica cat si partea de unghii tehnice. La finalul perioadei de curs\, vei sustine un examen in urma caruia veti obtine doua certificate: unul de calificare profesionala in meseria de manichiurist-pedichiurist si un certificat de absolvire in meseria de stilist-protezist de unghii prin care se atesta abilitatile dobandite in cadrul cursurilor si care iti vor permite sa practici cele 2 meserii in cadrul propriei firmei sau intr-un salon.\nPretul cursului este de 1371 de lei si se poate esalona pe 3 transe de 457 de lei fiecare. In acest pret sunt incluse toate materialele consumabile\, ustensilele de lucru si manualul de curs.\nOferim discount de 5% pentru fiecare persoana adusa in cadrul cursurilor noastre.\nTe intereseaza doar cursul de manichiura-pedichiura clasica?  \n\nCurs Manichiura Pedichiura Brasov \n\nTe intereseaza doar cursul de stilist-protezist de unghii?  \n\nCurs Stilist Protezist Unghii Brasov \n\nPentru ocuparea locului in aceasta serie de curs\, va asteptam la inscriere la sediul nostru pe str. Dobrogea\, nr. 37\, Brasov cu o copie CI si prima rata de curs. Program luni-vineri 10.00-18.00.\nInscrierea la cursuri se poate face online prin trimiterea documentelor pe adresa de email metropolitan@curs-calificare.ro  \nDaca ai intrebari sau doresti detalii suplimentare\n– ne poti trimite un mesaj pe pagina de facebook Metropolitan Beauty Academy Brasov\,https://www.facebook.com/metropolitanbeautyacademybrasov/?ref=bookmarks\n– ne poti trimite un email pe adresa metropolitan@curs-calificare.ro – ne poti suna la numarul de telefon 0753192525. \nVa invitam sa accesati pagina noastra de web tps://brasov.curs-calificare.ro/category/oferte/manichiura-pedichiura/ \n
URL:https://ghidlocal.com/brasov/eveniment/pachet-curs-manichiura-pedichiura-stilist-protezist-unghii-7/
LOCATION:Metropolitan Beauty Academy Brasov\, Str.Dobrogea\, nr.37\, Brasov\, Brasov\, RO
CATEGORIES:Cursuri
ATTACH;FMTTYPE=image/jpeg:https://cdn.cluj.com/ghidlocalcom/sites/6/2018/04/48080_image_29597646_2018575071741600_1570145225973385659_n.jpg
END:VEVENT
BEGIN:VEVENT
DTSTART;TZID=Europe/Bucharest:20180411T170000
DTEND;TZID=Europe/Bucharest:20180411T180000
DTSTAMP:20260425T161002
CREATED:20180328T070850Z
LAST-MODIFIED:20180328T070850Z
UID:47179-1523466000-1523469600@ghidlocal.com
SUMMARY:Curs Stilist Protezist de Unghii
DESCRIPTION:Curs Acreditat – Stilist Protezist de Unghii Brasov + Manichiură\, Pedichiură clasică\n– – – – – – – – –\n1. noţiuni de manichiură\, igienă și legislație\n2. manichiura clasică\n3. pedichiură clasică\n4. manichiură spa\n5. manichiură japoneză\n6. aplicarea ojei semipermanente\n7. unghii false cu gel (construcție şi tipsuri)\n8. unghii french\n9. forme de salon – pătrat și migdală\n10. construcția unghiilor cu acril\n11. construcția unghiilor stiletto\n12. decorarea unghiilor (picturi\, pietre\, sclipici\, ștampilă\, tatuaj\, 3D etc)\n13. întreținere unghii false\n– – – – – – – – –\nCadou – Inclus în taxa de curs:\n– – – – – – – – –\n1. Lampă UV hibrid\, pensulă construcții\, 3 geluri (construcție\, cover și french alb)\, sabloane\, pilă\, etc.\n– – – – – – – – –\nTaxă curs: 980 lei\, in 2 rate\n– – – – – – – – –\nDurata 6 săptămâni\n– – – – – – – – –\nÎnscriere-te acum la telefon: 0748254671 și participă fără nici o obligație la deschiderea cursului. \n
URL:https://ghidlocal.com/brasov/eveniment/curs-stilist-protezist-de-unghii-4/
LOCATION:Cursuri de pregatire Brasov\, Branduselor 74\, Brasov\, RO
CATEGORIES:Cursuri
ATTACH;FMTTYPE=image/jpeg:https://cdn.cluj.com/ghidlocalcom/sites/6/2018/03/47179_image_29571318_1810087325708215_7249543626965892200_n.jpg
END:VEVENT
BEGIN:VEVENT
DTSTART;TZID=Europe/Bucharest:20180411T170000
DTEND;TZID=Europe/Bucharest:20180411T200000
DTSTAMP:20260425T161002
CREATED:20180404T151539Z
LAST-MODIFIED:20180404T151539Z
UID:48082-1523466000-1523476800@ghidlocal.com
SUMMARY:Curs manichiura-pedichiura Brasov
DESCRIPTION:Metropolitan Beauty Academy organizeaza in Brasov\, incepand cu data de 11.04.2018 curs de calificare profesionala in meseria manichiura-pedichiura clasica. Durata cursului este de 2 luni.\nPretul: 600 lei (achitabil in maxim 2 transe) include ustensilele\, materialele consumabile si manualul de curs.\nCertificatul de calificare obtinut la finalul cursului este eliberat de Ministerul Muncii si Ministerul Educatiei si este recunoscut atat in tara cat si in strainatate.  \nPentru ocuparea locului in aceasta serie de curs\, va asteptam la inscriere la sediul nostru pe str. Dobrogea\, nr. 37\, Brasov cu o copie CI si prima rata de curs. Program luni-vineri 10.00-18.00.\nInscrierea la cursuri se poate face online prin trimiterea documentelor pe adresa de email metropolitan@curs-calificare.ro  \nDaca ai intrebari sau doresti detalii suplimentare\n– ne poti trimite un mesaj pe pagina de facebook Metropolitan Beauty Academy Brasov\,https://www.facebook.com/metropolitanbeautyacademybrasov/?ref=bookmarks\n– ne poti trimite un email pe adresa metropolitan@curs-calificare.ro – ne poti suna la numarul de telefon 0753192525. \nVa invitam sa accesati si site-ul nostru: https://brasov.curs-calificare.ro/curs/curs-manichiura-pedichiura-brasov/ \n
URL:https://ghidlocal.com/brasov/eveniment/curs-manichiura-pedichiura-brasov-7/
LOCATION:Metropolitan Beauty Academy Brasov\, Str.Dobrogea\, nr.37\, Brasov\, Brasov\, RO
CATEGORIES:Cursuri
ATTACH;FMTTYPE=image/jpeg:https://cdn.cluj.com/ghidlocalcom/sites/6/2018/04/48082_image_29597702_2018581045074336_4704714711174146409_n.jpg
END:VEVENT
BEGIN:VEVENT
DTSTART;TZID=Europe/Bucharest:20180411T170000
DTEND;TZID=Europe/Bucharest:20180411T200000
DTSTAMP:20260425T161002
CREATED:20180404T151542Z
LAST-MODIFIED:20180404T151542Z
UID:48084-1523466000-1523476800@ghidlocal.com
SUMMARY:Curs stilist protezist unghii Brasov
DESCRIPTION:Metropolitan Beauty Academy organizeaza in Brasov\, incepand cu data de 11.04.2018 cursul de manichiura pedichiura gel si acryl – specializarea stilist protezist de unghii. Durata cursului este de 1 luna.\nPretul: 750 lei (achitabil in 2 transe x 375 lei ) include ustensilele\, materialele consumabile\, manualul de curs.\nCertificatul de absolvire obtinut la finalul cursului este eliberat de Ministerul Muncii si Ministerul Educatiei si este recunoscut atat in tara cat si in strainatate.  \nPentru ocuparea locului in aceasta serie de curs\, va asteptam la inscriere la sediul nostru pe str. Dobrogea\, nr. 37\, Brasov cu o copie CI si prima rata de curs. Program luni-vineri 10.00-18.00.\nInscrierea la cursuri se poate face online prin trimiterea documentelor pe adresa de email metropolitan@curs-calificare.ro  \nDaca ai intrebari sau doresti detalii suplimentare\n– ne poti trimite un mesaj pe pagina de facebook Metropolitan Beauty Academy Brasov\,https://www.facebook.com/metropolitanbeautyacademybrasov/?ref=bookmarks\n– ne poti trimite un email pe adresa metropolitan@curs-calificare.ro – ne poti suna la numarul de telefon 0753192525. \nVa invitam sa accesati si site-ul nostru: https://brasov.curs-calificare.ro/curs/curs-stilist-protezist-unghii-brasov-manichiura/ \n
URL:https://ghidlocal.com/brasov/eveniment/curs-stilist-protezist-unghii-brasov-6/
LOCATION:Metropolitan Beauty Academy Brasov\, Str.Dobrogea\, nr.37\, Brasov\, Brasov\, RO
CATEGORIES:Cursuri
ATTACH;FMTTYPE=image/jpeg:https://cdn.cluj.com/ghidlocalcom/sites/6/2018/04/48084_image_29598228_2018581791740928_5100527497244561826_n.jpg
END:VEVENT
BEGIN:VEVENT
DTSTART;TZID=Europe/Bucharest:20180411T173000
DTEND;TZID=Europe/Bucharest:20180412T220000
DTSTAMP:20260425T161002
CREATED:20180316T083445Z
LAST-MODIFIED:20180316T083445Z
UID:45752-1523467800-1523570400@ghidlocal.com
SUMMARY:Atelier: Spune-mi ce numar ai\, sa iti spun cum te imbraci!
DESCRIPTION:Atelier: Spune-mi ce numar ai sa iti spun cum te imbraci!\nCand?\n11 si 12 aprilie\n17.30-22.00 \n“Imbraca-te prost\, isi vor aminti rochia; imbraca-te impecabil\, isi vor aminti femeia.” (Coco Chanel)\nZilnic intram in contact cu zeci de persoane\, insa cate ne raman in minte?\nCe ne atrage atentia la unele si la altele nu?\nPot tinutele sa faca diferenta?\nDe ce in unele haine ne simtim confortabil si in altele parem niste simple umerase?\nIata doar cateva dintre intrebarile la care workshop-ul nostru va oferi raspunsuri. Cred ca tuturor ni s-a intamplat sa mizam intr-un moment important pe un look impecabil si\, totusi\, sa nu reusim sa transmite ceea ce ne doream\, ba mai mult\, sa nu ne simtim confortabil. Motivul? Propria personalitate in antonimie cu tinuta aleasa.\nInsa\, oare nu ar fi fost mai usor daca am fi stiut inaite de o astfel de aparitie care sunt trasaturile personalitatii noastre si ceea ce se potriveste acesteia din punct de vedere structural si cromatic? Ei bine\, aici intervin numerele din viata noastra care ascund misterele personalitatii fiecaruia dintre noi. Si uite asa ajungem la concluzia ca si moda este tot o matematica! Numerologia va fi pusa in practica pentru beneficiul tau! Vom face calculele necesare pentru a transpune in tinuta ta ceea ce ti se potriveste\, personalitatea ta!\nCe este numerologia?\nEste o stiinta straveche ce studiaza calitatea numerelor! Cunoasterea datei de nastere spre exemplu\, ne ofera un tablou complex si complet cu informatii cu privire la persoana studiata!\nNumerologia ne oferă cunoștințe despre:\n•	puterea psihică a omului\n•	emoțiile trăite\, modul de exprimare a acestora\, energia de care dispune\, modul de a comunica\n•	puterea de a memora\, de a crea\, dorința de cunoaștere și educare\n•	sănătatea corpului fizic\n•	stima de sine\, intuiția\n•	capacitatea de a face bani\, echilibrul\, instinctul\n•	gradul de înțelepciune\, dorința dezvoltării acesteia\n•	dorința de putere\, gradul de responsabilitate\, poziția socială și importanța acesteia pentru persoana în cauză\n•	gradul de altruism\, dorința de schimbare și adaptare la medii noi\n•	ce este cel mai important pentru omul în cauză: a avea\, a face\, a fi\n•	motivația persoanei\n•	creativitatea\, îndreptarea spre latura artistică\n•	atingerea scopurilor și obiectivelor\n•	cariera\n•	scara fericirii proprie și modul de a o îndeplini\n•	și multe alte aspecte\nInvestitie: 200 lei – pret promotional valabil pentru primul atelier! Asadar\, nu pierde ocazia de a participa la atelier! Plata se face in avans\, iar odata inscrierea realizata se va oferi ca informatia data de nastere pentru a pregati analiza pentru atelier!\nAtentie! Acest atelier este unul practic in care vom discuta punctual\, pentru fiecare participanta\, detaliile tinutei in functie de personalitatea ei! Locurile sunt limitate la 15 persoane!\nDe ce sa participi?\n•	descoperi lucruri noi si interesante ce le poti pune in practica\n•	afli detalii din perpectiva numerologica cu privire la personalitatea ta\n•	inveti tinutele potrivite pentru a avea impact de zi cu zi\n•	multa buna dispozitie\n•	pe langa experienta ta si tinutele tale\, vei avea ocazia sa inveti si de la colegele tale tinute noi si abordari noi\n•	prieteni noi si un start spre o altfel de schimbare!\nData limita inscrieri – 9 aprilie\nInformatii la 0742483333 sau office@alexaevent.ro\nInscrieri aici: https://alexaevent.ro/2018/03/14/atelier-spune-mi-ce-numar-ai-sa-iti-spun-cum-te-imbraci/\nUlterior inscrierii veti primi informatiile pentru plata workshop-ului!\nTraineri\nAlexandra Condur – numerolog\, psiholog\, formator\nBianca Buca – fashion designer \n
URL:https://ghidlocal.com/brasov/eveniment/atelier-spune-mi-ce-numar-ai-sa-iti-spun-cum-te-imbraci/
LOCATION:Alexaevent.ro\, Strada15 noiembrie nr 44\, Brasov\, RO
CATEGORIES:Cursuri
ATTACH;FMTTYPE=image/jpeg:https://cdn.cluj.com/ghidlocalcom/sites/6/2018/03/45752_image_29216316_2056946004345435_6033374773847785472_o.jpg
END:VEVENT
BEGIN:VEVENT
DTSTART;TZID=Europe/Bucharest:20180411T180000
DTEND;TZID=Europe/Bucharest:20180411T203000
DTSTAMP:20260425T161002
CREATED:20180328T074956Z
LAST-MODIFIED:20180328T074956Z
UID:47200-1523469600-1523478600@ghidlocal.com
SUMMARY:Timp de calitate! Îți dorești la fel? Pictura pe Sticla incepatori
DESCRIPTION:Timp de calitate :)! Îți dorești la fel? Deja am dat startul înscrierilor pentru Workshopul dedicat picturii pe sticla începători. Nu sunt necesare cunoștințe de desen sau pictura. Îți pun la dispoziție toate materialele necesare cât și sursele de inspirație iar la sfârșitul atelierului vei pleca cu lucrarea realizata.                                                                          Taxa de participare:55Lei                              Miercuri 11 Aprilie\, 18h00-20h30                                                                               Pentru inscrieri rog mesaj pe pagina atelierului sau la tel.:0770810642\, 0741321412 \n
URL:https://ghidlocal.com/brasov/eveniment/timp-de-calitate-iti-doresti-la-fel-pictura-pe-sticla-incepatori-2/
LOCATION:Atelier de creatie artistica by Corina Baroianu\, Dobrogea nr.9\, Brasov\, 040198\, RO
CATEGORIES:Ateliere Brasov
ATTACH;FMTTYPE=image/jpeg:https://cdn.cluj.com/ghidlocalcom/sites/6/2018/03/47200_image_29541143_2059287977674111_9176824971078710010_n.jpg
END:VEVENT
BEGIN:VEVENT
DTSTART;TZID=Europe/Bucharest:20180411T180000
DTEND;TZID=Europe/Bucharest:20180411T200000
DTSTAMP:20260425T161002
CREATED:20180330T070847Z
LAST-MODIFIED:20180330T070847Z
UID:47428-1523469600-1523476800@ghidlocal.com
SUMMARY:Curs MakeUp Basic - 480 lei - 4 săptămâni
DESCRIPTION:înscrieri și informații la telefon 0748254671\n= = = = = = =\nCurs MakeUp Basic\n= = = = = = =\nLector: Vlad Oancea\n= = = = = = =\n1. stilizat sprâncene\n2. noțiuni de bază pentru efectuarea corecturilor (forma feței\, sprâncenelor)\n3. machiaje de zi\, seară şi de mireasă (machiaje pentru diferite tipuri de ochi)\n4. smokey eyes\n5. extensii de gene smocuri și bandă\n6. instrumente de lucru\, sterilizarea instrumentarului\, produse de machiaj\, produse cosmetice\n= = = = = = = = = = = = = = = = = = = = = = = = =\n– 90% practică\n– nivel de bază – începător\n– produse asigurate (Paese)\n– diplomă acreditată (Min.Muncii si Min.Educatiei)\n– 480 lei taxa de participare (in 2 rate) \n
URL:https://ghidlocal.com/brasov/eveniment/curs-makeup-basic-480-lei-4-saptamani/
LOCATION:Cursuri de pregatire Brasov\, Branduselor 74\, Brasov\, RO
CATEGORIES:Cursuri
ATTACH;FMTTYPE=image/jpeg:https://cdn.cluj.com/ghidlocalcom/sites/6/2018/03/47428_image_29064216_1812015735515374_1677461839815651934_o.jpg
END:VEVENT
BEGIN:VEVENT
DTSTART;TZID=Europe/Bucharest:20180411T183000
DTEND;TZID=Europe/Bucharest:20180411T203000
DTSTAMP:20260425T161002
CREATED:20180306T205409Z
LAST-MODIFIED:20180306T205409Z
UID:44359-1523471400-1523478600@ghidlocal.com
SUMMARY:Atmosfera in Design Interior - Curs
DESCRIPTION:Locatia: Galeria Ora0\, str. de Mijloc 133\, subsol\nCost curs: 400 de lei/luna- toata materialele sunt incluse (o luna are 4 sedinte saptamanale\, in fiecare Miercuri\, de la ora 18:30 la 20:30. Taxa se plateste la inceputul lunii pe luna in curs\, datele de plata sunt fixe\, indiferent de numarul de absente).\nTrainer: arhitect Ioana Mitrica\nLocuri: 10\nPentru inscriere\, va rugam\, pe langa „GOING”\, sa trimiteti si un mesaj privat cu numarul de telefon\, pe pagina Ora0.  \nPhoto credit:\nInterior casa unifamiliala\, arh. Eduard Neuenschwander\, photo: Heinrich Helfenstein) (imagine stanga)\nMacheta casa unifamiliala\, student Mara Horj\, 2016 (imagine dreapta) \nStructura Curs \nVom alege o camera cunoscuta pentru fiecare cursant si pe aceasta o vom folosi ca suport pentru realizarea unei amenajari interioare.\nSedinta nr. 1:\n–	Introducere. Prezentarea desfasurarii cursului (teoretic si practic)\n–	Noțiuni introductive despre abordarea spațiului: atmosfera si concept.\n–	Alegerea unui spatiu pe care vom realiza amenajarea – motivatii (poate fi o camera cunoscuta din propria locuinta).\nSedinta nr. 2 : Spațiu\n–	scara spatiului\, proportii\n–	delimitarea funcțiunilor\, soluții de eficientizare\nExercițiu practic:  – construirea învelișului/ cutiei in care vom realiza amenajarea – intelegerea scarii spatiului\nSedinta nr. 3 –  Stilurile in amenajarile interioare\n–	Scurta evoluție a stilurilor în design\, aplicarea lor in designul contemporan\n–	Recunoașterea elementelor cheie și integrarea lor în designul contemporan\n–	Explicarea metodei de lucru cu moodboard-uri\nExercițiu practic: alegere elemente pentru moodbooard-uri (decupare din reviste\, poze printate in prealabil cu interioare celebre)\nȘedința nr. 4 – Culoare\n–	Reguli simple de urmat in alegerea culorilor\n–	Intelegerea schemelor cromatice\n–	Aplicarea culorii pentru efecte vizuale.\nExercițiu practic\, studiu de caz: evaluarea efectelor culorilor asupra spațiului interior ales de catre fiecare cursant si construirea unui moodboard\nSedinta nr. 5 – Finisaje: materialitate și texturi\n–	Finisaje- cum le alegem pe cele potrivite spatiului ce urmeaza a fi amenajat?\n–	Intelegerea proportiilor in alegerea materialelor\nExercițiu practic:\n– intelegerea materialelor pe care le vom utiliza in interiorul ales; De ce? Unde? Cum?\n– alegerea materialelor pentru macheta: din o serie de materiale cumparate in prealabil vom intelege de ce facem anumite alegeri de materiale pe care le vom utiliza;\nSedinta nr. 6: Lumina si spatiul interior\n– Tipuri de lumină si importanta ei in crearea atmosferei\n– Tipuri de corpuri de iluminat\n– Evaluarea impactului mai multor scheme de iluminat asupra unui spațiu.\nExerciții practice: intelegerea alegerilor de iluminare in interiorul ales\, cum aplicam aceasta in macheta; \nSedinta nr. 7: Sedinta practica continuarea aplicarilor cunostintelor teoretice in realizarea machetei fiecarui cursant. \nSedinta nr. 8: Finalizare macheta – realizarea fotografiei finale cu spatiul interior construit \nDespre trainer\nIoana Mitrica este arhitect\, absolventă a universitatii TU Eindhoven din Olanda. Bazele studiilor de arhitectură au fost puse în Universitatea de Arhitectură și Urbanism “Ion Mincu”\, București. Este atrasă de diferite proiecte\, de la cele de arhitectură\, la pictură\, ilustrație și design interior. Experiența de lucru a dobândit-o prin colaborarea la diverse proiecte de arhitectură și amenajări interioare atât cu birouri din țară (EXHIBIT\, VOS Architects) cât și din străinatate (Kjellgren Kaminsky Architecture\, Suedia). Pasiunea pentru arhitectură a condus-o să se implice în evenimente conexe cu arhitectura\, cum ar fi Bienala de arhitectură de la Veneția\, ediția 2010 și 2012 și workshop-uri cu subiecte variate din România\, Olanda\, Suedia și Portugalia.\nPentru Ioana\, cursul susținut la Ora0 este o nouă ocazie de a investiga în continuare noțiunile de spațiu și atmosferă. \n
URL:https://ghidlocal.com/brasov/eveniment/atmosfera-in-design-interior-curs-2/
LOCATION:Ora0\, De Mijloc nr.133\, Brasov\, RO
CATEGORIES:Cursuri
ATTACH;FMTTYPE=image/jpeg:https://cdn.cluj.com/ghidlocalcom/sites/6/2018/03/44359_image_28516440_1442664069179323_7363047377977940574_o.jpg
END:VEVENT
BEGIN:VEVENT
DTSTART;TZID=Europe/Bucharest:20180411T190000
DTEND;TZID=Europe/Bucharest:20180411T210000
DTSTAMP:20260425T161002
CREATED:20180307T133636Z
LAST-MODIFIED:20180307T133636Z
UID:44475-1523473200-1523480400@ghidlocal.com
SUMMARY:What is Dance to You?
DESCRIPTION:What is Dance to You?\n~~~~Dance workshop~~~\nI invite you to give yourself 2 hours of self-discovery through movement!\nWhat is Dance to You?\nWe all dance. At a party\, in our house\, with our friends or alone. Sometimes we dance and we don’t even notice. Because sometimes we let our bodies flow easy and careless and naturally we begin a little solo. Even though maybe we are actually cooking or walking on a quiet street.\nSo dance is there\, one way or another in our life. But do we take the time to figure out what is dance to us? We know to give a broad definition\, but what is really dance to us?\nIt can be  a way to connect with other people or a poetic movement that we can discover everywhere if we look with our poetic view. Or perhaps a way to communicate and tell your story.\n Or it can be a way to let our imagination come to life. No matter what dance is for you\, one thing is certain:  it is intimately connected to your own rhythm\, emotions and body.\nThis is why it is very important to be aware on the effect dance has on you.\nWhat to expect?\nWe will explore dance using movement\, playful exercises and techniques from contemporary dance\, contact improvisation and dance therapy.\nIn order to take part to this workshop you need to be open to play in the way the historian Johan Huizinga defined the word:\n1. Play is free\, it is in fact freedom.\n2. Play is not „ordinary” or „real” life.\n3. Play is distinct from „ordinary” life both as to locality and duration.\n4. Play creates order\, it is order. Play demands absolute and supreme.\n5. Play is connected with no material interest\, and no profit can be gained from it.\nWho am I?\nMy name is Anamaria Guguian\, an explorer of life through movement\, a coach using dance therapy techniques\, a performer and the founder of I Dance You\, a project meant to move people and to make the world a better place using dance.\nThe workshop is open to everyBody\, no matter the age\, the physical condition or experience in dance.\nPlease bring comfortable clothes with you and a bottle of water.\nContribution: 20 euros\nLocation: TBA\nReservations: ana.guguian@gmail.com or private message on I Dance You Facebook page. \n
URL:https://ghidlocal.com/brasov/eveniment/what-is-dance-to-you-2/
CATEGORIES:Ateliere Brasov
ATTACH;FMTTYPE=image/jpeg:https://cdn.cluj.com/ghidlocalcom/sites/6/2018/03/44475_image_28827910_666890206814691_2757902099931120164_o.jpg
END:VEVENT
BEGIN:VEVENT
DTSTART;TZID=Europe/Bucharest:20180411T214500
DTEND;TZID=Europe/Bucharest:20180411T234500
DTSTAMP:20260425T161002
CREATED:20180401T093526Z
LAST-MODIFIED:20180401T093526Z
UID:47714-1523483100-1523490300@ghidlocal.com
SUMMARY:Uefa Champions League-Sferturi de finala
DESCRIPTION:Real Madrid-Juventus\nSevilla-Bayern Munchen \nCuza Voda nr.5\nInfo si rezervari: 0730007009 \n
URL:https://ghidlocal.com/brasov/eveniment/uefa-champions-league-sferturi-de-finala-4/
LOCATION:Britishpubbrasov\, Alexandru Ioan Cuza 5\, Brasov\, 500014\, RO
CATEGORIES:Party-uri Brasov
ATTACH;FMTTYPE=image/jpeg:https://cdn.cluj.com/ghidlocalcom/sites/6/2018/04/47714_image_29594926_1853002771416934_9136698396293000878_n.jpg
END:VEVENT
END:VCALENDAR