BEGIN:VCALENDAR
VERSION:2.0
PRODID:-//Ghid Local Brasov - ECPv5.1.1//NONSGML v1.0//EN
CALSCALE:GREGORIAN
METHOD:PUBLISH
X-WR-CALNAME:Ghid Local Brasov
X-ORIGINAL-URL:https://ghidlocal.com/brasov
X-WR-CALDESC:Events for Ghid Local Brasov
BEGIN:VTIMEZONE
TZID:Europe/Bucharest
BEGIN:DAYLIGHT
TZOFFSETFROM:+0200
TZOFFSETTO:+0300
TZNAME:EEST
DTSTART:20180325T010000
END:DAYLIGHT
BEGIN:STANDARD
TZOFFSETFROM:+0300
TZOFFSETTO:+0200
TZNAME:EET
DTSTART:20181028T010000
END:STANDARD
END:VTIMEZONE
BEGIN:VEVENT
DTSTART;TZID=Europe/Bucharest:20180320T160000
DTEND;TZID=Europe/Bucharest:20180410T170000
DTSTAMP:20260424T230030
CREATED:20180308T150956Z
LAST-MODIFIED:20180308T150956Z
UID:44731-1521561600-1523379600@ghidlocal.com
SUMMARY:Yoga pentru copii cu Raluca Benche
DESCRIPTION:La atelierul de yoga pentru copii\, facem posturi şi mişcări cu nume nostime\, ca să creştem puternici şi flexibili. \nSuntem atenţi la respiraţie şi descoperim cum ne putem juca cu ea\, o facem mai adâncă\, mai rapidă sau mai lentă\, sonoră sau liniştită.\nNe mişcăm în ritmul ei şi observăm cum ne face să ne simţim.\nSalutăm soarele şi luna\, spunem poveşti despre natură şi creăm împreună mandale cu corpurile noastre\, ne deschidem inima şi simţurile.\nNe relaxăm\, ascultăm ce se întâmplă acum în noi şi apreciem ce găsim aici.\nNe simţim bine şi ne distrăm împreună făcând ceva sănătos. \nŞi\, mai ales\, ne formăm nişte deprinderi la îndemână pe care probabil n-o să le învăţăm la şcoală şi care ne vor ajuta să rămânem energici\, relaxaţi\, sănătoşi şi fericiţi. \nLa ce le foloseşte yoga copiilor: \nPentru corp:\n– le dezvoltă un corp puternic\, flexibil şi armonios\n– îşi îmbunătăţesc coordonarea şi echilibrul\n– devin conştienţi de respiraţie\, ajung să respire amplu şi profund\n– yoga ajută circulaţia\, digestia\, sistemul nervos\, cam toate funcţiile organismului\n– explorează o varietate mare de posturi şi mişcări\, formându-şi un “vocabular” corporal bogat\n– ajung să-şi cunoască mai bine şi să-şi aprecieze corpul\, să-i iubească vitalitatea şi să se bucure de capacităţile lui\n– învaţă să-şi depăşeasca limitele fizice cu respect şi blândeţe\, atenţi la semnalele interioare. \nPentru minte:\n– exersează concentrarea și autodisciplina\n– se observă introspectiv\, atât cât e posibil la vârsta lor\n– învaţă exerciţii care îi ajută să facă faţă stresului\n– descoperă ce înseamnă să fii relaxat\n– îşi dau frâu liber imaginaţiei\, explorează şi se adaptează la diferite perspective\n– comunică într-un cadru lipsit de competiţie. \nPentru suflet:\n– dezvoltă încredere în resursele lor\, respect şi iubire de sine\n– rămân cu un sentiment de pace\, de bine interior\n– devin mai conştienţi de natură şi lumea mai largă în care trăim\n– îşi deschid inima\, sensibilitatea şi deprind valori ca acceptare\, respect\, sinceritate\, generozitate\, iubire\, compasiune\n– copiii au o capacitate inerentă de a fi prezenţi cu totul aici şi acum\, iar yoga îi încurajează să-şi păstreze şi mai târziu această abilitate\, să se lase complet absorbiţi de experienţa momentului\, să fie una cu ce fac şi să-şi trăiască viaţa “cu totul”\, fără să fie împovăraţi de ce s-a întâmplat înainte sau îngrijoraţi de ce va fi în viitor. \nInstructor\nRaluca Benche e psiholog format în consiliere şi psihoterapie\nexperienţială pentru adult\, copil şi familie. De 17 ani\, yoga e jocul (şi studiul) ei preferat. A găsit în yoga un ritual de reconectare care îi dă energie\, o echilibrează\, o ajută să-şi păstreze deschise ferestrele minţii şi aripile sufletului.\nA urmat în străinătate programe intensive de formare ca instructor în mai multe stiluri de yoga şi meditaţie şi predă de 7 ani\, în special în spaţiul ei Santosha Studio din Braşov. Din 2016 este certificată să ţină grupuri de yoga pentru copii de către Școala internaţională Rainbow Kids Yoga.\nEste mama a doi copii\, de 1 an şi 3 ani\, cu care îi e tare drag să se joace de-a yoga\, prilej să înveţe de la ei despre naturaleţe\, bucurie sau încredere şi să le inspire blândeţe\, calm\, empatie sau tenacitate. Prezenţa copiilor i-a întărit interesul pentru o educaţie care respectă şi hrăneşte omul întreg – corpul\, raţiunea şi sensibilitatea deopotrivă –  şi crede că yoga îşi găseşte locul aici. \nCând? Unde? Cât?\nDurată curs: 4 luni\, 1 întâlnire pe săptămână\, durată întâlnire 45 minute.\nCursul de yoga are loc în fiecare marți de la ora 16:00.\nUrmătorul curs va începe în 20 martie.\nNumăr minim de copii în grupă: 5\nNumăr maxim de copii în grupă: 10\nVârstă copii: 3-11 ani\nLocație: Academia Heidi\, str. Apullum nr. 3\, Brașov\nInvestiție: abonament de minim 5 ore/lună \nInvestiție: alege tipul de abonament! \n\nAlege un abonament! \n\nÎnscrie-te la un curs demonstrativ gratuit! \n\nTe aşteptăm cu drag! \n\n
URL:https://ghidlocal.com/brasov/eveniment/yoga-pentru-copii-cu-raluca-benche/
LOCATION:Academia Heidi\, strada Apullum\, nr. 1-3\, Brasov\, 500096\, RO
CATEGORIES:Ateliere Brasov
ATTACH;FMTTYPE=image/jpeg:https://cdn.cluj.com/ghidlocalcom/sites/6/2018/03/44731_image_28468557_1748211225217581_2993890337059332396_n.jpg
END:VEVENT
BEGIN:VEVENT
DTSTART;TZID=Europe/Bucharest:20180324T120000
DTEND;TZID=Europe/Bucharest:20180421T160000
DTSTAMP:20260424T230030
CREATED:20180303T205420Z
LAST-MODIFIED:20180303T205420Z
UID:43873-1521892800-1524326400@ghidlocal.com
SUMMARY:Ateliere de Sambata cu Beti Piscureanu
DESCRIPTION:Daca vrei sa iti petreci sfarsitul de saptamana intr-un mod creativ si relaxat\, atunci iti propunem sa ne dam intalnire Sambata cu Beti Piscureanu si universul materialelor textile din care vom coase lucruri minunate. \nAtelierele sunt atat pentru incepatori\, cat si pentru cei care cunosc deja cateva dintre secretele cusutului. Pentru o buna organizare\, va rugam sa anuntati inscrierea din timp.  \nAtelier 24 Martie\nCOLAJE TEXTILE – cusaturi manuale\nDurata: 3-4 ore\nCost: 120 lei/pers\, insa daca mai vii cu cineva\, veti plati impreuna 200 lei (100 lei/ pers)\nLocuri disponibile: 8\nCe vei invata: cusaturi manuale utilitare si decorative\, notiuni despre materiale textile\, folosirea corecta a accesoriilor de croitorie. \nAtelier 31 Martie\nFUSTA DREAPTA\nDurata: 5-6 ore\nCost: 220 lei/persoana (10% reducere daca vii cu masina ta de cusut)\nCe vei invata: realizarea tiparului pe masuri personalizate\, transfer pe material/croire\, coaserea\, surfilarea si asamblarea fustei\, montarea fermoarului\, realizarea tivului ascuns.\nLocuri disponibile: 5 \nAtelier 14 Aprilie\nPANTALONI ȘALVARI\nDurata: 4-5 ore\nCost: 180 lei/pers (10% reducere daca vii cu masina ta de cusut)\nCe vei invata: croirea\, coaserea\, surfilarea si asamblarea pantalonului\, montarea buzunarelor ascunse\, a beteliei si a elasticului\nLocuri disponibile: 5 \nAtelier 21 Aprilie\nFUSTA CLOȘ DIN TUL cu captuseala\nDurata: 5-6 ore\nCost: 240 lei/pers (10% reducere daca vii cu masina ta de cusut)\nCe vei invata: realizarea tiparului\, croirea\, coaserea\, surfilarea si asamblarea fustei\, montarea beteliei si a elasticului\nLocuri disponibile: 5 \n
URL:https://ghidlocal.com/brasov/eveniment/ateliere-de-sambata-cu-beti-piscureanu/
LOCATION:Ora0 Hive\, Str. RAZBOIENI NR.23\, Brasov\, RO
CATEGORIES:Cursuri
ATTACH;FMTTYPE=image/jpeg:https://cdn.cluj.com/ghidlocalcom/sites/6/2018/03/43873_image_28379608_1439614969484233_2322616450404214684_n.jpg
END:VEVENT
BEGIN:VEVENT
DTSTART;TZID=Europe/Bucharest:20180402T180000
DTEND;TZID=Europe/Bucharest:20180416T220000
DTSTAMP:20260424T230030
CREATED:20180326T132307Z
LAST-MODIFIED:20180326T132307Z
UID:46995-1522692000-1523916000@ghidlocal.com
SUMMARY:Curs de comunicare si public speaking
DESCRIPTION:Când spui cuvintele ”public speaker”\, adică vorbitor în public\, gândul te duce la o persoană care ține un discurs într-o sală publică\, pe o scenă imensă\, cu lumini din toate părțile și cu un public numeros. \nÎnsă adevărul este că vorbitori în public suntem toți. Indiferent de meseria de zi cu zi\, suntem vorbitori în public 24 de ore din 24.  \n– De ce să participi la Speakers Club? –\nPentru că cea mai rapidă și puternică forma de dezvoltare personală și profesională este vorbitul în public. \n– Ce este Speakers Club? –\nEste locul de practică pentru cei care își doresc să devină mai buni comunicatori și să aibă impact de fiecare dată când prezintă. \n– Ce se va întâmpla în cadrul acestui seminar? –\nLa acest seminar vei cunoaște comunitatea\, vei face networking\, vei afla tehnici de public speaking și le vei vedea aplicate în discursurile pregătite ale membrilor Speakers Club\, te vei distra\, te vei motiva și inspira! \n– Ce îți va oferi întâlnirea Speakers Club ? –\n1. Informații relevante despre vorbit în public (tehnici specifice prezentărilor cu public)\n2. Networking cu antreprenori și oameni de succes\, cu care poți lega parteneriate\n3. Un mediu profesionist în care să dezvolți abilitatea de a comunica și de a prezenta\n4. Ocazia de a susține un mini-discurs \n– Cât costă? –\nParticiparea costă 35 lei pentru fiecare dintre cei prezenți la întâlnire. \n– Cine este trainerul grupei? –\nTrainerul grupei este George Nedelcu\, antreprenor\, francizor Speakers Club Brasov\, trainer si speaker. \nTe poți înscrie pentru eveniment la:\nhttp://speakersclub.eu/training-brasov \nTe rugăm să te înscrii pe formular pentru că numărul de locuri este limitat! \n
URL:https://ghidlocal.com/brasov/eveniment/curs-de-comunicare-si-public-speaking/
LOCATION:Kronwell Hotel\, Brașov\, Brasov\, 500203\, RO
CATEGORIES:Workshop Brasov
ATTACH;FMTTYPE=image/jpeg:https://cdn.cluj.com/ghidlocalcom/sites/6/2018/03/46995_image_29468137_899594663576322_8639380991405719552_o.jpg
END:VEVENT
BEGIN:VEVENT
DTSTART;TZID=Europe/Bucharest:20180406T090000
DTEND;TZID=Europe/Bucharest:20180408T180000
DTSTAMP:20260424T230030
CREATED:20180306T075231Z
LAST-MODIFIED:20180306T075231Z
UID:44260-1523005200-1523210400@ghidlocal.com
SUMMARY:Ultimul curs Formator autorizat ANC - Cum să devii un trainer-alchimist?
DESCRIPTION:Cursul-rege\, cursul de formator-alchimist\, va fi organizat din nou!  \nVrei sa te implici in formarea de oameni profesionisti? Sa ai impact mare in jurul tau? Sa accesezi fonduri europene si sa lucrezi ca trainer avand salarii de 1500-2000 euro? \nDevino formator autorizat acum! Invata de la cei mai experimentati! \nCINE SUNTEM NOI?\nAlchemy Consulting & Training [www.cursuri-certificate.ro] este un centru de training născut din pasiunea pentru dezvoltare personală\, pentru comunicare\, pentru evoluție profesională. Punem accent pe învățarea experiențială\, interactivă\, cu metode moderne\, având la bază o foarte bună comunicare. Pentru noi\, obiectivele voastre sunt misiunea noastră! \nTRAINER AUTORIZAT:\nSorin Peligrad\, Senior Trainer\, specializat in comunicare\, public speaking\, NLP\, coaching\, formator de formatori\, a format mii de cursanti si are mii de ore de training la activ. \nINVESTITIA IN INSTRUIRE PROPRIE:\n690 lei (scutit TVA)\n*Taxa include: suportul de curs si materiale auxiliare\, chiria salii de curs cu dotarile tehnice necesare\, taxa examen A.N.C (fost C.N.F.P.A.).\nPentru cei care plătesc cursul integral\, prețul este doar 600 de lei daca plata se face pana la data de 12 octombrie 2017.\nInscrie-te acum! Completeaza acest formular http://tinyurl.com/hguwxh5 \n3+1. Vino cu încă trei prieteni și cel de al patrulea beneficiază de acest curs cu o reducere de 50%. \nDiploma are valabilitate permanenta!!! \nNu vei pleca doar cu o meserie noua\, ci si cu informatii extrem de utile pentru toate domeniile vietii\, cu o lista de colegi si chiar prieteni si o mai buna motivare a ta! Iar cursul se face „pe bune”! \nBENEFICIILE CURSANTILOR\nVor şti să identifice nevoile de instruire;\nVor şti să folosească limbajul verbal\, limbajul nonverbal şi paraverbal în favoarea lor;\nVor şti să administreze situaţii dificile de livrare (ex. grupe de cursanţi neinteresaţi de învăţare\, cursanti dificili\, etc);\nVor şti să aleagă informaţia relevantă pentru obiectivele de instruire;\nVor şti să construiască activităţi care să ducă la îndeplinirea obiectivelor de instruire;\nVor şti să faciliteze învăţarea pe parcursul şi după finalul programului de prezentare/instruire;\nVor şti să evalueze programul de prezentare/instruire pe baza unor criterii relevante;\nVor şti să facă rapoarte de instruire relevante pentru o companie;\nVor şti să organizeze programele de prezentare/instruire.\nVor experimenta intr-un cadru safe.\nVor avea posibilitatea de a sustine primele traininguri alaturi de Alchemy Consulting & Training. \nUNITATI DE COMPETENTA:\nA. Competențele Specifice ocupației – “Pregătirea profesională a personalului”:\nPregătirea formării\nRealizarea activităților de formare\nEvaluarea participanților la formare\nAplicarea metodelor și tehnicilor speciale de formare\nB. Competențele Opționale – “Managementul programelor de formare”:\nMarketing-ul formării\nProiectarea programelor de formare\nOrganizarea programelor și a stagiilor de formare\nEvaluarea\, revizuirea și asigurarea calității programelor și a stagiilor de formare \nCompleteaza acest formular http://tinyurl.com/hguwxh5 \n8 motive pentru care să te înscrii chiar ACUM la cursul de formator:\n1. Oferă cel mai plăcut\, rapid și accesibil mod de a obține un maximum de competențe de formator la un preț foarte accesibil (amortizat înca de la primul curs sustinut!!!).\n2. Se bazează pe învățarea eficientă\, interactiv\, cu metode si tehnici concrete\, și nu pe învățarea pe de rost a informațiilor.\n3. Este conceput după cel mai nou Standard Ocupational si după cele mai noi concepte de pedagogie a adultului (andragogie)\n4. Oferim servicii de consultanta in vederea inceperii carierei de trainer\n5. Vei avea primul curs sustinut alaturi de noi.\n6. Oferă perspective foarte generoase de carieră în formarea adulților.\n7. Oferă perspective de formator în cadrul proiectelor cu finanțare europeană pentru care sunt alocate milioane Euro / proiect\, deci o meserie de viitor si profitabila.\n8. Deschide oportunitarea unei activități proprii cu venituri foarte atractive.\nPe parcurs\, cursantii se vor implica in activitati specific si vor lucra diferite teme utile activitatii de formare. In final\, fiecare participant va sustine propriul sau curs in fata colegilor si va primi feed-back profesionist. \nATENTIE!!!\nDeoarece punem accent pe invatare\, pe dezvoltarea abilitatilor\, oferim instrumente moderne si mult know-how\, noi\, echipa Alchemy Consulting&Training ne dorim ca absolventii nostri sa devina adevarati “alchimisti” in domeniul dezvoltarii personale si profesionale\, participarea la curs NU asigura obtinerea certificatului de formator. Consideram ca este responsabilitatea noastra sa formam oameni capabili\, buni profesionisti si modele de cariera. In consecinta\, vom monitoriza atent\, pe intreaga desfasurare a cursului felul in care se implica participantii\, vom oferi suport fiecaruia si le vom oferi cadrul propice pentru crestere\, dar NU vom face rabat la calitate.\nParticiparea la curs NU presupune in mod obligatoriu obtinerea diplomei de calificare in meseria de formator\, ci doar a adeverintei de participare. \nIata si alte lucruri despre noi: http://cursuri-certificate.ro/index.php/testimoniale-si-media/ \nVa asteptam alaturi de noi sa deveniti traineri – alchimisti de succes! Completeaza acest formular http://tinyurl.com/hguwxh5\nDurata cursului: 2 week-end-uri \nInvestitie: 690 lei\nPlata se va face catre SC Alchemy Consulting & Training SRL\, Nr. Reg. Com. J08/1779/2013\, CUI 32511801\, in contul RO68INGB0000999904026157\, deschis la Banca ING\, agentia Onix – Brasov.  \nINSCRIERE:\nInscrierea se face in baza formularului solicitat la numarul de telefon: 0730.830.760 sau la adresa de e-mail:\npeligradsorin@yahoo.com\nPersoana de contact:\nSorin Peligrad\nMobil: 0730.830.760 \nLike &Share if you belive in Alchemy! Thks! \n
URL:https://ghidlocal.com/brasov/eveniment/ultimul-curs-formator-autorizat-anc-cum-sa-devii-un-trainer-alchimist/
LOCATION:Alchemy Hub\, str Rosiorilor\, nr 4\, Brasov\, 500102\, RO
CATEGORIES:Altele,Ateliere Brasov,Cursuri,Workshop Brasov
ATTACH;FMTTYPE=image/jpeg:https://cdn.cluj.com/ghidlocalcom/sites/6/2018/03/44260_image_28576716_537625846609172_4849532229972017784_n.jpg
END:VEVENT
BEGIN:VEVENT
DTSTART;TZID=Europe/Bucharest:20180406T230000
DTEND;TZID=Europe/Bucharest:20180409T060000
DTSTAMP:20260424T230030
CREATED:20180403T080313Z
LAST-MODIFIED:20180403T080313Z
UID:47933-1523055600-1523253600@ghidlocal.com
SUMMARY:The Weekend Is Ours [at] VintageBrasov
DESCRIPTION:‼️ Be #READY…..The boys are back in town‼️\n#DJRazZ & #MCCoco have prepared something special for you❗️ ?????\nTake your friends and see you this week-end at #VintageBrasov‼️?\n••••••••••••••••••••••••••••••••••••••••••••••••••••••••••••\n????????????? ?\nRVSP: 0745 050 487☎️\n•••••••••••••••••••••••••••••••••••••••••••••••••••••••••••• \n
URL:https://ghidlocal.com/brasov/eveniment/the-weekend-is-ours-at-vintagebrasov/
LOCATION:Vintage Club Brasov\, str. Sirul Livezii\, nr. 2A\, Brasov\, 500050\, RO
CATEGORIES:Party-uri Brasov
ATTACH;FMTTYPE=image/jpeg:https://cdn.cluj.com/ghidlocalcom/sites/6/2018/04/47933_image_29793210_1854277561283467_2152620044774785684_n.jpg
END:VEVENT
BEGIN:VEVENT
DTSTART;TZID=Europe/Bucharest:20180407T230000
DTEND;TZID=Europe/Bucharest:20180408T050000
DTSTAMP:20260424T230030
CREATED:20180402T213151Z
LAST-MODIFIED:20180402T213151Z
UID:47886-1523142000-1523163600@ghidlocal.com
SUMMARY:Easter Party
DESCRIPTION:Good music\, beautiful people\, best atmosphere and a lot of FUN!\nLet’s dance like we own the place on DJ MINU’s vibes!! \n–––––\nFree Entry!\nINFO & RSVP: 0733800700 | M.Kogalniceanu 15\, Brasov\n–––––––––––\nAccesul este permis doar persoanelor care au împlinit vârsta de 18 ani!\nTemple Pub isi rezerva dreptul de a-si selecta clientela \nartwork by Roland Muresan \n
URL:https://ghidlocal.com/brasov/eveniment/easter-party/
LOCATION:Temple Pub\, Strada Mihail Kogalniceanu no. 15\, Brasov\, 500173\, RO
CATEGORIES:Party-uri Brasov
ATTACH;FMTTYPE=image/jpeg:https://cdn.cluj.com/ghidlocalcom/sites/6/2018/04/47886_image_29872091_1901309606569289_933880575590015963_o.jpg
END:VEVENT
BEGIN:VEVENT
DTSTART;TZID=Europe/Bucharest:20180408T140000
DTEND;TZID=Europe/Bucharest:20180408T170000
DTSTAMP:20260424T230030
CREATED:20180317T101054Z
LAST-MODIFIED:20180317T101054Z
UID:45876-1523196000-1523206800@ghidlocal.com
SUMMARY:Concert Mariana Ionescu Capitanescu - 08.04.2018
DESCRIPTION:Sarbatorim Sfintele sarbatori Pascale in tihna\, cu preparate alese si muzica pentru suflet. \nCiocnim un ou rosu si inchinam un pahar de vin\, in compania inconfundabilei #MarianaIonescuCapitanescu\, pe 8 Aprilie\, in restaurantul cu specific de stana al #CLUBVILABRAN \nRezervarile le puteti face la numarul de telefon 0742 044 598 sau pe adresa de e-mail: rezervari@vilabran.ro \nTarif special de Paste – Masa festiva! \n
URL:https://ghidlocal.com/brasov/eveniment/concert-mariana-ionescu-capitanescu-08-04-2018/
LOCATION:CLUB VILA BRAN\, str. Alunis\, nr.13\, Bran\, 507025\, RO
CATEGORIES:Concerte Brasov
ATTACH;FMTTYPE=image/jpeg:https://cdn.cluj.com/ghidlocalcom/sites/6/2018/03/45876_image_29244289_1877695945598630_1156206235465285632_n.jpg
END:VEVENT
BEGIN:VEVENT
DTSTART;TZID=Europe/Bucharest:20180408T190000
DTEND;TZID=Europe/Bucharest:20180408T210000
DTSTAMP:20260424T230030
CREATED:20180404T080704Z
LAST-MODIFIED:20180404T080704Z
UID:48038-1523214000-1523221200@ghidlocal.com
SUMMARY:Crossover Opera - Melya Andra
DESCRIPTION:„Despre arta spulberătoare a cântului și cum încerc să aduc aminte celorlalți prin ea că toate sensibilitățile din ei au un sens.” \nO zi de Paște nu ca oricare alta\, cu soare\, operă\, jazz\, muzică vintage din anii ’60\,\, flori și zâmbete. \n
URL:https://ghidlocal.com/brasov/eveniment/crossover-opera-melya-andra/
LOCATION:Bistro de l’Arte\, Piata Enescu\, Brasov\, 500031\, RO
CATEGORIES:Altele
ATTACH;FMTTYPE=image/jpeg:https://cdn.cluj.com/ghidlocalcom/sites/6/2018/04/48038_image_29749549_1852519131458703_5793099146769737092_o.jpg
END:VEVENT
BEGIN:VEVENT
DTSTART;TZID=Europe/Bucharest:20180408T200000
DTEND;TZID=Europe/Bucharest:20180408T210000
DTSTAMP:20260424T230030
CREATED:20180317T101058Z
LAST-MODIFIED:20180317T101058Z
UID:45878-1523217600-1523221200@ghidlocal.com
SUMMARY:Concert Mircea Baniciu - Paste 2018
DESCRIPTION:Sarbatorim Sfintele sarbatori Pascale in tihna\, cu preparate alese si muzica pentru suflet. \nIn seara de Paste\, marele nostru maestru #MirceaBaniciu\, va asteapta in restaurantul cu specific de stana al #CLUBVILABRAN\, pentru a petrece clipe minunate alaturi de cei dragi. \nRezervarile le puteti face la numarul de telefon 0742 044 598 sau pe adresa de e-mail: rezervari@vilabran.ro \n
URL:https://ghidlocal.com/brasov/eveniment/concert-mircea-baniciu-paste-2018/
LOCATION:CLUB VILA BRAN\, str. Alunis\, nr.13\, Bran\, 507025\, RO
CATEGORIES:Concerte Brasov
ATTACH;FMTTYPE=image/jpeg:https://cdn.cluj.com/ghidlocalcom/sites/6/2018/03/45878_image_29314485_1877704332264458_2711212364891422720_n.jpg
END:VEVENT
END:VCALENDAR