BEGIN:VCALENDAR
VERSION:2.0
PRODID:-//Ghid Local Brasov - ECPv5.1.1//NONSGML v1.0//EN
CALSCALE:GREGORIAN
METHOD:PUBLISH
X-WR-CALNAME:Ghid Local Brasov
X-ORIGINAL-URL:https://ghidlocal.com/brasov
X-WR-CALDESC:Events for Ghid Local Brasov
BEGIN:VTIMEZONE
TZID:Europe/Bucharest
BEGIN:DAYLIGHT
TZOFFSETFROM:+0200
TZOFFSETTO:+0300
TZNAME:EEST
DTSTART:20180325T010000
END:DAYLIGHT
BEGIN:STANDARD
TZOFFSETFROM:+0300
TZOFFSETTO:+0200
TZNAME:EET
DTSTART:20181028T010000
END:STANDARD
END:VTIMEZONE
BEGIN:VEVENT
DTSTART;TZID=Europe/Bucharest:20180320T160000
DTEND;TZID=Europe/Bucharest:20180410T170000
DTSTAMP:20260424T182725
CREATED:20180308T150956Z
LAST-MODIFIED:20180308T150956Z
UID:44731-1521561600-1523379600@ghidlocal.com
SUMMARY:Yoga pentru copii cu Raluca Benche
DESCRIPTION:La atelierul de yoga pentru copii\, facem posturi şi mişcări cu nume nostime\, ca să creştem puternici şi flexibili. \nSuntem atenţi la respiraţie şi descoperim cum ne putem juca cu ea\, o facem mai adâncă\, mai rapidă sau mai lentă\, sonoră sau liniştită.\nNe mişcăm în ritmul ei şi observăm cum ne face să ne simţim.\nSalutăm soarele şi luna\, spunem poveşti despre natură şi creăm împreună mandale cu corpurile noastre\, ne deschidem inima şi simţurile.\nNe relaxăm\, ascultăm ce se întâmplă acum în noi şi apreciem ce găsim aici.\nNe simţim bine şi ne distrăm împreună făcând ceva sănătos. \nŞi\, mai ales\, ne formăm nişte deprinderi la îndemână pe care probabil n-o să le învăţăm la şcoală şi care ne vor ajuta să rămânem energici\, relaxaţi\, sănătoşi şi fericiţi. \nLa ce le foloseşte yoga copiilor: \nPentru corp:\n– le dezvoltă un corp puternic\, flexibil şi armonios\n– îşi îmbunătăţesc coordonarea şi echilibrul\n– devin conştienţi de respiraţie\, ajung să respire amplu şi profund\n– yoga ajută circulaţia\, digestia\, sistemul nervos\, cam toate funcţiile organismului\n– explorează o varietate mare de posturi şi mişcări\, formându-şi un “vocabular” corporal bogat\n– ajung să-şi cunoască mai bine şi să-şi aprecieze corpul\, să-i iubească vitalitatea şi să se bucure de capacităţile lui\n– învaţă să-şi depăşeasca limitele fizice cu respect şi blândeţe\, atenţi la semnalele interioare. \nPentru minte:\n– exersează concentrarea și autodisciplina\n– se observă introspectiv\, atât cât e posibil la vârsta lor\n– învaţă exerciţii care îi ajută să facă faţă stresului\n– descoperă ce înseamnă să fii relaxat\n– îşi dau frâu liber imaginaţiei\, explorează şi se adaptează la diferite perspective\n– comunică într-un cadru lipsit de competiţie. \nPentru suflet:\n– dezvoltă încredere în resursele lor\, respect şi iubire de sine\n– rămân cu un sentiment de pace\, de bine interior\n– devin mai conştienţi de natură şi lumea mai largă în care trăim\n– îşi deschid inima\, sensibilitatea şi deprind valori ca acceptare\, respect\, sinceritate\, generozitate\, iubire\, compasiune\n– copiii au o capacitate inerentă de a fi prezenţi cu totul aici şi acum\, iar yoga îi încurajează să-şi păstreze şi mai târziu această abilitate\, să se lase complet absorbiţi de experienţa momentului\, să fie una cu ce fac şi să-şi trăiască viaţa “cu totul”\, fără să fie împovăraţi de ce s-a întâmplat înainte sau îngrijoraţi de ce va fi în viitor. \nInstructor\nRaluca Benche e psiholog format în consiliere şi psihoterapie\nexperienţială pentru adult\, copil şi familie. De 17 ani\, yoga e jocul (şi studiul) ei preferat. A găsit în yoga un ritual de reconectare care îi dă energie\, o echilibrează\, o ajută să-şi păstreze deschise ferestrele minţii şi aripile sufletului.\nA urmat în străinătate programe intensive de formare ca instructor în mai multe stiluri de yoga şi meditaţie şi predă de 7 ani\, în special în spaţiul ei Santosha Studio din Braşov. Din 2016 este certificată să ţină grupuri de yoga pentru copii de către Școala internaţională Rainbow Kids Yoga.\nEste mama a doi copii\, de 1 an şi 3 ani\, cu care îi e tare drag să se joace de-a yoga\, prilej să înveţe de la ei despre naturaleţe\, bucurie sau încredere şi să le inspire blândeţe\, calm\, empatie sau tenacitate. Prezenţa copiilor i-a întărit interesul pentru o educaţie care respectă şi hrăneşte omul întreg – corpul\, raţiunea şi sensibilitatea deopotrivă –  şi crede că yoga îşi găseşte locul aici. \nCând? Unde? Cât?\nDurată curs: 4 luni\, 1 întâlnire pe săptămână\, durată întâlnire 45 minute.\nCursul de yoga are loc în fiecare marți de la ora 16:00.\nUrmătorul curs va începe în 20 martie.\nNumăr minim de copii în grupă: 5\nNumăr maxim de copii în grupă: 10\nVârstă copii: 3-11 ani\nLocație: Academia Heidi\, str. Apullum nr. 3\, Brașov\nInvestiție: abonament de minim 5 ore/lună \nInvestiție: alege tipul de abonament! \n\nAlege un abonament! \n\nÎnscrie-te la un curs demonstrativ gratuit! \n\nTe aşteptăm cu drag! \n\n
URL:https://ghidlocal.com/brasov/eveniment/yoga-pentru-copii-cu-raluca-benche/
LOCATION:Academia Heidi\, strada Apullum\, nr. 1-3\, Brasov\, 500096\, RO
CATEGORIES:Ateliere Brasov
ATTACH;FMTTYPE=image/jpeg:https://cdn.cluj.com/ghidlocalcom/sites/6/2018/03/44731_image_28468557_1748211225217581_2993890337059332396_n.jpg
END:VEVENT
BEGIN:VEVENT
DTSTART;TZID=Europe/Bucharest:20180324T120000
DTEND;TZID=Europe/Bucharest:20180421T160000
DTSTAMP:20260424T182725
CREATED:20180303T205420Z
LAST-MODIFIED:20180303T205420Z
UID:43873-1521892800-1524326400@ghidlocal.com
SUMMARY:Ateliere de Sambata cu Beti Piscureanu
DESCRIPTION:Daca vrei sa iti petreci sfarsitul de saptamana intr-un mod creativ si relaxat\, atunci iti propunem sa ne dam intalnire Sambata cu Beti Piscureanu si universul materialelor textile din care vom coase lucruri minunate. \nAtelierele sunt atat pentru incepatori\, cat si pentru cei care cunosc deja cateva dintre secretele cusutului. Pentru o buna organizare\, va rugam sa anuntati inscrierea din timp.  \nAtelier 24 Martie\nCOLAJE TEXTILE – cusaturi manuale\nDurata: 3-4 ore\nCost: 120 lei/pers\, insa daca mai vii cu cineva\, veti plati impreuna 200 lei (100 lei/ pers)\nLocuri disponibile: 8\nCe vei invata: cusaturi manuale utilitare si decorative\, notiuni despre materiale textile\, folosirea corecta a accesoriilor de croitorie. \nAtelier 31 Martie\nFUSTA DREAPTA\nDurata: 5-6 ore\nCost: 220 lei/persoana (10% reducere daca vii cu masina ta de cusut)\nCe vei invata: realizarea tiparului pe masuri personalizate\, transfer pe material/croire\, coaserea\, surfilarea si asamblarea fustei\, montarea fermoarului\, realizarea tivului ascuns.\nLocuri disponibile: 5 \nAtelier 14 Aprilie\nPANTALONI ȘALVARI\nDurata: 4-5 ore\nCost: 180 lei/pers (10% reducere daca vii cu masina ta de cusut)\nCe vei invata: croirea\, coaserea\, surfilarea si asamblarea pantalonului\, montarea buzunarelor ascunse\, a beteliei si a elasticului\nLocuri disponibile: 5 \nAtelier 21 Aprilie\nFUSTA CLOȘ DIN TUL cu captuseala\nDurata: 5-6 ore\nCost: 240 lei/pers (10% reducere daca vii cu masina ta de cusut)\nCe vei invata: realizarea tiparului\, croirea\, coaserea\, surfilarea si asamblarea fustei\, montarea beteliei si a elasticului\nLocuri disponibile: 5 \n
URL:https://ghidlocal.com/brasov/eveniment/ateliere-de-sambata-cu-beti-piscureanu/
LOCATION:Ora0 Hive\, Str. RAZBOIENI NR.23\, Brasov\, RO
CATEGORIES:Cursuri
ATTACH;FMTTYPE=image/jpeg:https://cdn.cluj.com/ghidlocalcom/sites/6/2018/03/43873_image_28379608_1439614969484233_2322616450404214684_n.jpg
END:VEVENT
BEGIN:VEVENT
DTSTART;TZID=Europe/Bucharest:20180402T110000
DTEND;TZID=Europe/Bucharest:20180405T123000
DTSTAMP:20260424T182725
CREATED:20180326T080233Z
LAST-MODIFIED:20180326T080233Z
UID:46940-1522666800-1522931400@ghidlocal.com
SUMMARY:Atelier Primul meu teatru de papusi
DESCRIPTION:TEATRUL PENTRU COPII “ARLECHINO” BRASOV \nANUNȚĂ  ÎNCEPEREA ÎNSCRIERILOR  \npentru Modul II / 2018  \,  al atelierelor interactive de creație ARLECHINO ATELIERUL DE CREAȚIE ȘI RECREAȚIE \, care se va desfășura  în perioada 02 – 05 aprilie  2018 . \nModulul se intitulează  PRIMUL MEU TEATRU DE PĂPUȘI și  se adresează copiilor cu vârste începînd cu 6 ani  . \nPentru acest modul organizarea s-a stabilit pe o  grupă  cu 12 participanti\,  care se va desfășura zilnic în intervalul orar 11.oo-12.3o \nTariful de participare /copil  este:  120  lei  \nLocuri disponibile-   un număr de maxim 12 copii\nNu se fac înscrieri peste limita\nÎnscrierile pentru locurile disponibile  se fac în ordine cronologică  \, pe bază de FIȘĂ ÎNSCRIERE tip \, disponibilă la sediul organizatorului și pe baza achitării taxei de participare.\n Termenul limită pentru înscriere / achitare a taxei este data de 30.03. 2018. \nCoordonatorii atelierelor  sunt  actorii  Zaharie Manuela\, Stroe Marius\, Rujan Petronela\,  Dobrescu Adrian\, Vătavu Florența   și Kovacs Tunde – artist plastic /sculptor păpuși . \nVĂ MULȚUMIM ȘI VĂ AȘTEPTĂM CU DRAG  LA TEATRU  ! \n
URL:https://ghidlocal.com/brasov/eveniment/atelier-primul-meu-teatru-de-papusi/
LOCATION:Teatrul Arlechino Brasov\, Apollonia Hirscher nr.10\, Brasov\, 500025\, RO
CATEGORIES:Teatru Brasov
ATTACH;FMTTYPE=image/jpeg:https://cdn.cluj.com/ghidlocalcom/sites/6/2018/03/46940_image_29513077_2278456472187329_5537633011948732771_n.jpg
END:VEVENT
BEGIN:VEVENT
DTSTART;TZID=Europe/Bucharest:20180402T180000
DTEND;TZID=Europe/Bucharest:20180416T220000
DTSTAMP:20260424T182725
CREATED:20180326T132307Z
LAST-MODIFIED:20180326T132307Z
UID:46995-1522692000-1523916000@ghidlocal.com
SUMMARY:Curs de comunicare si public speaking
DESCRIPTION:Când spui cuvintele ”public speaker”\, adică vorbitor în public\, gândul te duce la o persoană care ține un discurs într-o sală publică\, pe o scenă imensă\, cu lumini din toate părțile și cu un public numeros. \nÎnsă adevărul este că vorbitori în public suntem toți. Indiferent de meseria de zi cu zi\, suntem vorbitori în public 24 de ore din 24.  \n– De ce să participi la Speakers Club? –\nPentru că cea mai rapidă și puternică forma de dezvoltare personală și profesională este vorbitul în public. \n– Ce este Speakers Club? –\nEste locul de practică pentru cei care își doresc să devină mai buni comunicatori și să aibă impact de fiecare dată când prezintă. \n– Ce se va întâmpla în cadrul acestui seminar? –\nLa acest seminar vei cunoaște comunitatea\, vei face networking\, vei afla tehnici de public speaking și le vei vedea aplicate în discursurile pregătite ale membrilor Speakers Club\, te vei distra\, te vei motiva și inspira! \n– Ce îți va oferi întâlnirea Speakers Club ? –\n1. Informații relevante despre vorbit în public (tehnici specifice prezentărilor cu public)\n2. Networking cu antreprenori și oameni de succes\, cu care poți lega parteneriate\n3. Un mediu profesionist în care să dezvolți abilitatea de a comunica și de a prezenta\n4. Ocazia de a susține un mini-discurs \n– Cât costă? –\nParticiparea costă 35 lei pentru fiecare dintre cei prezenți la întâlnire. \n– Cine este trainerul grupei? –\nTrainerul grupei este George Nedelcu\, antreprenor\, francizor Speakers Club Brasov\, trainer si speaker. \nTe poți înscrie pentru eveniment la:\nhttp://speakersclub.eu/training-brasov \nTe rugăm să te înscrii pe formular pentru că numărul de locuri este limitat! \n
URL:https://ghidlocal.com/brasov/eveniment/curs-de-comunicare-si-public-speaking/
LOCATION:Kronwell Hotel\, Brașov\, Brasov\, 500203\, RO
CATEGORIES:Workshop Brasov
ATTACH;FMTTYPE=image/jpeg:https://cdn.cluj.com/ghidlocalcom/sites/6/2018/03/46995_image_29468137_899594663576322_8639380991405719552_o.jpg
END:VEVENT
BEGIN:VEVENT
DTSTART;TZID=Europe/Bucharest:20180403T100000
DTEND;TZID=Europe/Bucharest:20180405T120000
DTSTAMP:20260424T182725
CREATED:20180330T123615Z
LAST-MODIFIED:20180330T123615Z
UID:47510-1522749600-1522929600@ghidlocal.com
SUMMARY:Atelier de Iepurș
DESCRIPTION:Va asteptam la un atelier de creatie vesel\, colorat si deloc complicat \nVom realiza impreuna decoratiuni cu motive Pascale: decupam\, lipim\, ornam\, pictam si ne distram!\nInscrie-te cu cel mic si hai sa-l surprindem pe Iepuras cu cel mai ingenious si dragalas cadou.\nAtelierul este dedicate parintilor si copiilor pana in 6 ani.\nTaxa de participare: 35 RON;\nCand? Marti 3 aprilie si joi 5 aprilie intre orele 10:00 si 12:00;\nUnde? La TIP TOP MinI CLuB \nLocurile sunt limitate la 5. Participarea se face doar pe baza de rezervare la numarul de telefon 0737 521 312 sau prin mesaj privat\, \n
URL:https://ghidlocal.com/brasov/eveniment/atelier-de-iepurs/
LOCATION:TIP TOP MInI CLuB\, Str. Ioan Popasu\, Brasov\, 507190\, RO
CATEGORIES:Activitati Copii
ATTACH;FMTTYPE=image/jpeg:https://cdn.cluj.com/ghidlocalcom/sites/6/2018/03/47510_image_29570458_162609684401610_5688897572691007233_n.jpg
END:VEVENT
BEGIN:VEVENT
DTSTART;TZID=Europe/Bucharest:20180404T220000
DTEND;TZID=Europe/Bucharest:20180405T060000
DTSTAMP:20260424T182725
CREATED:20180403T213349Z
LAST-MODIFIED:20180403T213349Z
UID:47991-1522879200-1522908000@ghidlocal.com
SUMMARY:Inspiration Night • Brancoveanu Cocktail Party\, 4.04 Times
DESCRIPTION:Times Brasov si Brancoveanu Vinars va invita la Cocktail Party dupa ora 22:00!\nInspiratie pentru serile care au nevoie de savoare.\nDescopera vinarsul Brancoveanu pur si simplu sau in mixuri atragatoare!\nMiercuri\, 4 Aprilie – pret special pentru cocktail-urile pe baza de Brancoveanu\nIntrare libera\, Rezervari 0736737373\nTimes #Brasov\, Str. Republicii\, Cladirea Modarom \n
URL:https://ghidlocal.com/brasov/eveniment/inspiration-night-%e2%80%a2-brancoveanu-cocktail-party-4-04-times/
LOCATION:Times Brasov\, Republicii 59 Modarom\, Brasov\, 500030\, RO
CATEGORIES:Party-uri Brasov
ATTACH;FMTTYPE=image/jpeg:https://cdn.cluj.com/ghidlocalcom/sites/6/2018/04/47991_image_30051698_1569354999829220_1568903109761190703_o.jpg
END:VEVENT
BEGIN:VEVENT
DTSTART;TZID=Europe/Bucharest:20180405T140000
DTEND;TZID=Europe/Bucharest:20180405T160000
DTSTAMP:20260424T182725
CREATED:20180331T074931Z
LAST-MODIFIED:20180331T074931Z
UID:47564-1522936800-1522944000@ghidlocal.com
SUMMARY:Viata in Lucruri Simple!Povesti in LUT!
DESCRIPTION:Scrie-ti si tu propria poveste in lut!\nTe invit  Joi 5 Martie 2018 sa iti petreci timpul in mod creativ si placut in cadrul atelierului de modelaj in lut si lucru la roata olarului!:)\nMa gasiti pe Dobrogea nr.9\, între 14h00-16h00.\nPret:35 de lei/1h30 modelaj in lut\n35 de lei/1ora roata olarului (doar cu programare)\nPentru inscrieri si detalii rog mesaj in privat pe pagina atelierului sau la tel.:0770810642\,0741321412 \n
URL:https://ghidlocal.com/brasov/eveniment/viata-in-lucruri-simplepovesti-in-lut-8/
LOCATION:Atelier de creatie artistica by Corina Baroianu\, Dobrogea nr.9\, Brasov\, 040198\, RO
CATEGORIES:Ateliere Brasov
ATTACH;FMTTYPE=image/jpeg:https://cdn.cluj.com/ghidlocalcom/sites/6/2018/03/47564_image_29570438_2061000814169494_6581475402331199241_n.jpg
END:VEVENT
BEGIN:VEVENT
DTSTART;TZID=Europe/Bucharest:20180405T170000
DTEND;TZID=Europe/Bucharest:20180407T000000
DTSTAMP:20260424T182725
CREATED:20180322T090743Z
LAST-MODIFIED:20180322T090743Z
UID:46489-1522947600-1523059200@ghidlocal.com
SUMMARY:Rockstadt Merch Area - Dark Side\, Niche\, Beauty Of Pain
DESCRIPTION:Pe parcursul celor trei zile de Rockstadt Indoor Fest\, clubul Rockstadt va fi transformat si in spatiu de merchandise\, astfel ca Dark Side Merch Division\, Niche Records si Beauty of Pain au acceptat invitatia de a participa fiecare cu o zona de merchandise diferita. \nAstfel\, Kruhnen Musik Halle va fi destinat exclusiv concertelor\, in timp ce Rockstadt va servi atat drept spatiu de relaxare cat si de merchandise\, urmand ca afterpartyurile sa aiba loc in acelasi loc. \nPentru spatiul de merchandise\, intrarea va fi libera\, astfel ca nu aveti nevoie de bilet pentru a participa. \nMai multe detalii puteti afla mai jos: \nhttps://merch.dark-side.ro/\nhttps://www.nicherecords.ro/\nhttp://www.beautyofpain.ro/ \nRockstadt Indoor Fest are loc in perioada 5-7 aprilie\, iar toate detaliile despre festival le puteti gasi aici: https://www.facebook.com/events/1985042488434193/ \n
URL:https://ghidlocal.com/brasov/eveniment/rockstadt-merch-area-dark-side-niche-beauty-of-pain/
LOCATION:Rockstadt\, Strada Nicolae Titulescu\, Brasov\, 500271\, RO
CATEGORIES:Party-uri Brasov
ATTACH;FMTTYPE=image/jpeg:https://cdn.cluj.com/ghidlocalcom/sites/6/2018/03/46489_image_29472353_1851442501567697_4752921582188575788_n.jpg
END:VEVENT
BEGIN:VEVENT
DTSTART;TZID=Europe/Bucharest:20180405T170000
DTEND;TZID=Europe/Bucharest:20180405T183000
DTSTAMP:20260424T182725
CREATED:20180331T074933Z
LAST-MODIFIED:20180331T074933Z
UID:47566-1522947600-1522953000@ghidlocal.com
SUMMARY:Atelier de Încondeiat Oua
DESCRIPTION:Am dat startul înscrierilor pentru cel mai frumos și provocator atelier:Incondeierea Ouălor de Paște. Folosind chisita-instrumentul de încondeiat oua și ceara naturala de albine\, vom deprinde tehnica celui mai vechi obicei de Paște.Program:17h00-18h30                                                                                                                                                                                                                                   Taxa participare:50 lei                                                                           Pentru inscrieri rog mesaj in privat pe pagina atelierului sau la tel. :077081064\, 0741321412                                                         Va doresc o primăvara frumoasa! \n
URL:https://ghidlocal.com/brasov/eveniment/atelier-de-incondeiat-oua-4/
LOCATION:Atelier de creatie artistica by Corina Baroianu\, Dobrogea nr.9\, Brasov\, 040198\, RO
CATEGORIES:Ateliere Brasov
ATTACH;FMTTYPE=image/jpeg:https://cdn.cluj.com/ghidlocalcom/sites/6/2018/03/47566_image_29662878_2061000394169536_4424197495815935307_o.jpg
END:VEVENT
BEGIN:VEVENT
DTSTART;TZID=Europe/Bucharest:20180405T180000
DTEND;TZID=Europe/Bucharest:20180407T235900
DTSTAMP:20260424T182725
CREATED:20171123T075041Z
LAST-MODIFIED:20171123T075041Z
UID:29463-1522951200-1523145540@ghidlocal.com
SUMMARY:Rockstadt Indoor Festival / 5-7 aprilie / Brasov
DESCRIPTION:Al doilea festival major indoor sub titulatura Rockstadt va avea loc in perioada 5-7 aprilie\, la Kruhnen Musik Halle din Brasov si isi propune sa reuneasca\, din nou\, nume etalon ale scenei metal internationale cu showuri exclusive in Romania.  \nPrimele confirmari\, precum si detalii despre bilete\, in cel mai scurt timp. \n
URL:https://ghidlocal.com/brasov/eveniment/rockstadt-indoor-festival-5-7-aprilie-brasov/
LOCATION:Kruhnen Musik Halle\, Nicolae Titulescu\, 2P\, Brasov\, RO
CATEGORIES:Party-uri Brasov
ATTACH;FMTTYPE=image/jpeg:https://cdn.cluj.com/ghidlocalcom/sites/6/2017/11/29463_image_23755192_982749051874529_1950242008168758813_n.jpg
END:VEVENT
BEGIN:VEVENT
DTSTART;TZID=Europe/Bucharest:20180405T190000
DTEND;TZID=Europe/Bucharest:20180405T213000
DTSTAMP:20260424T182725
CREATED:20180331T080035Z
LAST-MODIFIED:20180331T080035Z
UID:47590-1522954800-1522963800@ghidlocal.com
SUMMARY:Concert Vocal - Simfonic Dedicat Sarbatorilor de Paste
DESCRIPTION:Concert Vocal -Simfonic Extraordinar Dedicat Sarbatorilor de Paste\nJoi\, 5 aprilie 2018\, ora 19.00 \nDirijor: MIHAIL AGAFIȚA\nSolisti: CRISTINA RADU – soprană\nASINETA RĂDUCAN – mezzosoprană\nTIBERIUS SIMU – tenor\nCRISTIAN HODREA – bas\nCORUL MIXT AL FILARMONICII DE STAT TÂRGU-MUREȘ –  Dirijor cor – VASILE CAZAN  \nIn program:\nJ. Haydn – Simfonia nr. 30 în Do major „Allelujah” \nW. A. Mozart – Missa Solemnis în do minor KV 139 \nBiletele se pot procura de la SALA „PATRIA” din Bulevardul 15 Noiembrie\, nr. 50A.\nPROGRAM AGENŢIA DE BILETE:\nLuni şi miercuri între orele 12 – 15;\nMarţi şi joi între orele 16 – 18. \n
URL:https://ghidlocal.com/brasov/eveniment/concert-vocal-simfonic-dedicat-sarbatorilor-de-paste/
LOCATION:Filarmonica Brasov\, 15 Noiembrie\, nr. 50A.\, Brasov\, 500097\, RO
CATEGORIES:Cultural
ATTACH;FMTTYPE=image/jpeg:https://cdn.cluj.com/ghidlocalcom/sites/6/2018/03/47590_image_21457818_981988258619461_8808644672923052427_o.jpg
END:VEVENT
BEGIN:VEVENT
DTSTART;TZID=Europe/Bucharest:20180405T200000
DTEND;TZID=Europe/Bucharest:20180405T200000
DTSTAMP:20260424T182725
CREATED:20180326T144341Z
LAST-MODIFIED:20180326T144341Z
UID:47009-1522958400-1522958400@ghidlocal.com
SUMMARY:Concert Daniel Iancu @ Folk 4 You
DESCRIPTION:
URL:https://ghidlocal.com/brasov/eveniment/concert-daniel-iancu-folk-4-you/
LOCATION:Casa Avram Iancu\, Str. Avram Iancu nr. 76\, Brasov\, 500075\, RO
CATEGORIES:Concerte Brasov
ATTACH;FMTTYPE=image/jpeg:https://cdn.cluj.com/ghidlocalcom/sites/6/2018/03/47009_image_29060712_563861353988686_2267652382954046605_o.jpg
END:VEVENT
BEGIN:VEVENT
DTSTART;TZID=Europe/Bucharest:20180405T200000
DTEND;TZID=Europe/Bucharest:20180406T010000
DTSTAMP:20260424T182725
CREATED:20180402T213148Z
LAST-MODIFIED:20180402T213148Z
UID:47884-1522958400-1522976400@ghidlocal.com
SUMMARY:Back to the Old School
DESCRIPTION:Seara de joi o dedicam iubitorilor de BLUES !\nAducem tribut celor mai mari nume ale tuturor timpurilor și le dăm viață prin comoara primită de la ei – muzica de calitate ! \nINFO & RSVP: 0733 800 700\nM.Kogalniceanu 15\, Brasov \n
URL:https://ghidlocal.com/brasov/eveniment/back-to-the-old-school-2/
LOCATION:Temple Pub\, Strada Mihail Kogalniceanu no. 15\, Brasov\, 500173\, RO
CATEGORIES:Party-uri Brasov
ATTACH;FMTTYPE=image/jpeg:https://cdn.cluj.com/ghidlocalcom/sites/6/2018/04/47884_image_29749499_1901291403237776_6059614561848822499_o.jpg
END:VEVENT
BEGIN:VEVENT
DTSTART;TZID=Europe/Bucharest:20180405T220000
DTEND;TZID=Europe/Bucharest:20180406T060000
DTSTAMP:20260424T182725
CREATED:20180404T070909Z
LAST-MODIFIED:20180404T070909Z
UID:47997-1522965600-1522994400@ghidlocal.com
SUMMARY:Girls Night Out 05.04.2018
DESCRIPTION:Grab your girls!!???\nFetele știu deja unde să își petreacă mult așteptata seară de joi.\nGet your high heels & dress to impress și vino in 4rooms unde distracția e la ea acasă. ??\nIntrarea este gratuită pentru voi\, iar barmanii vă fac cinste toată noaptea.\n#FreeDrinks for #FreeLadies! ??\nP.S. Băieții sunt invitați să își încerce norocul  ?  \n ⚡️Happy Hour ⚡️\n    ?21:00-00:00?\nBallantines 700ml – 90 lei\nWyborowa 700ml – 90 lei\nHavana 700ml – 90 lei\nRamazzotti – 90 lei\nVin Recaș – 25 lei\nUrsus – 4 lei\nCola/Fanta/Sprite – 4 lei\nRed Bull – 7 lei\nWhiskey juice – 8 lei\nVodka juice – 8 lei\nCuba Libre – 8 lei\nShot tequila – 5 lei ?\nShot Ramazzotti – 5 lei\nShot Kamikaze – 5 lei\n☝? ☝? ☝? ☝? \nIntrare: 10 lei (bon neconsumabil)\nIntrarea liberă pe baza flyer ului pana la ora 00:00!!\nTake your table now?? :0771444444!! \n
URL:https://ghidlocal.com/brasov/eveniment/girls-night-out-05-04-2018/
CATEGORIES:Party-uri Brasov
ATTACH;FMTTYPE=image/jpeg:https://cdn.cluj.com/ghidlocalcom/sites/6/2018/04/47997_image_30052089_1030270657122106_3887668742309832772_o.jpg
END:VEVENT
BEGIN:VEVENT
DTSTART;TZID=Europe/Bucharest:20180405T230000
DTEND;TZID=Europe/Bucharest:20180406T060000
DTSTAMP:20260424T182725
CREATED:20180330T080324Z
LAST-MODIFIED:20180330T080324Z
UID:47470-1522969200-1522994400@ghidlocal.com
SUMMARY:PETYT - KTZA :: VintageBrasov
DESCRIPTION:♪♫ Line up ♪♫\n–––––––––\n❁PETYT\n❁KTZA\n–––––––––\nTHURSDAY | 05.04.2018 | 23:00 [at] VintageBrasov\n–––––––––\nBook your table – 0745 050 487 \n
URL:https://ghidlocal.com/brasov/eveniment/petyt-ktza-vintagebrasov/
LOCATION:Vintage Club Brasov\, str. Sirul Livezii\, nr. 2A\, Brasov\, 500050\, RO
CATEGORIES:Party-uri Brasov
ATTACH;FMTTYPE=image/jpeg:https://cdn.cluj.com/ghidlocalcom/sites/6/2018/03/47470_image_29542919_1848755948502295_1397681337768790231_n.jpg
END:VEVENT
BEGIN:VEVENT
DTSTART;TZID=Europe/Bucharest:20180405T230000
DTEND;TZID=Europe/Bucharest:20180406T050000
DTSTAMP:20260424T182725
CREATED:20180402T231141Z
LAST-MODIFIED:20180402T231141Z
UID:47892-1522969200-1522990800@ghidlocal.com
SUMMARY:Don’t Tell Your Boyfriend
DESCRIPTION:FREE drinks for the ladies ALL NIGHT LONG ! ?\nSpecial vibes by DJ Lau Maftei & MC Florin Topor \nGet ready for the most EPIC night of your life! ?\nSpecial prices | Lights | Music | Magic Moments\n–––––––––-\nJOIN US! Free Entry!\nDoors Open at 23:00 | RSVP: 0799 100 200\nDress code: smart casual \nAccesul este permis doar persoanelor care au împlinit vârsta de 18 ani!\nMOVE Club isi rezerva dreptul\, de a-si selecta clientela! \nartwork by: Roland Muresan \n
URL:https://ghidlocal.com/brasov/eveniment/dont-tell-your-boyfriend-4/
LOCATION:MOVE Club\, Mihail Kogalniceanu\, nr 15\, Brasov\, 500090\, RO
CATEGORIES:Party-uri Brasov
ATTACH;FMTTYPE=image/jpeg:https://cdn.cluj.com/ghidlocalcom/sites/6/2018/04/47892_image_29597627_1693542470728349_5985411410715409082_n.jpg
END:VEVENT
END:VCALENDAR