BEGIN:VCALENDAR
VERSION:2.0
PRODID:-//Ghid Local Brasov - ECPv5.1.1//NONSGML v1.0//EN
CALSCALE:GREGORIAN
METHOD:PUBLISH
X-WR-CALNAME:Ghid Local Brasov
X-ORIGINAL-URL:https://ghidlocal.com/brasov
X-WR-CALDESC:Events for Ghid Local Brasov
BEGIN:VTIMEZONE
TZID:Europe/Bucharest
BEGIN:DAYLIGHT
TZOFFSETFROM:+0200
TZOFFSETTO:+0300
TZNAME:EEST
DTSTART:20180325T010000
END:DAYLIGHT
BEGIN:STANDARD
TZOFFSETFROM:+0300
TZOFFSETTO:+0200
TZNAME:EET
DTSTART:20181028T010000
END:STANDARD
END:VTIMEZONE
BEGIN:VEVENT
DTSTART;TZID=Europe/Bucharest:20180316T220000
DTEND;TZID=Europe/Bucharest:20180319T060000
DTSTAMP:20260421T122819
CREATED:20180312T213252Z
LAST-MODIFIED:20180312T213252Z
UID:45238-1521237600-1521439200@ghidlocal.com
SUMMARY:St. Patrick's Week-End in Times [16-18 Martie]
DESCRIPTION:Join the party in Times!\nThis week-end\, drink Guinness & win a lot of prizes!\nFree entry\,\nRSVP: 0736 73 73 73\n#TimesBrasov. Republicii Str\, Modarom Building \n
URL:https://ghidlocal.com/brasov/eveniment/st-patricks-week-end-in-times-16-18-martie/
LOCATION:Times Brasov\, Republicii 59 Modarom\, Brasov\, 500030\, RO
CATEGORIES:Party-uri Brasov
ATTACH;FMTTYPE=image/jpeg:https://cdn.cluj.com/ghidlocalcom/sites/6/2018/03/45238_image_29103379_1547683171996403_2016776063627034624_o.jpg
END:VEVENT
BEGIN:VEVENT
DTSTART;TZID=Europe/Bucharest:20180317T170000
DTEND;TZID=Europe/Bucharest:20180331T160000
DTSTAMP:20260421T122819
CREATED:20180310T074242Z
LAST-MODIFIED:20180310T074242Z
UID:44911-1521306000-1522512000@ghidlocal.com
SUMMARY:URBAN\, de Radu Dumitrescu la Stâlpul Debutantului
DESCRIPTION:Fotografie. Pictură. Grafică. Gravură. Sculptură.\nLiteratură. Poezie. GIF. Colaje. Ilustrații. Comics. \nTipografia inaugurează Stâlpul.\nStâlpul debutantului\nPatru fețe de expunere\nPatru perspective\nDouă săptămâni de interacțiune cu Humans of Tipografia\nUn artist debutant\nUn curator care va da #bundetipar. \nDeschidem seria expozițională cu Radu Dumitrescu.\n”URBAN”\nfotografie\n17 – 31 martie \nRadu a fost mereu un visător îndrăzneț. Asta l-a ajutat să vizualizeze lucrurile diferit.\nLucrează ca front end developer. Asta nu înseamnă că începând din clasa a VIII-a nu a știut să folosească prima lui cameră foto sustrasă discret de la tatăl său.\nMijloacele moderne l-au adus în locul cu Zăganu și cu oameni faini din Tipografia. De aici și îndrăzneala abordării fotografiei cu tema urbană. \nBun de tipar: 0722 373 090\nMulțumim\, George Rosu! \n#stalpuldebutantului\n#avanpostculturaltipografia \n
URL:https://ghidlocal.com/brasov/eveniment/urban-de-radu-dumitrescu-la-stalpul-debutantului/
LOCATION:Tipografia\, Str. Postăvarului Nr.1 (colț cu Str. Diaconu Coresi)\, Brasov\, 500024\, RO
CATEGORIES:Altele
ATTACH;FMTTYPE=image/jpeg:https://cdn.cluj.com/ghidlocalcom/sites/6/2018/03/44911_image_28616475_2041269919484079_8905861644331673218_o.jpg
END:VEVENT
BEGIN:VEVENT
DTSTART;TZID=Europe/Bucharest:20180319T080000
DTEND;TZID=Europe/Bucharest:20180323T160000
DTSTAMP:20260421T122819
CREATED:20171124T080524Z
LAST-MODIFIED:20171124T080524Z
UID:29649-1521446400-1521820800@ghidlocal.com
SUMMARY:GWO - curs siguranta eoliene
DESCRIPTION:Pentru inregistrare contactati: \ntel: 0268 336 658\nmob: 0744 755 391\nemail: training@e-solo.ro \n
URL:https://ghidlocal.com/brasov/eveniment/gwo-curs-siguranta-eoliene-8/
LOCATION:SOLO Training\, Calea Bucuresti 259\, Brasov\, 500299\, RO
CATEGORIES:Ateliere Brasov,Cultural,Cursuri
ATTACH;FMTTYPE=image/jpeg:https://cdn.cluj.com/ghidlocalcom/sites/6/2017/11/29649_image_23847411_1470653949720046_4554071010221314332_o.jpg
END:VEVENT
BEGIN:VEVENT
DTSTART;TZID=Europe/Bucharest:20180319T090000
DTEND;TZID=Europe/Bucharest:20180320T180000
DTSTAMP:20260421T122819
CREATED:20180227T225512Z
LAST-MODIFIED:20180227T225512Z
UID:43112-1521450000-1521568800@ghidlocal.com
SUMMARY:CURS EXTENSII GENE FIR CU FIR
DESCRIPTION:http://www.ludmilamakeup.ro/cursuri/curs-extensii-fir-cu-fir.html \n
URL:https://ghidlocal.com/brasov/eveniment/curs-extensii-gene-fir-cu-fir/
LOCATION:Ludmila Bordianu Beauty Academy\, Brasov\, Racadau str. Jepilor A 6A colt cu Maciesului 2B pe pietonala ( lîngă sala Ursu)\, Brasov\, RO
CATEGORIES:Cursuri
ATTACH;FMTTYPE=image/jpeg:https://cdn.cluj.com/ghidlocalcom/sites/6/2018/02/43112_image_28060955_1592484487454036_3512965842725584383_o.jpg
END:VEVENT
BEGIN:VEVENT
DTSTART;TZID=Europe/Bucharest:20180319T090000
DTEND;TZID=Europe/Bucharest:20180320T180000
DTSTAMP:20260421T122819
CREATED:20180314T225530Z
LAST-MODIFIED:20180314T225530Z
UID:45565-1521450000-1521568800@ghidlocal.com
SUMMARY:CURS EXTENSII GENE FIR CU FIR
DESCRIPTION:http://www.ludmilamakeup.ro/cursuri/curs-extensii-fir-cu-fir.html \n
URL:https://ghidlocal.com/brasov/eveniment/curs-extensii-gene-fir-cu-fir-2/
LOCATION:Ludmila Bordianu Beauty Academy\, Brasov\, Racadau str. Jepilor A 6A colt cu Maciesului 2B pe pietonala ( lîngă sala Ursu)\, Brasov\, RO
CATEGORIES:Cursuri
ATTACH;FMTTYPE=image/jpeg:https://cdn.cluj.com/ghidlocalcom/sites/6/2018/03/45565_image_29063220_1620295161339635_7023542925178961920_o.jpg
END:VEVENT
BEGIN:VEVENT
DTSTART;TZID=Europe/Bucharest:20180319T100000
DTEND;TZID=Europe/Bucharest:20180320T190000
DTSTAMP:20260421T122819
CREATED:20180111T151411Z
LAST-MODIFIED:20180111T151411Z
UID:34683-1521453600-1521572400@ghidlocal.com
SUMMARY:Matilda Inozemtseva\, Brasov\, 19-20 martie
DESCRIPTION:???MATILDA INOZEMTSEVA revine in Romania. Inscrieri la 0753602554 / 0745174661  \nTurneul de masterclass-uri a cate 2 zile fiecare in 5 orase – ✳️SUCEAVA\, ✳️ARAD\,✳️SEBES\, ✳️BRASOV\, ✳️BUCURESTI si ✳️CONSTANTA.  \nProgramul este unul de „Beauty&Fashion” si in cele 6 demonstratii de machiaj – vom trece gradual de la cel nude\, comercial (de mireasa\, de seara\, de corectie) -pana la cel creativ.  \n?PRET – 700 lei (2 zile demo)\n10:00 – 20:00 (cu pauza de masa 1h)  \n?rezervarea locului in baza achitarii un avans de 100 lei. In cazul neprezentarii acesta nu se va restitui ? \n
URL:https://ghidlocal.com/brasov/eveniment/matilda-inozemtseva-brasov-19-20-martie/
LOCATION:Brasov\, Romania\, Brasov\, RO
CATEGORIES:Workshop Brasov
ATTACH;FMTTYPE=image/jpeg:https://cdn.cluj.com/ghidlocalcom/sites/6/2018/01/34683_image_26240051_679385985603511_4919384585851631051_o.jpg
END:VEVENT
BEGIN:VEVENT
DTSTART;TZID=Europe/Bucharest:20180319T170000
DTEND;TZID=Europe/Bucharest:20180321T210000
DTSTAMP:20260421T122819
CREATED:20180224T081024Z
LAST-MODIFIED:20180224T081024Z
UID:42525-1521478800-1521666000@ghidlocal.com
SUMMARY:Workshop automachiaj After Work "Alege să fii autentică!"
DESCRIPTION:Se întâmplă ca machiajul să-ţi dea bătăi de cap? Ai vrea să ieşi mereu din casă ca şi când te-ar fi machiat un profesionist? Îţi doreşti să te machiezi\, dar nu ştii ce ţi se potriveşte şi cum să o faci? \nNICIO PROBLEMĂ! Te ajutăm noi… 🙂 \nTe învăţăm tehnicile de bază\, îţi dăm sfaturi personalizate\, tips & tricks şi cel mai important\, le punem în practică împreună pentru ca tu\, să poţi realiza acasă machiajele tale preferate. \nCE ÎŢI OFERIM?\n-vino cu trusa ta de machiaj şi te învăţăm cum să foloseşti toate produsele pe care le ai economic şi eficient! Vom afla împreună dacă mai ai nevoie şi de alte produse şi te vom sfătui să faci cele mai bune achiziţii;\n-acces la produse profesionale puse la dispoziţie de către trainer;\n-mediu cald\, prietenos\, intim cu grupuri mici (4-6 persoane) pentru a-ţi putea oferi atenţia de care ai nevoie;\n-informaţii personalizate\, recomandări;\n-ocazia să testezi nuanţe de farduri\, rujuri pe care nu ai avut curajul sau posibilitatea de a le încerca; \nCÂT DUREAZĂ?\nWorkshopul se desfăşoară luni (19.03.2018) și miercuri (21.03.2018) între orele 17:00 – 21:00 \nPREŢ? \nLa noi toată luna martie este Ziua Femeii! Vino în luna martie la workshop-ul de automachiaj și vei avea un marțișor de 100 de lei\, sub formă de reducere. \nVii singura? 400 lei/persoană\nSunteți 2? 350 lei/persoană\nSunteți 3? 300 lei persoană\nSunteți mai mult de 4? 250 lei/ persoană \n* La prețurile de mai sus se aplică reducerea de marțișor! \nCafeaua\, ceaiul şi prăjiturele sunt din partea casei!\nSocializăm\, ne distrăm şi în plus şi învăţăm!! \nTRAINER Oana-Patricia Potecea\n– absolventă a şcolii de make up Ramona Chiriţă\, Braşov\, (ian 2017);\n– masterclass make-up Inna Mushinskaia (mai 2017);\n– masterclass make-up Eleonora Molocia (august 2017);\n– curs de bază Consultanţă de Imagine\, Luxury Academy (decembrie 2017);\n– curs design vestimentar \,\,De la schiţă la colecţie” by Dana Tănase\, Braşov\, (septembrie 2017);\n– curs design vestimentar\, Universitatea Populară \,\,Ioan I. Dalles”\, Bucureşti\, (oct 2005);\n– speaker Speakers Club Braşov\, 2016 – 2017\n– speaker Toastmasters\, 2014 – 2015\n– absolventă a Şcolii de Televiziune \,\,Tudor Vornicu”\, Bucureşti\, (2010);\n– curs acreditat MEC\, Design Interior\, Eurocor\, Bucureşti\, (apr 2016);\n– trainer acreditat MEC\, (noi 2016);\n– NLP Practitioner (iul 2017)\n– consilier dezvoltare personală\, acreditat MEC\, (noi 2016) \nNe machiem cu produse profesionale cum ar fi: Atelier Paris\, MaqPro\, Make up Forever\, Ben Nye\, Loreal. \nIMPORTANT!\nPentru confirmare\, lasă un mesaj privat pe Messenger sau SMS la 0725739977 cu numele tău complet şi numărul de telefon. \n
URL:https://ghidlocal.com/brasov/eveniment/workshop-automachiaj-after-work-alege-sa-fii-autentica-5/
LOCATION:ImaGOO Design\, Bd. Mihail Kogalniceanu\, nr.11\, bl C1\, etj 3\, Brasov\, 500090\, RO
CATEGORIES:Workshop Brasov
ATTACH;FMTTYPE=image/jpeg:https://cdn.cluj.com/ghidlocalcom/sites/6/2018/02/42525_image_28336457_2057938144231341_2266146817753697844_o.jpg
END:VEVENT
BEGIN:VEVENT
DTSTART;TZID=Europe/Bucharest:20180319T170000
DTEND;TZID=Europe/Bucharest:20180319T190000
DTSTAMP:20260421T122819
CREATED:20180226T151604Z
LAST-MODIFIED:20180226T151604Z
UID:42830-1521478800-1521486000@ghidlocal.com
SUMMARY:Curs de Chitara pentru copii si adulti
DESCRIPTION:Din luna martie\, dam startul inscrierilor la cursurile de chitara\, atat pentru adulti cat si pentru copii\, avandu-l ca trainer pe Constantinescu Radu.  \nCost curs: 250 de lei/luna (pe 4 sedinte- abonament lunar)- se plateste la inceput de luna pentru luna in curs. Datele de plata sunt fixe\, indiferent de numarul de absente in luna respectiva. \nSedinta are intre 1h si 1hsi30 de min (in functie de varsta participantilor)\nGrupa este de minim 2 persoane si maxim 4 persoane. \nGrupa copii1: minim 7 ani\, maxim 9 ani\nGrupa copii2: minim10 ani\, maxim 13 ani\nGrupa adolescenti: minim 14\, maxim 17 ani\nGrupa adulti: peste 18 ani \nCa si zile de curs si intervale orare\, alternativele sunt:\nLuni: orele 16:30-18:30 (sau 17:00-19:00)\nMiercuri: orele 16:30- 17:30 sau 17:00-18:00\nVineri: orele 16:30-18:30 \nPentru inscriere\, va rugam sa apasati „Particip/Going” si sa trimiteti un mesaj de confirmare ferma pe pagina Ora0\, cu nr de telefon si grupa dorita.  \nRadu are 22 de ani\, este student\, canta de 10 ani la chitara si este activ in 3 trupe. Adora sa invete si pe ceilalti sa iubeasca chitara asa cum o iubeste el si sa-i vada cuceriti pe viata de muzica\, exact asa ca si el.\nRadu va aborda si teorie muzicala\, pe langa tehnica si practica pe anumite piese. \nReady to rock? 🙂 \n
URL:https://ghidlocal.com/brasov/eveniment/curs-de-chitara-pentru-copii-si-adulti/
LOCATION:Ora0\, De Mijloc nr.133\, Brasov\, RO
CATEGORIES:Cursuri
ATTACH;FMTTYPE=image/jpeg:https://cdn.cluj.com/ghidlocalcom/sites/6/2018/02/42830_image_28423151_1434673449978385_8401431620144473338_o.jpg
END:VEVENT
BEGIN:VEVENT
DTSTART;TZID=Europe/Bucharest:20180319T173000
DTEND;TZID=Europe/Bucharest:20180319T193000
DTSTAMP:20260421T122819
CREATED:20180305T080652Z
LAST-MODIFIED:20180305T080652Z
UID:44103-1521480600-1521487800@ghidlocal.com
SUMMARY:Atelier de încondeiat ouă - motive tradiţionale din Ţara Bârsei
DESCRIPTION:Datorită interesului deosebit pentru acest atelier\, am decis ca in acest an sa organizam si un al  doilea atelier de încondeiat ouă cu motive tradiţionale din Ţara Bârsei.  \nAsociaţia Culturală Artessentia din Scheii Brasovului se alătură  Festivalului Gloria Domini\, printr-o serie de ateliere de arte și meșteșuguri uitate specifice zonei\, în spiritul sărbătorii de Paști.  \nLuni\, 19 martie\, vă invităm să redescoperiți oul încondeiat în tehnica tradițională din Țara Bârsei – cea a crutării fondului și a suprapunerii de culori. Vom învăța să așternem cu condeiul\, ceară de albine în formă de floare în ghiveci\, frunză\, soare\, stea\, pomul vieții\, cârligul ciobanului\, mâna protectoare și alte motive tradiţionale din Ţara Bârsei. \nAtelierul este susţinut de artistele Victoria Ţăroi şi Georgiana Gămălie\, artiste vizuale  membre fondatoare ale Asociaţiei Culturale Artessentia. \nAtelierul se adresează adulților și copiilor peste 12 ani. \nTaxa participare: 50 lei\nSunt incluse\n– îndrumarea de specialitate\n– materialele şi ustensilele necesare încondeierii\n– tratația din pauza de cafea\n___________________________________\nÎNSCRIERI atelier: prin mesaj cu titlul „Incondeiere 2” la adresa casajunilor@gmail.com\, împreună cu datele dumneavoastră de contact (număr de telefon și nume complet). Veți primi un mesaj de confirmare a participării. \nVa așteptăm! \n
URL:https://ghidlocal.com/brasov/eveniment/atelier-de-incondeiat-oua-motive-traditionale-din-tara-barsei-2/
LOCATION:Casa Junilor\, Prundului 1\, Brasov\, 500123\, RO
CATEGORIES:Cultural
ATTACH;FMTTYPE=image/jpeg:https://cdn.cluj.com/ghidlocalcom/sites/6/2018/03/44103_image_28870193_1985298228351793_7064239846318453718_n.jpg
END:VEVENT
BEGIN:VEVENT
DTSTART;TZID=Europe/Bucharest:20180319T180000
DTEND;TZID=Europe/Bucharest:20180319T220000
DTSTAMP:20260421T122819
CREATED:20180305T132301Z
LAST-MODIFIED:20180305T132301Z
UID:44175-1521482400-1521496800@ghidlocal.com
SUMMARY:Curs de public speaking
DESCRIPTION:Când spui cuvintele ”public speaker”\, adică vorbitor în public\, gândul te duce la o persoană care ține un discurs într-o sală publică\, pe o scenă imensă\, cu lumini din toate părțile și cu un public numeros. \nÎnsă adevărul este că vorbitori în public suntem toți. Indiferent de meseria de zi cu zi\, suntem vorbitori în public 24 de ore din 24.  \n– De ce să participi la Speakers Club? –\nPentru că cea mai rapidă și puternică forma de dezvoltare personală și profesională este vorbitul în public. \n– Ce este Speakers Club? –\nEste locul de practică pentru cei care își doresc să devină mai buni comunicatori și să aibă impact de fiecare dată când prezintă. \n– Ce se va întâmpla în cadrul acestui seminar? –\nLa acest seminar vei cunoaște comunitatea\, vei face networking\, vei afla tehnici de public speaking și le vei vedea aplicate în discursurile pregătite ale membrilor Speakers Club\, te vei distra\, te vei motiva și inspira! \n– Ce îți va oferi întâlnirea Speakers Club ? –\n1. Informații relevante despre vorbit în public (tehnici specifice prezentărilor cu public)\n2. Networking cu antreprenori și oameni de succes\, cu care poți lega parteneriate\n3. Un mediu profesionist în care să dezvolți abilitatea de a comunica și de a prezenta\n4. Ocazia de a susține un mini-discurs \n– Cât costă? –\nParticiparea costă 35 lei pentru fiecare dintre cei prezenți la întâlnire. \n– Cine este trainerul grupei? –\nTrainerul grupei este George Nedelcu\, antreprenor\, francizor Speakers Club Brasov\, trainer si speaker. \nTe poți înscrie pentru eveniment la:\nhttp://speakersclub.eu/training-brasov \nTe rugăm să te înscrii pe formular pentru că numărul de locuri este limitat! \n
URL:https://ghidlocal.com/brasov/eveniment/curs-de-public-speaking-2/
LOCATION:Kronwell Hotel\, Brașov\, Brasov\, 500203\, RO
CATEGORIES:Workshop Brasov
ATTACH;FMTTYPE=image/jpeg:https://cdn.cluj.com/ghidlocalcom/sites/6/2018/03/44175_image_28336022_889140277955094_4113366870574699586_o.jpg
END:VEVENT
BEGIN:VEVENT
DTSTART;TZID=Europe/Bucharest:20180319T183000
DTEND;TZID=Europe/Bucharest:20180319T213000
DTSTAMP:20260421T122819
CREATED:20180228T144133Z
LAST-MODIFIED:20180228T144133Z
UID:43377-1521484200-1521495000@ghidlocal.com
SUMMARY:Baletul Îngerilor
DESCRIPTION:Elevii Colegiului Național de Coregrafie din Chișinău aduc în fața brașovenilor “Baletul Îngerilor”. În cadrul spectacolului vor fi prezentate piese coregrafice din baletele romantic și clasice\, coregrafii neo-clasice și contemporane.\nVă așteptăm în 19 martie\, la Opera Brașov\, de la ora 18:30!\nIntrarea este liberă\, în limita locurilor disponibile. \n
URL:https://ghidlocal.com/brasov/eveniment/baletul-ingerilor/
LOCATION:Opera Braşov\, Strada Bisericii Române nr. 51\, Brasov\, 500080\, RO
CATEGORIES:Cultural
ATTACH;FMTTYPE=image/jpeg:https://cdn.cluj.com/ghidlocalcom/sites/6/2018/02/43377_image_28336739_479910009077790_8568598243798673222_o.jpg
END:VEVENT
BEGIN:VEVENT
DTSTART;TZID=Europe/Bucharest:20180319T190000
DTEND;TZID=Europe/Bucharest:20180319T210000
DTSTAMP:20260421T122819
CREATED:20180313T122520Z
LAST-MODIFIED:20180313T122520Z
UID:45349-1521486000-1521493200@ghidlocal.com
SUMMARY:Uciderea cerbului sacru (2017)
DESCRIPTION:Seara filmului european @ Cinemateca Patria \nUciderea cerbului sacru / The Killing of a Sacred Deer (Anglia\, Irlanda\, 2017) \n-Premiul pentru cel mai bun scenariu la festivalul de la Cannes 2017-  \nPreț bilet: 10 lei \nSteven (Colin Farrell)\, un chirurg foarte bun\, este căsătorit cu Anna (Nicole Kidman)\, oftalmolog foarte respectat. Au o viață bună și fericită\, împreună cu cei doi copii\, Kim\, în vârstă de 14 ani (Raffey Cassidy) și Bob\, de 12 ani (Sunny Suljic). Steven se împrietenește cu Martin (Barry Keoghan)\, un adolescent de 16 ani\, care nu are tată și pe care chirurgul îl va lua sub aripa sa protectoare. Lucrurile iau o turnură sinistră când Steven îl prezintă pe Martin familiei sale. Lumea lor începe să se destrame\, iar Steven este pus în fața unui sacrificiu de neimaginat. \nINTERZIS MINORILOR! \n
URL:https://ghidlocal.com/brasov/eveniment/uciderea-cerbului-sacru-2017/
LOCATION:Cinemateca_Patria\, Bulevardul 15 Noiembrie 50\, Brașov\, Brasov\, RO
CATEGORIES:Film Brasov
ATTACH;FMTTYPE=image/jpeg:https://cdn.cluj.com/ghidlocalcom/sites/6/2018/03/45349_image_28958834_1575323879189094_126251933760487424_o.jpg
END:VEVENT
BEGIN:VEVENT
DTSTART;TZID=Europe/Bucharest:20180319T193000
DTEND;TZID=Europe/Bucharest:20180323T190000
DTSTAMP:20260421T122819
CREATED:20180319T093411Z
LAST-MODIFIED:20180319T093411Z
UID:46070-1521487800-1521831600@ghidlocal.com
SUMMARY:The Joyful Practice-Yoga Frumoasă
DESCRIPTION:Luni\, LOVE LIVES HERE\, 19:30\, Hatha Yoga clasică ♡ Miercuri\, 19:30\, ROCK OM\, cu elemente de Vinyasa fluidă ♡ Vineri\, 18:00\, GOOD VIBES ONLY\nBegginers\, sunteți bineveniți la toate clasele. Cea mai potrivită clasă pentru voi este cea de luni.\nSee you on the mat!\nO. \nTehnicalitati:\nSala de Balet\, Casa Armatei\, et. 5 (prin terasa)\nVA ROG sa fiti punctuali\, minutele de constientizare de la inceput sunt pretioase.\nContributie: 20 ron\nPractica este in picioarele goale. \n
URL:https://ghidlocal.com/brasov/eveniment/the-joyful-practice-yoga-frumoasa-2/
LOCATION:Yoga Frumoasă\, Casa Armatei\, Strada Lunga 1A\, Brasov\, 500035\, RO
CATEGORIES:Cursuri
ATTACH;FMTTYPE=image/jpeg:https://cdn.cluj.com/ghidlocalcom/sites/6/2018/03/46070_image_29389096_1649391128431412_7226254953369567232_o.jpg
END:VEVENT
BEGIN:VEVENT
DTSTART;TZID=Europe/Bucharest:20180319T194500
DTEND;TZID=Europe/Bucharest:20180319T224500
DTSTAMP:20260421T122819
CREATED:20180311T214807Z
LAST-MODIFIED:20180311T214807Z
UID:45094-1521488700-1521499500@ghidlocal.com
SUMMARY:American Pie [at] SocialPub
DESCRIPTION:Seara Studenteasca De Film \n
URL:https://ghidlocal.com/brasov/eveniment/american-pie-at-socialpub/
LOCATION:Social Pub – Lounge\, B-dul. Mihail Kogalniceanu\, nr.15\, Brasov\, 500090\, RO
CATEGORIES:Party-uri Brasov
ATTACH;FMTTYPE=image/jpeg:https://cdn.cluj.com/ghidlocalcom/sites/6/2018/03/45094_image_29028003_1770359899674020_8703578524709027840_n.jpg
END:VEVENT
BEGIN:VEVENT
DTSTART;TZID=Europe/Bucharest:20180319T200000
DTEND;TZID=Europe/Bucharest:20180319T210000
DTSTAMP:20260421T122819
CREATED:20180313T215737Z
LAST-MODIFIED:20180313T215737Z
UID:45417-1521489600-1521493200@ghidlocal.com
SUMMARY:Spring Equinox Yoga Class
DESCRIPTION:Sărbătorim împreună sfârşitul iernii ❤\nEchinocțiu de primăvară este de asemenea un moment potrivit pentru a lăsa în urmă tot de ceea ce nu mai avem nevoie şi pentru a face loc lucrurilor minunate ce ne aşteaptă. \nScurtă meditație la început\, Surya Namaskar si o relaxare bine meritată a corpului la sfârşit.\nVă încurajez să luați pauză oricând veți simți nevoia. \nÎncepătorii sunt bine veniți. Rugăm persoanele noi să îşi anunțe prezența prin mesaj la 0721586892 şi vă mulțumim anticipat ? \nCosturi:\nO şedință/30lei\n4 şedințe/100lei ( abonament lunar) \nDacă ai salteluță de yoga\, o poți aduce\, daca nu\, avem şi la sală. Te rugăm să fii îmbrăcat comod. \nNe vedem luni\n? Namaste dear yogis ? \n
URL:https://ghidlocal.com/brasov/eveniment/spring-equinox-yoga-class/
LOCATION:Studio EnergyFit\, Avram Iancu\, nr. 32\, Brasov\, 500388\, RO
CATEGORIES:Sport Brasov
ATTACH;FMTTYPE=image/jpeg:https://cdn.cluj.com/ghidlocalcom/sites/6/2018/03/45417_image_29196875_570624156629169_7487334363047133184_o.jpg
END:VEVENT
END:VCALENDAR