BEGIN:VCALENDAR
VERSION:2.0
PRODID:-//Ghid Local Brasov - ECPv5.1.1//NONSGML v1.0//EN
CALSCALE:GREGORIAN
METHOD:PUBLISH
X-WR-CALNAME:Ghid Local Brasov
X-ORIGINAL-URL:https://ghidlocal.com/brasov
X-WR-CALDESC:Events for Ghid Local Brasov
BEGIN:VTIMEZONE
TZID:Europe/Bucharest
BEGIN:DAYLIGHT
TZOFFSETFROM:+0200
TZOFFSETTO:+0300
TZNAME:EEST
DTSTART:20180325T010000
END:DAYLIGHT
BEGIN:STANDARD
TZOFFSETFROM:+0300
TZOFFSETTO:+0200
TZNAME:EET
DTSTART:20181028T010000
END:STANDARD
END:VTIMEZONE
BEGIN:VEVENT
DTSTART;TZID=Europe/Bucharest:20180316T220000
DTEND;TZID=Europe/Bucharest:20180319T060000
DTSTAMP:20260421T104652
CREATED:20180312T213252Z
LAST-MODIFIED:20180312T213252Z
UID:45238-1521237600-1521439200@ghidlocal.com
SUMMARY:St. Patrick's Week-End in Times [16-18 Martie]
DESCRIPTION:Join the party in Times!\nThis week-end\, drink Guinness & win a lot of prizes!\nFree entry\,\nRSVP: 0736 73 73 73\n#TimesBrasov. Republicii Str\, Modarom Building \n
URL:https://ghidlocal.com/brasov/eveniment/st-patricks-week-end-in-times-16-18-martie/
LOCATION:Times Brasov\, Republicii 59 Modarom\, Brasov\, 500030\, RO
CATEGORIES:Party-uri Brasov
ATTACH;FMTTYPE=image/jpeg:https://cdn.cluj.com/ghidlocalcom/sites/6/2018/03/45238_image_29103379_1547683171996403_2016776063627034624_o.jpg
END:VEVENT
BEGIN:VEVENT
DTSTART;TZID=Europe/Bucharest:20180317T170000
DTEND;TZID=Europe/Bucharest:20180331T160000
DTSTAMP:20260421T104652
CREATED:20180310T074242Z
LAST-MODIFIED:20180310T074242Z
UID:44911-1521306000-1522512000@ghidlocal.com
SUMMARY:URBAN\, de Radu Dumitrescu la Stâlpul Debutantului
DESCRIPTION:Fotografie. Pictură. Grafică. Gravură. Sculptură.\nLiteratură. Poezie. GIF. Colaje. Ilustrații. Comics. \nTipografia inaugurează Stâlpul.\nStâlpul debutantului\nPatru fețe de expunere\nPatru perspective\nDouă săptămâni de interacțiune cu Humans of Tipografia\nUn artist debutant\nUn curator care va da #bundetipar. \nDeschidem seria expozițională cu Radu Dumitrescu.\n”URBAN”\nfotografie\n17 – 31 martie \nRadu a fost mereu un visător îndrăzneț. Asta l-a ajutat să vizualizeze lucrurile diferit.\nLucrează ca front end developer. Asta nu înseamnă că începând din clasa a VIII-a nu a știut să folosească prima lui cameră foto sustrasă discret de la tatăl său.\nMijloacele moderne l-au adus în locul cu Zăganu și cu oameni faini din Tipografia. De aici și îndrăzneala abordării fotografiei cu tema urbană. \nBun de tipar: 0722 373 090\nMulțumim\, George Rosu! \n#stalpuldebutantului\n#avanpostculturaltipografia \n
URL:https://ghidlocal.com/brasov/eveniment/urban-de-radu-dumitrescu-la-stalpul-debutantului/
LOCATION:Tipografia\, Str. Postăvarului Nr.1 (colț cu Str. Diaconu Coresi)\, Brasov\, 500024\, RO
CATEGORIES:Altele
ATTACH;FMTTYPE=image/jpeg:https://cdn.cluj.com/ghidlocalcom/sites/6/2018/03/44911_image_28616475_2041269919484079_8905861644331673218_o.jpg
END:VEVENT
BEGIN:VEVENT
DTSTART;TZID=Europe/Bucharest:20180317T190000
DTEND;TZID=Europe/Bucharest:20180318T000000
DTSTAMP:20260421T104652
CREATED:20180316T075417Z
LAST-MODIFIED:20180316T075417Z
UID:45728-1521313200-1521331200@ghidlocal.com
SUMMARY:Ireland in a pint on St. Patrick's Day
DESCRIPTION:Nu e a noastra sarbatoare\, nici nu ne reprezinta\, dar ne sunt dragi tare irlandezii si atunci o facem ca la ei…cu cocktailuri cu iz irlandez si bereeeeee…..verde! Facem cadou o halba pentru fiecare postare cu berea lui Sf Patrick! Este sambata\, este voie buna\, este Hirscher 12! \n
URL:https://ghidlocal.com/brasov/eveniment/ireland-in-a-pint-on-st-patricks-day/
LOCATION:Hirscher 12\, APOLLONIA HIRSCHER No 12.\, Brasov\, 500015\, RO
CATEGORIES:Party-uri Brasov
ATTACH;FMTTYPE=image/jpeg:https://cdn.cluj.com/ghidlocalcom/sites/6/2018/03/45728_image_29262011_2043410669248505_9067985136607297536_o.jpg
END:VEVENT
BEGIN:VEVENT
DTSTART;TZID=Europe/Bucharest:20180317T210000
DTEND;TZID=Europe/Bucharest:20180318T060000
DTSTAMP:20260421T104652
CREATED:20180316T070833Z
LAST-MODIFIED:20180316T070833Z
UID:45694-1521320400-1521352800@ghidlocal.com
SUMMARY:Lucky Saturday 17.03.2018
DESCRIPTION:A party like no other in Brasov\, a night full of inner joy ?\, good music?? and tasty drinks  ?!! \nSaturday\, 17 February 2018\, door open at: 21:00 h ?\n#luckytohaveyou\n#crazyweeknd\nGet in touch with us babe? : 0771 444 444 \nSpecial prices —>⏱21:00h-00:00h⏱ \nBallantines 700ml – 70 lei\nWyborowa 700ml – 70 lei\nHavana 700ml – 70 lei\nRamazzotti – 70 lei\nVin Recaș – 25 lei\nUrsus – 4 lei\nCola/Fanta/Sprite – 4 lei\nRed Bull – 7 lei\nWhiskey juice – 8 lei\nVodka juice – 8 lei\nCuba Libre – 8 lei\nShot tequila – 5 lei ?\nShot Ramazzotti – 5 lei\nShot Kamikaze – 5 lei  \n☝?       ☝?        ☝?        ☝? \n
URL:https://ghidlocal.com/brasov/eveniment/lucky-saturday-17-03-2018/
CATEGORIES:Party-uri Brasov
ATTACH;FMTTYPE=image/jpeg:https://cdn.cluj.com/ghidlocalcom/sites/6/2018/03/45694_image_29257903_1019396584876180_3272511818215456768_n.jpg
END:VEVENT
BEGIN:VEVENT
DTSTART;TZID=Europe/Bucharest:20180317T230000
DTEND;TZID=Europe/Bucharest:20180318T050000
DTSTAMP:20260421T104652
CREATED:20180311T214803Z
LAST-MODIFIED:20180311T214803Z
UID:45092-1521327600-1521349200@ghidlocal.com
SUMMARY:When Light Meets Dark [at] SocialPub
DESCRIPTION:The Best Is Yet To Come! \nWhen Light Meets Dark [at] SocialPub \nMusic by: Dj Lau Maftei \nM. Kogalniceanu 23 | RSVP : 0748 33 22 11 \n#SaveTheDate\n17.03.2018 @ SocialPub \n
URL:https://ghidlocal.com/brasov/eveniment/when-light-meets-dark-at-socialpub-2/
LOCATION:Social Pub – Lounge\, B-dul. Mihail Kogalniceanu\, nr.15\, Brasov\, 500090\, RO
CATEGORIES:Party-uri Brasov
ATTACH;FMTTYPE=image/jpeg:https://cdn.cluj.com/ghidlocalcom/sites/6/2018/03/45092_image_29027449_1770321553011188_8757557957152997376_o.jpg
END:VEVENT
BEGIN:VEVENT
DTSTART;TZID=Europe/Bucharest:20180317T230000
DTEND;TZID=Europe/Bucharest:20180318T050000
DTSTAMP:20260421T104652
CREATED:20180313T071402Z
LAST-MODIFIED:20180313T071402Z
UID:45259-1521327600-1521349200@ghidlocal.com
SUMMARY:GLOW in the Dark
DESCRIPTION:This Saturday\, WE GLOW THE NIGHT! \nMOVE Club brings you good energy\, cool vibes and magic moments! \nBe a legend in the night and have great stories to tell in the morning! \nDJ Ilie Marcu & DJ ALEX alongside MC Florin Topor will bring the sounds up high to keep the dance floor going all the way through the night!\n–––––––––-\nJOIN US! Free Entry!\nDoors Open at 23:00 | RSVP: 0799 100 200\nDress code: smart casual \nAccesul este permis doar persoanelor care au împlinit vârsta de 18 ani!\nMOVE Club isi rezerva dreptul\, de a-si selecta clientela!\nartwork by Roland Muresan \n
URL:https://ghidlocal.com/brasov/eveniment/glow-in-the-dark/
LOCATION:MOVE Club\, Mihail Kogalniceanu\, nr 15\, Brasov\, 500090\, RO
CATEGORIES:Party-uri Brasov
ATTACH;FMTTYPE=image/jpeg:https://cdn.cluj.com/ghidlocalcom/sites/6/2018/03/45259_image_29177168_1669221873160409_422054311485243392_o.jpg
END:VEVENT
BEGIN:VEVENT
DTSTART;TZID=Europe/Bucharest:20180317T230000
DTEND;TZID=Europe/Bucharest:20180318T050000
DTSTAMP:20260421T104652
CREATED:20180313T074330Z
LAST-MODIFIED:20180313T074330Z
UID:45281-1521327600-1521349200@ghidlocal.com
SUMMARY:Saint Patrick's Celebrations
DESCRIPTION:Sambata\, 17 Martie\, sarbatorim in stil irlandez alaturi de multa bere Guinness si voie buna tipic irlandeza! \nNe pregatim pentru inca o seara plina de oameni frumosi\, distractie\, relaxare si voie  \nVibes by: DJ Minu\n______________\nINFO & RSVP: 0733 800 700\nDress code: smart casual\n–––––––––––\nAccesul este permis doar persoanelor care au împlinit vârsta de 18 ani!\nTemple Pub isi rezerva dreptul de a-si selecta clientela \n
URL:https://ghidlocal.com/brasov/eveniment/saint-patricks-celebrations/
LOCATION:Temple Pub\, Strada Mihail Kogalniceanu no. 15\, Brasov\, 500173\, RO
CATEGORIES:Divertisment Brasov
ATTACH;FMTTYPE=image/jpeg:https://cdn.cluj.com/ghidlocalcom/sites/6/2018/03/45281_image_29133851_1876992772334306_819098878082023424_o.jpg
END:VEVENT
BEGIN:VEVENT
DTSTART;TZID=Europe/Bucharest:20180318T140000
DTEND;TZID=Europe/Bucharest:20180318T170000
DTSTAMP:20260421T104652
CREATED:20180307T174715Z
LAST-MODIFIED:20180307T174715Z
UID:44598-1521381600-1521392400@ghidlocal.com
SUMMARY:Conferința Training În Tehnologii Energo-Informaționale(TEI)
DESCRIPTION:CONFERINȚA BRAȘOV\n18 MARTIE 2018 \nTRAINING ÎN TEHNOLOGII ENERGO-INFORMAȚIONALE. (T.E.I.) \nAsociația ENERGIA TA te invită la TRAINING-ul în Tehnologiile Energo-informaționale\,\nun eveniment unic la care cu siguranță vei dori sa participi dacă:\n–	Ești cufundat într-o rutină zilnică la serviciu sau în familie și simți că nu mai ai timp liber pentru tine;\n–	Dorești să înțelegi  misterele legăturilor energetice create între tine și strămoșii tăi direcți;\n–	Nu înțegi de ce unii colegi de la locul de muncă/parteneri au obținut ceea ce tu meritai\, de ce nu ai familia pe care ți-ai droit-o atât de mult sau\, te confrunți cu probleme mari de sănătate;\n–	Dorești să înțelegi latura energetică a banilor\, vrei să muncești puțin și să câștigi mai mult;\n–	Dorești să înveți a-ți dezvolta procesele intelectuale și psihice pentru a te bucura cât mai mult de viață și a-ți atinge scopurile în toate aspectele ei;\n–	Trăiești un blocaj în care totul în jurul tău este cyclic (problemele în familie\, la locul de muncă\, în sănătate).\n–	Te interesează aprofundarea misterelor universului\, a fizicii cuantice\, a relațiilor inter-umane și a principiilor cauzalității;\n–	Nu îți găsești locul în societate\, mai mereu ai fost cuprins de anxietate\, complexe personale\, dependența de alții sau\, din contra\, teama de a trăi printre ei;\n–	Dorești să înțelegi mai bine modul în care lumea se schimbă la nivel global și cum te poți adapta acestor schimbări;\n–   Îți plac evenimentele de dezvoltare personală\, unde poți întâlni oameni noi sau\, poți analiza mai bine tiparele impuse de societate și modul în care te poți adapta la ele. \n        Despre Tehnologiile Energo-Informaționale( T.E.I.)\n   TRAINING-ul în frecvențele energo-informaționale este un sistem modern\, bazat pe studiul energiilor vitale\, folosind fluxuri energo-informaționale pentru identificarea și eliminarea blocajelor energetice\, tiparelor distructive\, conduitei tipar impusă la nivel de subconștient de alte persoane\, grupuri sau societate. Procesele de generare ale acestor fluxuri energo-informaționale sunt studiate și analizate în respectivele științe – Fizica Cuantică – câmpurile de torsiune\, Cosmoenergetica\, Zoroastrism\, Teurghia Maya etc. Aceste științe ne permit accesul la un tezaur energetic mondial de care avem nevoie pentru a înțelege misterele energeticii umane și a legilor universului\, sunt tehnici uluitoare\, necesare omului modern pentru adaptare și evoluție socială și\, nu în ultimul rând\, secrete energetice legate de rezolvarea problemelor ce apar inexplicabil pe parcursul vieții noastre. \nCe aflați dacă veți participa la conferință?  \n– Avantajele TRAINING-ului în Tehnologiile Energo-informaționale (T.E.I.)\n– Ce se întâmplă la evenimentele de TRAINING în Tehnologiile Energo-informaționale?\n– De ce metodele noastre sunt diferite de altele\, similare?\n– Scurt istoric cu privire la apariția fenomenului mondial numit COSMOENERGETICA;\n– De ce COSMOENERGETICA a fost recunoscută de OMS (Organizația Mondială a Sănătății) drept cea mai modernă tehnică alternativă de vindecare energetică a corpului uman;\n– Ce înseamnă fluxul energo-informațional\, cum se generează și cum influențează organele corpului uman\,;\n– Misterele energeticii corpului uman si tehnicile modern de restabilire a energeticii proprii\, adaptate nevoilor sociale curente;\n-Latura energetică a banilor;\n– Anturajul – cheia succesului sau dezastrului energetic;\n– Cum ne influențează soarta actuală faptele strămoșilor direcți sau cum ne putem cunoaște viitorul cercetând arborele genealogic al familiei;\n– LIFE Training în frecvențele energo-informaționale pentru sănătatea ta.\n– BUSINESS Training în frecvențele energo-informaționale pentru latura energetica a banilor;\n– COACHING în frecvențele energo-informaționale pentru a-ți utiliza mai bine potențialul mental și a evolua în carieră\, în societate și a câștiga mai mulți bani cu eforturi mai mici. \nAi inclusă o sesiune de întrebări și răspunsuri. \n5 motive pentru care merită și ți-ar fi util să participi la conferință: \n1. Regăsești sau vrei sa îți îmbunătățești posibilitățile reale ce îți pot aduce echilibru și succes în viața ta\, în business-ul tău.\n2. Ești obosit sau stresat\, atât la locul de munca\, cât și în familie sau viața de zi cu zi și vrei să îți recapeți vitalitatea.\n3. Simți o presiune în viața de zi cu zi și vrei să înveți cum să te adaptezi la ceea ce se întâmplă în jurul tău.\n4. Vrei să redescoperi bucuria în micile sau marile plăceri ale vieții.\n5. Înțelegi faptul că abundența ta materială stă în echilibrul tău energetic\, cum să acționezi în cunoștință de cauză. \nCe pierzi dacă nu participi; \n1. Nu vei înțelege niciodată de ce unele persoane\, cu efort minim\, ajung în vârful ”piramidei”.\n2. Nu vei ști cauza reală a dezechilibrului tău energetic.\n3. Nu vei ști cum să accesezi tehnicile de vindecare la nivel energetic al problemelor de sănătate.\n4. O adevărată ocazie de a-ți înțelege și cunoaște viața așa cum nu ai făcut-o până acum.\n5. Șansa unică de a afla informații cu privire la latura energetica a banilor. \nVă aștept cu drag\, în BRASOV\, în 18 MARTIE\, 2018.  \nVă voi împărtăși rezultatele anilor de studiu și experimentele sociale desfășurate pentru elucidarea secretelor energeticii umane. \nProgresor Internațional în Cosmoenergetică\,\nANDREI COTRUTA  \nContribuția recomandată: 30 lei \nPentru înscrieri\, completați formularul pentru rezervarea locului:\nhttps://docs.google.com/forms/d/e/1FAIpQLSeCDYNp4Zj_6Elw9NY5BUsowr73bHAdISkopeey9RumefaXfA/viewform \nÎnscrieri le tel : 0722511925 –Andrei\nÎnscrieri pe e-mail : office@energiata.ro\nLocația: se va transmite prin SMS participanților. \nLocuri limitate!\nwww.energiata.com\n–––––––––––––––––––––––––– \n
URL:https://ghidlocal.com/brasov/eveniment/conferinta-training-in-tehnologii-energo-informationaletei/
LOCATION:Brasov\, Romania\, Brasov\, RO
CATEGORIES:Conferinte Brasov
ATTACH;FMTTYPE=image/jpeg:https://cdn.cluj.com/ghidlocalcom/sites/6/2018/03/44598_image_28471986_815303618656855_6553770505676049894_n.jpg
END:VEVENT
BEGIN:VEVENT
DTSTART;TZID=Europe/Bucharest:20180318T180000
DTEND;TZID=Europe/Bucharest:20180318T180000
DTSTAMP:20260421T104652
CREATED:20180228T144130Z
LAST-MODIFIED:20180228T144130Z
UID:43375-1521396000-1521396000@ghidlocal.com
SUMMARY:Corul Academic Radio
DESCRIPTION:Concert extraordinar în cadrul Festivalului Gloria Domini – Brașovul Pascal\, cuprinzând o selecție de lucrări de inspirație folclorică și religioasă. – intrarea liberă în limita locurilor disponibile \n
URL:https://ghidlocal.com/brasov/eveniment/corul-academic-radio/
LOCATION:Sala Patria\, Bulevardul 15 Noiembrie 50A\, Brasov\, 500096\, RO
CATEGORIES:Cultural
ATTACH;FMTTYPE=image/jpeg:https://cdn.cluj.com/ghidlocalcom/sites/6/2018/02/43375_image_28235705_478796275855830_730022822763287370_o.jpg
END:VEVENT
BEGIN:VEVENT
DTSTART;TZID=Europe/Bucharest:20180318T190000
DTEND;TZID=Europe/Bucharest:20180318T204500
DTSTAMP:20260421T104652
CREATED:20180217T073428Z
LAST-MODIFIED:20180217T073428Z
UID:41377-1521399600-1521405900@ghidlocal.com
SUMMARY:Voyeur - Brașov\, Centrul Cultural Reduta
DESCRIPTION:***Premiul pentru Cea mai bună interpretare masculină (Tudor Istodor) la UNDERCLOUD – Festival de Teatru Independent de Orice\, 2014. \nVOYEUR de Gardner McKay\nCu: Alexandra Ionita și Tudor Istodor\nRegia: Claudiu Istodor \nVOYEUR este un thriller psihologic de o extraordinară încărcătură emoţională. Protagoniştii – interpretați de Tudor Aaron Istodor şi Alexandra Ioniţă – spun povestea unui psihopat care hărţuieşte femei şi care\, departe de a le agresa fizic\, reuşeşte să le ţină sub o continuă teroare\, într-un joc al minţii care forţează graniţele moralităţii. \n„Dacă piesa aceasta este despre ceva\, atunci ea este despre abilitatea noastră vastă de a ne manipula unii pe ceilalţi. Despre darul nostru minunat de a minţi. Este despre puterea oribilă a carismei noastre. Este despre capacitatea noastră de a crede în orice adevăr\, în forma în care ni se potriveşte. Este despre puterea noastră imediată de a ierta; nevoia noastră de a merge mai departe. Este despre compromis\, despre dorinţa noastră de a ajunge în pat cu călăul. Este despre nelegiuirea noastră morală; pierderea instinctelor şi credinţelor noastre. Este despre capacitatea noastră de a asimila oroarea\, faptul că o crimă este o crima doar dacă ni se întâmplă nouă; nimic altceva nu ne mânie. Este despre crimele noastre oribile; nu despre faptul că se întâmplă sau că ştim de ele şi întoarcem pagina.” (Gardner McKay) \nSpectacolul nu este recomandat persoanelor sub 16 ani. \nBILETE\nOnline: https://www.mystage.ro/spectacole/voyeur-brasov-996\nȘi la Casa de bilete a Centrului Cultural Reduta \n_____________________________________________________________ \n„Sunt momente în care tensiunea creşte paroxistic\, pentru ca ulterior să se spargă într-o criză de râs\, la o nouă întorsătură de situaţie. Acum\, atât publicul\, cât şi eroina ar putea respira uşuraţi – şi o fac\, pentru că se bucură de încetarea agresiunii (mai mult psihologice) -\, însă aluziile destul de transparente strecurate în textul piesei reduc din suspans: publicul ştie\, se aşteaptă\, nu se lasă înşelat.” (Sursa: LiterNet) \n„Maude\, interpretată de Alexandra Ioniță\, este exemplul clar că cel mai adesea ne lăsăm influențați de roluri sociale\, iar Peter (Tudor Aaron Istodor)\, se pricepe cu desăvârșire să mimeze sentimente autentice\, să pozeze pe rând: voyeur\, actor\, victimă\, amorez ș.a.m.d.\, jucându-se cu mintea medicului\, ținând discursuri carsimatice\, făcând-o în repetate rânduri să nege realitatea.” (Sursa: Semne Bune) \nwww.teatruldearta.ro \nhttps://www.facebook.com/TeatruldeArtaBucuresti/ \n
URL:https://ghidlocal.com/brasov/eveniment/voyeur-brasov-centrul-cultural-reduta/
LOCATION:Centrul-Cultural Reduta\, str.Apollonia Hirscher nr.8\, Brasov\, 500025\, RO
CATEGORIES:Cultural
ATTACH;FMTTYPE=image/jpeg:https://cdn.cluj.com/ghidlocalcom/sites/6/2018/02/41377_image_27752024_1574245036023460_5596783688582304607_n.jpg
END:VEVENT
BEGIN:VEVENT
DTSTART;TZID=Europe/Bucharest:20180318T190000
DTEND;TZID=Europe/Bucharest:20180318T213000
DTSTAMP:20260421T104652
CREATED:20180313T075704Z
LAST-MODIFIED:20180313T075704Z
UID:45298-1521399600-1521408600@ghidlocal.com
SUMMARY:★ Mincinosul ★ Teatrul "Sică Alexandrescu"
DESCRIPTION:★ MINCINOSUL ★\nde Carlo Goldoni \nAndra Badulesco Visniec\, scenografa spectacolului\, spune că „personajele autorului au ajuns până în zilele noastre fără niciun rid\, la fel de proaspete și adevărate ca acum 300 de ani. Poveștile lor ne fac încă să râdem pentru că ne recunoaștem în ele. Sper ca spectatorii noștri să aibă tot atâta plăcere și amuzament cât am avut noi\, echipa de creație și realizare\, la această re-descoperire a lui Carlo Goldoni”\, așadar vă așteptăm la PRIMELE REPREZENTAȚII ale spectacolului MINCINOSUL de Carlo Goldoni\, la Sala Mare a Teatrului „Sică Alexandrescu” Brașov. \nMINCINOSUL\nde Carlo Goldoni \nDistribuția: Gabriel Costea\, Mihai Bica\, Marius Cristian Cisar\, Anca Florea /  Simona Pop\, Iulia Popescu\, Claudia Elena Suliman\, Gabriel Spahiu / Petrișor Cristian Diamantu\, Jipa Tudor Vlad\, Vlad Pavel\, Muraru Demis / Bogdan Nechifor\, Relu Sirițeanu.  \nRegia: Vasile Nedelcu\nScenografia: Andra Badulesco Visniec\nCoregrafia: Mălina Andrei\nMuzica originală: Ovidiu Iloc \n„Realizarea spectacolului Mincinosul de Carlo Goldoni a stat pentru mine sub semnul emoției și bucuriei de a lucra din nou\, după mai bine de 15 ani\, pe una din importantele scene profesioniste românești. La această emoție și bucurie de a lucra în propria limbă\, în mijlocul unui colectiv experimentat de actori\, s-a mai adăugat un prilej fericit: acela al întîlnirii cu comedia. Fericit nu doar pentru noi\, sînt sigur\, ci mai ales pentru publicul brașovean\, mare amator de comedie.\nMai mult decît atît\, nu e vorba de o comedie oarecare\, ci de o capodoperă a genului.\nTeatrul lui Goldoni este un loc de răscruce în istoria teatrului: el recuperează tradiții și deschide\, în același timp\, drum modernității. Piesele sale sunt și astăzi aplaudate\, după mai bine de două secole\, pentru că au fost scrise\, așa cum singur mărturisește\, în numele „dragostei pentru adevăr”.  Vasile Nedelcu\, regizor \n„Veneția este un loc magic\, o sursă de inspirație inepuizabilă. Poduri mai mici\, mai mari\, canale și canaletto-uri\, străzi înguste\, case cu fațadele care par că ies chiar din canaletto și au ieșiri direct spre barcă sau gondolă\, totul într-o asimetrie surprinzătoare și labirintică. Poetica culorilor și a patinei date de trecerea timpului\, de umezeală\, de soare… Luciul și oglinda apei care devine luminoasă\, aproape albă într-o zi cu soare sau dimpotrivă are culoarea tulbure în zilele de iarna mai cețoase ale carnavalului… Deschideri multiple\, de forme și dimensiuni diverse\, uși\, ferestre\, balcoane\, terase… toate acestea lăsându-ne să imaginăm ceea ce ar putea fi viața locuitorilor din spatele acestor fațade.\nPersonajele lui Goldoni au ajuns până în zilele noastre fără niciun rid\, la fel de proaspete și adevărate ca acum 300 de ani. Poveștile lor ne fac încă să râdem pentru că ne recunoaștem în ele.  Sper ca spectatorii noștri să aibă tot atâta plăcere și amuzament cât am avut noi\, echipa de creație și realizare\, la această re-descoperire a lui Carlo Goldoni.”  Andra Bădulescu Vișniec\, scenograf \nBilete se pot achiziționa online\, de pe portalul http://biletebrasov.ro sau direct de la casa de bilete a teatrului. \nPreţuri bilete:\nCategoria I – 25 lei; Categoria II – 20 lei; Preţ redus – 7 lei\nReducerile sunt acordate pentru pensionari\, elevi şi studenţi. \nProgram casa de bilete:\nmarți–vineri: 11:00–19:00; sâmbătă–duminică: 15:00–19:00;\nTelefon: 0268.412.969. \nwww.teatrulsicaalexandrescu.ro\nwww.facebook.com/tsabrasov \n
URL:https://ghidlocal.com/brasov/eveniment/%e2%98%85-mincinosul-%e2%98%85-teatrul-sica-alexandrescu/
LOCATION:Teatrul „Sică Alexandrescu” Brașov\, Piata Teatrului Nr. 1\, Brasov\, RO
CATEGORIES:Teatru Brasov
ATTACH;FMTTYPE=image/jpeg:https://cdn.cluj.com/ghidlocalcom/sites/6/2018/03/45298_image_29103835_413460242438215_5109253942399729664_o.jpg
END:VEVENT
BEGIN:VEVENT
DTSTART;TZID=Europe/Bucharest:20180318T200000
DTEND;TZID=Europe/Bucharest:20180318T230000
DTSTAMP:20260421T104652
CREATED:20180308T212707Z
LAST-MODIFIED:20180308T212707Z
UID:44754-1521403200-1521414000@ghidlocal.com
SUMMARY:Barabás Lőrinc Quartet /Other Than Unusual album release concert
DESCRIPTION:Trumpet player and producer\, Barabás Lőrinc\, has been a mover and shaker of the improvisative music scene in Budapest. Over the past decade his club events and bands provided fertile ground for kindred spirits experimenting at the crossroads of jazz and electronica. He gained wider international recognition on events such as the Montreaux Jazz Festival\, iTunes Festival in London playing with Valerie June and also shared stage with the likes of Erik Truffaz and Nicola Conte.  \nThe pop-like jazz world of the Lőrinc Barabás Quartet is exciting instrumental music with a hint of electronica\, characterized by roguish grooves and pulsating bass runs – the numerous tones of synthesizer and trumpet create a unique musical trend adorned by the traits of the improvisational jazz-rock of the ’70s. \nThe quartet formation found its final lineup in February 2016 with keyboardist Cséry Zoltán\, bass guitarist Herr Attila and drummer Nagy Zsolt. \n
URL:https://ghidlocal.com/brasov/eveniment/barabas-lorinc-quartet-other-than-unusual-album-release-concert/
LOCATION:Warehouse Pub\, Lucian Blaga nr.8\, Brasov\, 500008\, RO
CATEGORIES:Divertisment Brasov,Party-uri Brasov
ATTACH;FMTTYPE=image/jpeg:https://cdn.cluj.com/ghidlocalcom/sites/6/2018/03/44754_image_28828387_1679094442137489_5564073939646631780_o.jpg
END:VEVENT
END:VCALENDAR