BEGIN:VCALENDAR
VERSION:2.0
PRODID:-//Ghid Local Brasov - ECPv5.1.1//NONSGML v1.0//EN
CALSCALE:GREGORIAN
METHOD:PUBLISH
X-WR-CALNAME:Ghid Local Brasov
X-ORIGINAL-URL:https://ghidlocal.com/brasov
X-WR-CALDESC:Events for Ghid Local Brasov
BEGIN:VTIMEZONE
TZID:Europe/Bucharest
BEGIN:DAYLIGHT
TZOFFSETFROM:+0200
TZOFFSETTO:+0300
TZNAME:EEST
DTSTART:20180325T010000
END:DAYLIGHT
BEGIN:STANDARD
TZOFFSETFROM:+0300
TZOFFSETTO:+0200
TZNAME:EET
DTSTART:20181028T010000
END:STANDARD
END:VTIMEZONE
BEGIN:VEVENT
DTSTART;TZID=Europe/Bucharest:20180312T193000
DTEND;TZID=Europe/Bucharest:20180316T190000
DTSTAMP:20260421T033444
CREATED:20180312T093429Z
LAST-MODIFIED:20180312T093429Z
UID:45154-1520883000-1521226800@ghidlocal.com
SUMMARY:The Soft Practice
DESCRIPTION:Luni\, LOVE LIVES HERE\, 19:30\, Hatha Yoga clasică ♡ Miercuri\, 19:30\, ROCK OM\, cu elemente de Vinyasa fluidă ♡ Vineri\, 18:00\, KEEP IT MELLOW\, cu secvențe Yin Yoga.\nBegginers\, sunteți bineveniți la toate clasele și veți putea face\, în funcție de mobilitatea și forța preexistente\, un procent mai mare sau mai mic din clase\, dar\, cu siguranță\, puteți face din fiecare clasă peste 60%.\n Cea mai potrivită clasă pentru voi este cea de luni.\nSee you on the mat!\nO. \nTEHNICALITATI:\nSala \n
URL:https://ghidlocal.com/brasov/eveniment/the-soft-practice/
LOCATION:Yoga Frumoasă\, Casa Armatei\, Strada Lunga 1A\, Brasov\, 500035\, RO
CATEGORIES:Cursuri
ATTACH;FMTTYPE=image/jpeg:https://cdn.cluj.com/ghidlocalcom/sites/6/2018/03/45154_image_29066340_1639612889409236_5068368834449113088_o.jpg
END:VEVENT
BEGIN:VEVENT
DTSTART;TZID=Europe/Bucharest:20180313T210000
DTEND;TZID=Europe/Bucharest:20180314T060000
DTSTAMP:20260421T033444
CREATED:20180311T070830Z
LAST-MODIFIED:20180311T070830Z
UID:44994-1520974800-1521007200@ghidlocal.com
SUMMARY:Campus 4rooms 13.03.2018
DESCRIPTION:Ca și student ai multe avantaje : gratis pe tren\, reduceri in mall\, dar cel mai fain la facultate e că poți petrece cât vrei și cum vrei.  \n#4rooms dedică seara de marți fiecărui student în parte care dorește să se destindă după un seminar sau examen greu.  \nShot-uri gratis\, distracție garantată\, fete frumoase \, prețuri speciale \, toate astea pentru că orice student are nevoie de puțină relaxare încă de la începutul săptămânii. ? \n❗️❗️Te așteptăm cu oferte irezistibile între orele.  ?21:00-00:00?❗️❗️ \n??????????? \nBallantines 700ml – 70 lei\nWyborowa 700ml – 70 lei\nHavana 700ml – 70 lei\nRamazzotti – 70 lei\nVin Recaș – 25 lei\nUrsus – 4 lei\nCola/Fanta/Sprite – 4 lei\nRed Bull – 7 lei\nWhiskey juice – 8 lei\nVodka juice – 8 lei\nCuba Libre – 8 lei\nShot tequila – 5 lei ?\nShot Ramazzotti – 5 lei\nShot Kamikaze – 5 lei \n☝? ☝? ☝? ☝? \nIntrare: 10 lei -> bon consumabil\nSAU intrare liberă pe baza flyer-ului până în ora 00:00.  \nGet in touch with us babe ??: 0771 444 444 \n
URL:https://ghidlocal.com/brasov/eveniment/campus-4rooms-13-03-2018/
LOCATION:4rooms\, Strada Mihail Kogalniceanu Nr. 13\, Bl C2\, Brasov\, 500090\, RO
CATEGORIES:Party-uri Brasov
ATTACH;FMTTYPE=image/jpeg:https://cdn.cluj.com/ghidlocalcom/sites/6/2018/03/44994_image_29027274_1904372059634682_4706977831368520244_n.jpg
END:VEVENT
BEGIN:VEVENT
DTSTART;TZID=Europe/Bucharest:20180313T214500
DTEND;TZID=Europe/Bucharest:20180314T004500
DTSTAMP:20260421T033444
CREATED:20180311T214757Z
LAST-MODIFIED:20180311T214757Z
UID:45090-1520977500-1520988300@ghidlocal.com
SUMMARY:MAN United - Sevilla
DESCRIPTION:Te asteptam la Social Pub\, sa urmarim impreuna meciurile UEFA Champions League! \nBeneficieaza de promotia #SocialPub!\nComanda 3 BERI si primesti 4! \n#beSocial \n
URL:https://ghidlocal.com/brasov/eveniment/man-united-sevilla/
LOCATION:Social Pub – Lounge\, B-dul. Mihail Kogalniceanu\, nr.15\, Brasov\, 500090\, RO
CATEGORIES:Party-uri Brasov
ATTACH;FMTTYPE=image/jpeg:https://cdn.cluj.com/ghidlocalcom/sites/6/2018/03/45090_image_29103599_1770339856342691_4183805867272962048_n.jpg
END:VEVENT
BEGIN:VEVENT
DTSTART;TZID=Europe/Bucharest:20180313T230000
DTEND;TZID=Europe/Bucharest:20180314T020000
DTSTAMP:20260421T033444
CREATED:20180311T213151Z
LAST-MODIFIED:20180311T213151Z
UID:45085-1520982000-1520992800@ghidlocal.com
SUMMARY:Man United vs Sevilla
DESCRIPTION:Vino să urmăresti meciul dintre Man United si Sevilla\, din cadrul UEFA Champions League \, la Temple Pub\, in format FULL HD pe un ecran de 6 metri ! \nVă așteptăm la Temple Pub\, cu fotbal de calitate\, bere bună și hamburgeri delicioși!  \nINFO & RSVP: 0733 800 700 | M.Kogălniceanu 15 \n
URL:https://ghidlocal.com/brasov/eveniment/man-united-vs-sevilla/
LOCATION:Temple Pub\, Strada Mihail Kogalniceanu no. 15\, Brasov\, 500173\, RO
CATEGORIES:Party-uri Brasov
ATTACH;FMTTYPE=image/jpeg:https://cdn.cluj.com/ghidlocalcom/sites/6/2018/03/45085_image_29133746_1875467242486859_6616551089770594304_o.jpg
END:VEVENT
BEGIN:VEVENT
DTSTART;TZID=Europe/Bucharest:20180313T230000
DTEND;TZID=Europe/Bucharest:20180314T050000
DTSTAMP:20260421T033445
CREATED:20180312T231155Z
LAST-MODIFIED:20180312T231155Z
UID:45246-1520982000-1521003600@ghidlocal.com
SUMMARY:MOVE College
DESCRIPTION:Students\, are you ready for another semester\, full of parties?\nSo\, this Tuesday get ready for the most EPIC night of your life! \nProfită de oferta noastră 1 + 1 GRATUIT la ALCOOL*\nÎntre orele 23:30-00:30\, ne bucurăm de super oferta pregatită studenților: la fiecare sticlă de J&B / Smirnoff Black / Captain Morgan (700 ml) * primești incă una GRATUIT! \nParty Soundtrack by:\nDJ Lau Maftei & MC Florin Topor \nSpecial prices | Light | Music | Magic Moments\n–––––––––-\nJOIN US! Free Entry!\nDoors Open at 23:00 | RSVP: 0799 100 200\nDress code: smart casual \nAccesul este permis doar persoanelor care au împlinit vârsta de 18 ani!\nMOVE Club isi rezerva dreptul\, de a-si selecta clientela!\nartwork by Roland Muresan \n
URL:https://ghidlocal.com/brasov/eveniment/move-college-4/
LOCATION:MOVE Club\, Mihail Kogalniceanu\, nr 15\, Brasov\, 500090\, RO
CATEGORIES:Party-uri Brasov
ATTACH;FMTTYPE=image/jpeg:https://cdn.cluj.com/ghidlocalcom/sites/6/2018/03/45246_image_29101561_1668569543225642_1357960288380387328_o.jpg
END:VEVENT
BEGIN:VEVENT
DTSTART;TZID=Europe/Bucharest:20180314T080000
DTEND;TZID=Europe/Bucharest:20180314T080000
DTSTAMP:20260421T033445
CREATED:20180305T075214Z
LAST-MODIFIED:20180307T173109Z
UID:44086-1521014400-1521014400@ghidlocal.com
SUMMARY:Curs Servant Pompier autorizat ANC
DESCRIPTION:
URL:https://ghidlocal.com/brasov/eveniment/curs-servant-pompier-autorizat-anc-2/
LOCATION:Alchemy Hub\, str Rosiorilor\, nr 4\, Brasov\, 500102\, RO
CATEGORIES:Altele,Ateliere Brasov,Cursuri,Workshop Brasov
ATTACH;FMTTYPE=image/jpeg:https://cdn.cluj.com/ghidlocalcom/sites/6/2018/03/44086_image_28577111_537139369991153_1274385570810545332_n.jpg
END:VEVENT
BEGIN:VEVENT
DTSTART;TZID=Europe/Bucharest:20180314T100000
DTEND;TZID=Europe/Bucharest:20180314T180000
DTSTAMP:20260421T033445
CREATED:20180307T151559Z
LAST-MODIFIED:20180307T151559Z
UID:44492-1521021600-1521050400@ghidlocal.com
SUMMARY:Curs tehnician maseur Brasov
DESCRIPTION:Metropolitan Beauty Academy organizeaza in Brasov\, incepand cu data de 14.03.2018 curs de calificare profesionala in specializarea Tehnician Maseur. Meseria de tehnician maseur presupune invatarea a 5 tipuri de masaje: masajul de relaxare\, masajul anticelulitic\, masajul reflexogen sau reflexoterapia\, masajul terapeutic si gimnastica de recuperare.\nDurata cursului este de 4 sau 6 luni de zile in functie de nivelul informational pe care doriti sa-l accesati.\nPretul cursului de 4 luni : 1750 lei (achitabili in maxim 5 rate de 350 lei/luna) include materialele consumabile si manualele de curs.\nPretul cursului de 6 luni : 2450 lei (achitabili in maxim 7 rate de 350 lei/luna) include materialele consumabile si manualele de curs.\nCertificatele obtinute la finalul cursului sunt eliberate de Ministerul Muncii si Ministerul Educatiei si sunt recunoscute atat in tara cat si in strainatate.  \nPentru ocuparea locului in aceasta serie de curs\, va asteptam la inscriere la sediul nostru pe str. Dobrogea\, nr. 37\, Brasov cu o copie CI si prima rata de curs. Program luni-vineri 10.00-18.00.\nInscrierea la cursuri se poate face online prin trimiterea documentelor pe adresa de email metropolitan@curs-calificare.ro  \nDaca ai intrebari sau doresti detalii suplimentare\n– ne poti trimite un mesaj pe pagina de facebook Metropolitan Beauty Academy Brasov\,https://www.facebook.com/metropolitanbeautyacademybrasov/?ref=bookmarks\n– ne poti trimite un email pe adresa metropolitan@curs-calificare.ro – – ne poti suna la numarul de telefon 0753192525. \nVa invitam sa accesati si site-ul nostru: https://brasov.curs-calificare.ro/curs/curs-masaj-brasov-tehnician-maseur/ \n
URL:https://ghidlocal.com/brasov/eveniment/curs-tehnician-maseur-brasov-5/
LOCATION:Metropolitan Beauty Academy Brasov\, Str.Dobrogea\, nr.37\, Brasov\, Brasov\, RO
CATEGORIES:Cursuri
ATTACH;FMTTYPE=image/jpeg:https://cdn.cluj.com/ghidlocalcom/sites/6/2018/03/44492_image_28576975_2004391443159963_4586169418827150541_n.jpg
END:VEVENT
BEGIN:VEVENT
DTSTART;TZID=Europe/Bucharest:20180314T113000
DTEND;TZID=Europe/Bucharest:20180314T133000
DTSTAMP:20260421T033445
CREATED:20180307T173310Z
LAST-MODIFIED:20180307T173310Z
UID:44574-1521027000-1521034200@ghidlocal.com
SUMMARY:Conferință de presă - lansare proiect
DESCRIPTION:Euro-Link Consultants și partenerii săi\, Casetim Alba Iulia\, Noi Media Print SA și Asociația Pentru Dezvoltare Durabilă Slatina vă invită miercuri\, 14 martie 2018\, ora 11 : 30\, la Muzeul Casa Mureșenilor (Piața Sfatului nr. 25\, Brașov\, la conferința de lansare a proiectului ”A.C.T.U.A.L. – Antreprenoriat- Competitivitate-Tehnologie-Utilitate-Abordare Locala Regiunea Centru”. \nEvenimentul se bucură de prezența domnului Nicolae Covaci\, fondatorul și sufletul formației PHOENIX\, un artist de nivel european care a susținut întotdeauna proiectele adresate tinerilor și care\, împreună cu promotorii proiectului vor susține ideile de afaceri ale potențialilor antreprenori.\nProiectul ACTUAL este un proiect strategic adresat persoanelor care au domiciliul sau resedinta in Regiunea Centru (judetele Brasov\, Sibiu\, Alba\, Mures\, Harghita si Covasna) care doresc sa infiinteze afaceri in zona urbana. Proiectul vizeaza finantarea unui numar de 48 de intreprinderi mici si mijlocii si include activitati de formare\, consultanta antreprenoriala pentru un numar de minim 400 de persoane\, precum si sesiuni de mentorat si sprijinire a functionarii intreprinderilor nou create. \nAvând in vedere specificitatea membrilor parteneriatul proiectului\, intenționăm să finanțăm cât mai multe idei de afaceri în domeniul industriilor creative și considerăm că Nicolae Covaci este cel mai potrivit ambasador al proiectului nostru.\nEvenimentul se adresează în primul rând presei locale și regionale\, cât și persoanelor interesate să își dezvolte o afacere sustenabilă\, prin accesarea unei finanțări nerambursabile în valoare maximă de 40.000 EUR.\nProiectul ACTUAL este cofinanțat prin Programul Operaţional Capital Uman 2014 – 2020 (POCU 2014 – 2020) și se va desfășura pe o perioadă de 3 ani. \n
URL:https://ghidlocal.com/brasov/eveniment/conferinta-de-presa-lansare-proiect/
LOCATION:Muzeul Casa Muresenilor Brasov\, Piata Sfatului 25\, Brasov\, 500025\, RO
CATEGORIES:Conferinte Brasov
ATTACH;FMTTYPE=image/jpeg:https://cdn.cluj.com/ghidlocalcom/sites/6/2018/03/44574_image_28337485_416330512144036_4877536206500242702_o.jpg
END:VEVENT
BEGIN:VEVENT
DTSTART;TZID=Europe/Bucharest:20180314T160000
DTEND;TZID=Europe/Bucharest:20180314T170000
DTSTAMP:20260421T033445
CREATED:20180310T070840Z
LAST-MODIFIED:20180310T070840Z
UID:44886-1521043200-1521046800@ghidlocal.com
SUMMARY:Curs Coafor - Frizer - Extensii de păr
DESCRIPTION:– bob drept\, bob graduat\, bob asimetric\,\n– tunsoarea Cleopatra\,\n– tunsoare dreapta\,\n– tunsoarea in scări\,\n– tunsoare graduata scurta ( tunsoare pixie)\,\n– realizare modele cu briciul sau mașina\n– undercut (tunsoare ras pe ceafa)\n– extensii de păr\n– tunsori băieți și fetițe\,\n– împletituri fetite\n– coafuri casual\, cocuri de mireasă\n– coloristică\, vopsit\, șuvițat\n– frizerie și bărbierit\n– – – – – – – –\nCursul este pentru incepători\, cu lector care a făcut studiile de specialitate in România si Germania\n– – – – – – – –\nÎnveți garantat tehnicile de lucru enumerate mai sus. Dacă nu\, te poți întoarce la noi de câte ori vrei să mai exersezi.\nImediat după terminarea cursului te poti angaja sau poți deschide o afacere pe cont propriu cu cele învățate.\n– – – – – – – –\nCurs acreditat. Taxă de participare total – 1550 lei\, poate fi plătită in 4 rate lunare.\n– – – – – – – –\nÎnscrie-te acum la tel.0748-254671\, eMail (sc_continental@yahoo.com) sau aici pe facebook si participă fără nici o obligație la ședința de deschidere al cursului \n
URL:https://ghidlocal.com/brasov/eveniment/curs-coafor-frizer-extensii-de-par-3/
LOCATION:Cursuri de pregatire Brasov\, Branduselor 74\, Brasov\, RO
CATEGORIES:Cursuri
ATTACH;FMTTYPE=image/jpeg:https://cdn.cluj.com/ghidlocalcom/sites/6/2018/03/44886_image_28795729_1788018801248401_8034077084906633782_n.jpg
END:VEVENT
BEGIN:VEVENT
DTSTART;TZID=Europe/Bucharest:20180314T163000
DTEND;TZID=Europe/Bucharest:20180314T193000
DTSTAMP:20260421T033445
CREATED:20180307T173247Z
LAST-MODIFIED:20180307T173247Z
UID:44570-1521045000-1521055800@ghidlocal.com
SUMMARY:Initiere in JU JITSU pentru copii
DESCRIPTION:Inscrieri si initiere in cea mai eficienta metoda de autoaparare – Ju Jitsu pentru copii incepand cu varsta de 4 ani si jumatate. \n
URL:https://ghidlocal.com/brasov/eveniment/initiere-in-ju-jitsu-pentru-copii/
LOCATION:C.s. Kokoro Brasov\, Str. Carpatilor\, Nr 60\, Brasov\, 500269\, RO
CATEGORIES:Activitati Copii,Cursuri
ATTACH;FMTTYPE=image/jpeg:https://cdn.cluj.com/ghidlocalcom/sites/6/2018/03/44570_image_27983124_1436508183125481_675099907302115046_o.jpg
END:VEVENT
BEGIN:VEVENT
DTSTART;TZID=Europe/Bucharest:20180314T180000
DTEND;TZID=Europe/Bucharest:20180314T203000
DTSTAMP:20260421T033445
CREATED:20180228T075005Z
LAST-MODIFIED:20180228T075005Z
UID:43278-1521050400-1521059400@ghidlocal.com
SUMMARY:Seara de Relaxare prin Arta
DESCRIPTION:Arta îți poate reda sentimentul de bunăstare și relaxare\,este o modalitate de autocunoaștere și terapie\, de aceea va invit Miercuri 14 Martie începând cu ora 18h00 la o seara de Pictura pe Sticla începători. Nu sunt necesare cunoștințe de pictura sau desen iar la sfârșit vei pleca acasă cu obiectul decorativ creat chiar de tine.                                                                                                      Durata :2h30                                                                                                              Investitie:55lei                                                                                               Pentru inscrieri rog mesaj in privat pe pagina atelierului sau la telefon:0770810642 sau 0741321412 \n
URL:https://ghidlocal.com/brasov/eveniment/seara-de-relaxare-prin-arta-2/
LOCATION:Atelier de creatie artistica by Corina Baroianu\, Dobrogea nr.9\, Brasov\, 040198\, RO
CATEGORIES:Ateliere Brasov
ATTACH;FMTTYPE=image/jpeg:https://cdn.cluj.com/ghidlocalcom/sites/6/2018/02/43278_image_28336633_2045256002410642_3793779495754750659_o.jpg
END:VEVENT
BEGIN:VEVENT
DTSTART;TZID=Europe/Bucharest:20180314T180000
DTEND;TZID=Europe/Bucharest:20180314T200000
DTSTAMP:20260421T033445
CREATED:20180309T123729Z
LAST-MODIFIED:20180309T123729Z
UID:44842-1521050400-1521057600@ghidlocal.com
SUMMARY:Homeopatia - o solutie la indemana
DESCRIPTION:Plecand de la motto-ul enuntat de Juvenal “Mens sana in corpore sano”\, va invitam la un eveniment special\, dedicate oricarei persoane pentru care sanatatea este de nepretuit.\nVa propunem o intalnire interactive despre HOMEOPATIE\, la care vom afla secretele terapiei alternative atat pentru afectiunile acute cat si pentru cele cornice\, inca din prima zi de viata.  \nNe raspunde la intrebari Dr. Manuela Lidia Pitis Morosanu – medic specialist MM\, terapeut homeopat. \nCand: miercuri 14 martie\, la Tip Top Mini Club. \nParticiparea la acest eveninent este gratuita\, doar prin inscriere in prealabil la numarul de telefon 0737 521 312\, sau pe facebook prin mesaj privat. \n
URL:https://ghidlocal.com/brasov/eveniment/homeopatia-o-solutie-la-indemana/
LOCATION:TIP TOP MInI CLuB\, Str. Ioan Popasu\, Brasov\, 507190\, RO
CATEGORIES:Activitati Copii
ATTACH;FMTTYPE=image/jpeg:https://cdn.cluj.com/ghidlocalcom/sites/6/2018/03/44842_image_28951116_157837968212115_8416067173327306752_n.jpg
END:VEVENT
BEGIN:VEVENT
DTSTART;TZID=Europe/Bucharest:20180314T183000
DTEND;TZID=Europe/Bucharest:20180314T183000
DTSTAMP:20260421T033445
CREATED:20180228T144126Z
LAST-MODIFIED:20180228T144126Z
UID:43373-1521052200-1521052200@ghidlocal.com
SUMMARY:Zestrea Săceleană
DESCRIPTION:Ansamblul de cântece și dansuri “Zestrea Săceleană”\, aduce în fața brașovenilor  “Mocanii\, strădanii și rod”\, un spectacol al portului\, dansului și cântecului mocănesc. – intrarea liberă in limita locurilor disponibile \n
URL:https://ghidlocal.com/brasov/eveniment/zestrea-saceleana/
LOCATION:Centrul-Cultural Reduta\, str.Apollonia Hirscher nr.8\, Brasov\, 500025\, RO
CATEGORIES:Cultural
ATTACH;FMTTYPE=image/jpeg:https://cdn.cluj.com/ghidlocalcom/sites/6/2018/02/43373_image_28235196_478555465879911_8654674358723606615_o.jpg
END:VEVENT
BEGIN:VEVENT
DTSTART;TZID=Europe/Bucharest:20180314T190000
DTEND;TZID=Europe/Bucharest:20180314T203000
DTSTAMP:20260421T033445
CREATED:20180303T000930Z
LAST-MODIFIED:20180303T000930Z
UID:43781-1521054000-1521059400@ghidlocal.com
SUMMARY:Festivalul Gloria Domini - Querer!
DESCRIPTION:Festivalul Gloria Domini – Querer! (Iubește!) \nTeatrul ”Andrei Mureșanu” din Sfântu Gheorghe. Un spectacol de teatru\, muzică live și dans semnat de Mirela Bucur. \nUn spectacol atractiv unde artele se îmbină complex\, prin muzică\, dans și imagine. Prin muzica interpretată live de orchestră\, spectacolul își propune să creeze un cadru emoționant. Aflat la granița dintre viață și moarte\, dintre speranță și deznădejde\, dintre apă și țărm\, dintre pământ și cer „Querer!” ne îndeamnă să iubim! Eroina narațiunii scenice își retrăiește clipele copilăriei și ale tinereții cu ajutorul cântecelor.  Într-un loc parcă uitat de lume\, pescarii vin și cântă la malul mării\, unde o privesc pe nebuna satului\, cea care din zori și până-n noapte bântuie așteptându-și iubitul răpit. ….… \nSpectacolul face parte din Festivalul Gloria Domini-Brașovul Pascal.\nFestivalul își propune să promoveze valorile\, principiile și tradițiile religioase\, culturale și de patrimoniu ale tuturor comunităților confesionale și etnice\, precum și monumentele și obiectivele culturale specifice Țării Bârsei. Fie că vorbim de populația ortodoxă\, catolică\, romano-catolică\, reformată sau luterană\, de comunitatea de evrei sau de comunitatea grecească\, acestea demonstrează prin păstrarea și promovarea tradițiilor specifice faptul că românii\, maghiarii\, sașii\, grecii sau alte comunități conlocuitoare sunt un exemplu viu de solidaritate\, toleranță și bună comuniune. \nOrganizator – Agenția Metropolitană Brașov\nPartener al evenimentului Primăria Municipiului Săcele prin Centrul Multicultural și Educațional Săcele. \nIntrarea este liberă. \n
URL:https://ghidlocal.com/brasov/eveniment/festivalul-gloria-domini-querer/
LOCATION:Centrul Multicultural şi Educaţional Săcele\, Bld. George Moroianu Nr17\, Sacele\, 505600\, RO
CATEGORIES:Evenimente Județul Brașov,Teatru Brasov
ATTACH;FMTTYPE=image/jpeg:https://cdn.cluj.com/ghidlocalcom/sites/6/2018/03/43781_image_28424672_2065355617081249_2135215636056436012_o.jpg
END:VEVENT
BEGIN:VEVENT
DTSTART;TZID=Europe/Bucharest:20180314T190000
DTEND;TZID=Europe/Bucharest:20180314T220000
DTSTAMP:20260421T033445
CREATED:20180307T173211Z
LAST-MODIFIED:20180307T173211Z
UID:44565-1521054000-1521064800@ghidlocal.com
SUMMARY:Mâinile curate salvează vieți!
DESCRIPTION:Vă așteptăm cu drag în seara zilei de 14 martie la Sala patria din Brașov\, unde profesorul Didier Pittet ne face onoarea de a fi prezent în Brașov\, începând cu orele 19\,00\, pentru a prezenta împreună cu producătorul Parijat Seth filmul ″Mâinile curate salvează vieți″\, pentru ca apoi\, alături de scriitorul Thierry Crouzet\, să ofere participanților la eveniment\, cartea cu autograf. Evenimentul este organizat de Spitalul Sf. Constantin în parteneriat cu direcția cultură a Primăriei Brașov.\nIntrarea este liberă. \n
URL:https://ghidlocal.com/brasov/eveniment/mainile-curate-salveaza-vieti/
LOCATION:Sala Patria\, Bulevardul 15 Noiembrie 50A\, Brasov\, 500096\, RO
CATEGORIES:Film Brasov
ATTACH;FMTTYPE=image/jpeg:https://cdn.cluj.com/ghidlocalcom/sites/6/2018/03/44565_image_28576798_1880985855268903_6232231330155855872_o.jpg
END:VEVENT
BEGIN:VEVENT
DTSTART;TZID=Europe/Bucharest:20180314T193000
DTEND;TZID=Europe/Bucharest:20180314T223000
DTSTAMP:20260421T033445
CREATED:20180212T125323Z
LAST-MODIFIED:20180212T125323Z
UID:40529-1521055800-1521066600@ghidlocal.com
SUMMARY:Dinu Olărașu - Invitat special
DESCRIPTION:În curând… \n
URL:https://ghidlocal.com/brasov/eveniment/dinu-olarasu-invitat-special/
LOCATION:Luther Brasserie & Lounge Brasov\, Piata Sfatului Nr.10\, Brasov\, 500025\, RO
CATEGORIES:Divertisment Brasov
ATTACH;FMTTYPE=image/jpeg:https://cdn.cluj.com/ghidlocalcom/sites/6/2018/02/40529_image_27993393_192249371368656_4968351625402880599_o.jpg
END:VEVENT
BEGIN:VEVENT
DTSTART;TZID=Europe/Bucharest:20180314T200000
DTEND;TZID=Europe/Bucharest:20180314T230000
DTSTAMP:20260421T033445
CREATED:20180302T114351Z
LAST-MODIFIED:20180302T114351Z
UID:43688-1521057600-1521068400@ghidlocal.com
SUMMARY:Luiza Zan prezinta: Afrodizzy - 14.03 - Kruhnen Musik Halle
DESCRIPTION:Cunoscuta artista jazz Luiza Zan continua seria evenimentelor prezentate in rol de curator si ne va aduce in club Rockstadt o pliada de artisti jazz\, atat romani si internationali\, in cadrul unor seri de virtuozitate si maiestrie muzicala. \nMiercuri\, 14 martie va invitam la o seara muzicala alaturi de Luiza Zan si Afrodizzy. \nBiletele sunt disponibile la club Rockstadt\, la pretul de 35 de lei. \nLuiza Zan este una din cele mai cunoscute cântărețe de jazz din România.  \nCu 7 albume la activ\, printre care Heritage\, lansat in primăvara lui 2016\, primul album de autor\, Luiza Zan semnează muzica unor spectacole de teatru de marcă\, precum Năpasta (Radu Afrim)\, Trei Rupturi (Radu Afrim)\, 7 (Sebastian Marina)\, precum și coloana sonoră a câtorva filme documentare (Circul Vesel – We Are Basca/HBO\, Maria –\nWe Are Basca\, Carambol – Liviu Săndulescu). A participat in nenumărate competiții și  estivaluri\, unele dintre care au avut-o invitată în juriul acestora (Gala Hop 2015\, Next Film Festival 2016\, etc).  \nA cântat în multe conjuncturi\, pe nenumărate scene\, dintre care cele mai importante ar fi : Parlamentul European Bruxelles\, Budapest Jazz Club\, Bucharest Jazz Festival\, Club 606 London\, Centrul Wallonie-Bruxelles din Paris\, Ambasada Romaniei la Ljubljana\, etc. Printre muzicienii care au acompaniat-o pe scenă de-a lungul vremii\, cei mai importanți ar fi Rick Condit and the McNeese State University Big Band\, Dave Stamps\, Alex Harding\, Petras Geniusas\, Sorin Romanescu\, Vlaicu Golcea\, DJ\nVasile\, Electric Brother\, Mircea Tiberian\, Byron\, Big Bandul Radiodifuziunii Romane (cu care a lansat un album\, ”Live!”)\, etc. \nDin 2016 începe colaborarea cu Vibrate! Festival\, în cadrul căruia cântă cu Vlad Maistorovici (vioară)\, Diana Ionescu (pian)\, alături de muzicieni de renume din zona muzicii clasice\, precum Orchestra Simfonică București\, Max Ruisi (violoncel)\, Robin Green (pian solo) și Harry Cameron-Penny (clarinet & clarinet bas solo). \n
URL:https://ghidlocal.com/brasov/eveniment/luiza-zan-prezinta-afrodizzy-14-03-kruhnen-musik-halle/
LOCATION:Rockstadt\, Strada Nicolae Titulescu\, Brasov\, 500271\, RO
CATEGORIES:Concerte Brasov
ATTACH;FMTTYPE=image/jpeg:https://cdn.cluj.com/ghidlocalcom/sites/6/2018/03/43688_image_28423562_1828479360530678_2785709789919273299_o.jpg
END:VEVENT
BEGIN:VEVENT
DTSTART;TZID=Europe/Bucharest:20180314T210000
DTEND;TZID=Europe/Bucharest:20180315T060000
DTSTAMP:20260421T033445
CREATED:20180314T070848Z
LAST-MODIFIED:20180314T070848Z
UID:45438-1521061200-1521093600@ghidlocal.com
SUMMARY:Get Sweat at 4rooms / Hip-Hop\, R&B\, Reggeaton
DESCRIPTION:Party people!! are you ready for a new challenge? Wanna move your body? 2Pac & Eminem are still alive.. in 4rooms on Wednesday!\nWe presents the “new” oldschool on Reggaeton /Hip-Hop/R&B vibes on rhymes from Jay-Z \, Sean Paul\, Don Omar\, Daddy Yankee\, Rocky and many more. But also a party full of international hits from Maluma\, Shakira\, J Balvin and so on. ???? \nOur special guests from Erasmus will be moving their bodies together with us.\nDont let the voice and the soul of the streets die!???????????????? \nTake your sexies\, or not\, your most confortable clothes and come to #4rooms Wednesday night.  \nSpecial prices until 00:00: \nBallantines 700ml – 70 lei\nWyborowa 700ml – 70 lei\nHavana 700ml – 70 lei\nRamazzotti – 70 lei\nVin Recaș – 25 lei\nUrsus – 4 lei\nCola/Fanta/Sprite – 4 lei\nRed Bull – 7 lei\nWhiskey juice – 8 lei\nVodka juice – 8 lei\nCuba Libre – 8 lei\nShot tequila – 5 lei ?\nShot Ramazzotti – 5 lei\nShot Kamikaze – 5 lei \nAnd student prices after midnight!?‍??‍? \n
URL:https://ghidlocal.com/brasov/eveniment/get-sweat-at-4rooms-hip-hop-rb-reggeaton/
LOCATION:4rooms\, Strada Mihail Kogalniceanu Nr. 13\, Bl C2\, Brasov\, 500090\, RO
CATEGORIES:Party-uri Brasov
ATTACH;FMTTYPE=image/jpeg:https://cdn.cluj.com/ghidlocalcom/sites/6/2018/03/45438_image_29104329_1017813078367864_2012334569226764288_o.jpg
END:VEVENT
BEGIN:VEVENT
DTSTART;TZID=Europe/Bucharest:20180314T214500
DTEND;TZID=Europe/Bucharest:20180314T234500
DTSTAMP:20260421T033445
CREATED:20180312T202331Z
LAST-MODIFIED:20180312T202331Z
UID:45222-1521063900-1521071100@ghidlocal.com
SUMMARY:Uefa Champions League-live la British Pub
DESCRIPTION:Barcelona-Chelsea\nBesiktas-Bayern \nCuza Voda nr.5\nInfo si rezervari: 0730007009 \n
URL:https://ghidlocal.com/brasov/eveniment/uefa-champions-league-live-la-british-pub-6/
LOCATION:Britishpubbrasov\, Alexandru Ioan Cuza 5\, Brasov\, 500014\, RO
CATEGORIES:Party-uri Brasov
ATTACH;FMTTYPE=image/jpeg:https://cdn.cluj.com/ghidlocalcom/sites/6/2018/03/45222_image_29066893_1828938190490059_6978196230971064320_n.jpg
END:VEVENT
BEGIN:VEVENT
DTSTART;TZID=Europe/Bucharest:20180314T214500
DTEND;TZID=Europe/Bucharest:20180314T233000
DTSTAMP:20260421T033445
CREATED:20180313T120608Z
LAST-MODIFIED:20180313T120608Z
UID:45344-1521063900-1521070200@ghidlocal.com
SUMMARY:FC Barcelona vs FC Chelsea
DESCRIPTION:FC Barcelona vs FC Chelsea pe 2 plasme 4k și un proiector. Te așteptăm cu multă bere rece\, terasa încălzită și preparate inedite. \n
URL:https://ghidlocal.com/brasov/eveniment/fc-barcelona-vs-fc-chelsea/
LOCATION:Seven Inn Bar & Grill\, Mihail Kogălniceanu nr 15 etaj 2\, Brasov\, RO
CATEGORIES:Concerte Brasov
ATTACH;FMTTYPE=image/jpeg:https://cdn.cluj.com/ghidlocalcom/sites/6/2018/03/45344_image_28827862_1884628281608778_707588003674864308_o.jpg
END:VEVENT
BEGIN:VEVENT
DTSTART;TZID=Europe/Bucharest:20180314T220000
DTEND;TZID=Europe/Bucharest:20180315T050000
DTSTAMP:20260421T033445
CREATED:20180307T231152Z
LAST-MODIFIED:20180307T231152Z
UID:44629-1521064800-1521090000@ghidlocal.com
SUMMARY:Meet Your Crush
DESCRIPTION:Ai văzut-o la facultate? Ai trimis mesaj? Nu crezi că e timpul să o întâlnești în realitate?\nÎn sfârșit a sosit evenimentul pe care îl așteptam cu toții\, UnibvCrush organizează mega petrecere în Move!\nMiercuri\, 14 Martie\, este ziua cea mare – Crush’s Day \nDacă ai dat like paginii UnibvCrush și share acestui eveniment ai șansa de a câștiga o invitație gratis.\nStay tuned! Urmează și alte surprize. \nDoors Open at 22:00 | RSVP: 0799 100 200\nDress code: smart casual \nAccesul este permis doar persoanelor care au împlinit vârsta de 18 ani!\nMOVE Club își rezerva dreptul de a-și selecta clientela!\nArtwork by Roland Muresan \nIntrarea se va face pe baza unei dovezi (act/poza) prin care să demonstrezi că ești student al Universității Transilvania din Brașov. \n
URL:https://ghidlocal.com/brasov/eveniment/meet-your-crush/
LOCATION:MOVE Club\, Mihail Kogalniceanu\, nr 15\, Brasov\, 500090\, RO
CATEGORIES:Party-uri Brasov
ATTACH;FMTTYPE=image/jpeg:https://cdn.cluj.com/ghidlocalcom/sites/6/2018/03/44629_image_28701657_194387191161756_5856425758013433337_o.jpg
END:VEVENT
END:VCALENDAR