BEGIN:VCALENDAR
VERSION:2.0
PRODID:-//Ghid Local Brasov - ECPv5.1.1//NONSGML v1.0//EN
CALSCALE:GREGORIAN
METHOD:PUBLISH
X-WR-CALNAME:Ghid Local Brasov
X-ORIGINAL-URL:https://ghidlocal.com/brasov
X-WR-CALDESC:Events for Ghid Local Brasov
BEGIN:VTIMEZONE
TZID:Europe/Bucharest
BEGIN:DAYLIGHT
TZOFFSETFROM:+0200
TZOFFSETTO:+0300
TZNAME:EEST
DTSTART:20170326T010000
END:DAYLIGHT
BEGIN:STANDARD
TZOFFSETFROM:+0300
TZOFFSETTO:+0200
TZNAME:EET
DTSTART:20171029T010000
END:STANDARD
END:VTIMEZONE
BEGIN:VEVENT
DTSTART;TZID=Europe/Bucharest:20170802T120000
DTEND;TZID=Europe/Bucharest:20170802T190000
DTSTAMP:20260421T084145
CREATED:20170728T075417Z
LAST-MODIFIED:20170802T072031Z
UID:17635-1501675200-1501700400@ghidlocal.com
SUMMARY:Expozitie de pictura cu vanzare. Getty Tatomir - i am infinite
DESCRIPTION:Getty lucrează în antreprenoriat de aproape 10 ani\, conducând o școală de limbi străine pe care le și predă zi de zi\, cu un entuziasm și o exuberantă care se citește și în lucrările ei.\nÎn pictură\, pe care o practică de la 8 ani\, îndrumată la început de drum de unchiul ei\, pictor profesionist Gheorghe Pantea\, este fascinată de contrastele de culori și elemente și experimentează mereu stiluri sau tehnici noi. A avut numeroase expoziții atât în Brașov cât și în Cluj siTargu Mureș. În 2015\, împreună cu prietenul ei\, George Stanciu\, a fondat în Brașov galeria de artă Ora0\, un spațiu dedicat artei de toate felurile și pasionaților de artă. Școala de limbi străine a preluat numele brandului Ora0. Cei doi au deschis în martie 2017 și o a doua locație\, Ora0 Hive\, unde promovează un concept nou de ateliere de relaxare din zona artistică și cu care speră\, ca și până acum\, să crească interesul brașovenilor față de artă. \nExpoziția „I.Am.Infinite.” reunește 8 lucrări de dimensiuni mari\, în acril (pensulă și cuțit).\nAbstractizarea formelor\, cromatica dispersată și haotizarea intenționată a vopselei pe canvas\, creează o emoție ce se poate concretiza într-un infinit de trăiri și interpretări\, de unde și titlul expoziției „I. Am. Infinite”\, care duce cu gândul la acel automatism pe care privitorul îl deprinde de fiecare data când se identifică cu vreo formă\, culoare sau structură vizualizată. \n
URL:https://ghidlocal.com/brasov/eveniment/expozitie-de-pictura-cu-vanzare-getty-tatomir-i-am-infinite/2017-08-02/
LOCATION:Rope Street Museum\, Str. Cerbului 13\, Brassó\, 500015\, Romania
ATTACH;FMTTYPE=image/jpeg:https://cdn.cluj.com/ghidlocalcom/sites/6/2017/07/0c3cdd5f1f99ca755d9581663636e023.jpg
END:VEVENT
BEGIN:VEVENT
DTSTART;TZID=Europe/Bucharest:20170802T163000
DTEND;TZID=Europe/Bucharest:20170802T183000
DTSTAMP:20260421T084145
CREATED:20170801T064526Z
LAST-MODIFIED:20170802T071232Z
UID:18056-1501691400-1501698600@ghidlocal.com
SUMMARY:Socializare rostogolicioasă - Povești de August
DESCRIPTION:Dor de povești și povestit ❤\nPetrecem timp împreună\, împărtășim experiențe și idei\, formăm amintiri! \nÎn cadrul întâlnirilor\, copii vor avea acces la aparatura baby gym\, vor putea dansa și cu siguranță fiecare va pleca cu zâmbetul pe buze!\nPentru a participa\, voia bună și o stare excelentă de sănătate sunt obligatorii. \nCost:\n– 20 lei \nÎnscrierile se fac prin mesaj privat la Ionela Tontsch dupa exemplul: Maria 5 luni + mama\, tel:\n0721333158 \n
URL:https://ghidlocal.com/brasov/eveniment/socializare-rostogolicioasa-povesti-de-august/
CATEGORIES:Activitati Copii
ATTACH;FMTTYPE=image/jpeg:https://cdn.cluj.com/ghidlocalcom/sites/6/2017/08/20431746_728544693996437_869153398652283471_n.jpg
END:VEVENT
BEGIN:VEVENT
DTSTART;TZID=Europe/Bucharest:20170802T180000
DTEND;TZID=Europe/Bucharest:20170802T200000
DTSTAMP:20260421T084145
CREATED:20170727T062441Z
LAST-MODIFIED:20170728T063010Z
UID:17178-1501696800-1501704000@ghidlocal.com
SUMMARY:Curs de crestaturi traditionale in lemn/ doua sedinte
DESCRIPTION:Artistii Georgiana Gămălie si Ioan Aron Taroi\, de la Asociaţia Culturala Artessentia\, va fac invitatia de a incepe calatoria in universul semnelor protectoare crestate şi incizate pe suprafaţa protectoare a lemnului de tei\, participand la cursul de crestaturi in lemn de la Casa Junilor.\nCursul va cuprinde doua ateliere.\n1. Atelier de initiere. Pentru a ne familiariza cu ustensilele si cu tehnica\, vom cresta trei elemente de baza\, carora le veti afla semnificatia: rozeta\, colţul de lup şi zig-zag-ul – elemente regasite si pe vechea poarta a lui Grid\, din Scheii Brasovului. \n2. O data deprinsi cu acest mestesug\, in cadrul celui de-al doilea atelier\, va provocam sa crestam impreuna un prasnel – pandantiv. Prasnelul este rotita de lemn\, gaurita la mijloc si fixata in trecut in partea de jos a fusului de tors pentru ca acesta sa se invarteasca mai usor. Noi vom impodobi prasnelul nostru cu rozete solare\, dupa chipul celor vechi si il vom transforma intr-un pandantiv original. \nAtelier adresat tuturor doritorilor cu varsta de minim 12 ani.\nNumar participanti: 15 persoane\nTaxă participare: 80 lei – sunt incluse materialele şi uneltele de început. Pentru a va incuraja veti primi din partea noastra cutitul de crestat\, prevazut cu o rezerva\, pentru a continuati acest mestesug in linistea caminului dumneavoastra. \nPentru a va inscrie\, va rugam sa ne transmiteţi un mesaj de confirmare fermă cu titlul „Inscriere curs crestaturi”\, care sa contina numele participantului si un numar de telefon de contact\, la email casajunilor@gmail.com sau prin mesaj privat.\n________________________________________________\nAcest eveniment face parte din seria atelierelor organizate la Casa Junilor\, prin care organizatorii\, Asociaţia Culturală Artessentia şi Uniunea Junilor din Scheii Brasovului si Brasovechi\, doresc sa aduca in atentie artele si mestesugurile uitate specifice zonei in care traim. \n
URL:https://ghidlocal.com/brasov/eveniment/curs-de-crestaturi-in-lemn-doua-sedinte-prasnel-pandantiv/2017-08-02/
LOCATION:Casa Junilor\, Prundului 1\, Brasov\, 500123\, Romania
ATTACH;FMTTYPE=image/jpeg:https://cdn.cluj.com/ghidlocalcom/sites/6/2017/07/b218c7e52417371aec84bcb47590d361-1.jpg
END:VEVENT
END:VCALENDAR