BEGIN:VCALENDAR
VERSION:2.0
PRODID:-//Ghid Local Brasov - ECPv5.1.1//NONSGML v1.0//EN
CALSCALE:GREGORIAN
METHOD:PUBLISH
X-WR-CALNAME:Ghid Local Brasov
X-ORIGINAL-URL:https://ghidlocal.com/brasov
X-WR-CALDESC:Events for Ghid Local Brasov
BEGIN:VTIMEZONE
TZID:Europe/Bucharest
BEGIN:DAYLIGHT
TZOFFSETFROM:+0200
TZOFFSETTO:+0300
TZNAME:EEST
DTSTART:20170326T010000
END:DAYLIGHT
BEGIN:STANDARD
TZOFFSETFROM:+0300
TZOFFSETTO:+0200
TZNAME:EET
DTSTART:20171029T010000
END:STANDARD
END:VTIMEZONE
BEGIN:VEVENT
DTSTART;TZID=Europe/Bucharest:20170724T120000
DTEND;TZID=Europe/Bucharest:20170724T170000
DTSTAMP:20260420T112136
CREATED:20170721T074042Z
LAST-MODIFIED:20170724T071644Z
UID:16457-1500897600-1500915600@ghidlocal.com
SUMMARY:Schimb de experienta pentru formatori si pasionati STEAM
DESCRIPTION:Eşti priceput sau pasionat de ştiinţele exacte şi lucrul cu copiii?\nVrei să dezvolţi în cadrul Braşov STEAM HUB programe inovatoare şi practice pentru copii?\nHai să ne cunoaştem în persoană la primele ateliere Braşov STEAM HUB susţinute în parteneriat cu Științescu Hub Sibiu !\nCând?\nLuni\, 24 iulie\n14:00 – Schimb de experienţă cu Prof. O. Roca si Prof. A Roca de la MagicScience (grupa 1)\n16:30 – Atelier deschis Magic Science cu copiii\n19:00 – Schimb de experienţă cu Prof. O. Roca si Prof. A Roca de la MagicScience (grupa 2) \nMarţi\, 25 iulie\n10:30 – Atelier deschis Magic Science cu copiii \nMarţi\, 1 august\n14:00 – Schimb de experienţă alături de Carina Avram.\n16:30 – Atelier deschis „Build it!” cu copiii \nMiercuri\, 2 august\n10:30 – Atelier deschis „Build it!” cu copiii \nUnde?\nSitei 174\, Brasov. La baza Colinei\, dinspre str. Bisericii Române (vezi harta) \nCum mă înscriu?\nCompletând formularul de înscriere de la finalul descrierii acestui eveniment. \nCine suntem?\nBrașov STEAM HUB este un proiect educational care își propune dezvoltarea ofertei educaționale alternative STEAM (Științe\, Tehnologie\, Inginerie\, Arte și Matematică)\, precum și dezvoltarea unui spatiu adecvat- un centru de resurse educationale și antreprenoriale STEAM- unde copiii și tinerii vor putea lua contact cu stiintele exacte într-un cadru nonformal\, care încurajează creativitatea și descoperirea de abilități pentru aceste domenii. \nPe cine căutăm?\n1. Cadre didactice/ formatori/ oricine este interesat și priceput în STEAM și este gata să lucreze cu copiii!\nProfilul propunătorului de ateliere:\nCandidaţii vor trebui să demonstreze competenţă\, precum şi interesul de a disemina cunoştinţele şi experienţa din domeniul STEAM. Ei vor trebui să aibă simţ practic\, să fie deschiși către colaborare\, munca în echipă\, învăţare cu precădere non formală şi inovare continuă. \n2. Voluntari care îşi doresc să înveţe şi mai ales să practice în domeniile: STEAM\, lucrul cu copiii şi promovare. \nCum funcţionează?\nProcesul de selecţie şi formare constă în paşii de mai jos: \nA. Aşteptăm înscrierile voastre la evenimentele de mai sus accesând formularul de la acest link\nhttps://goo.gl/forms/GtuaUEwVZ9m9WD8i2\nParticiparea se face în baza primirii unei confirmari din partea noastră. \nB. Până în 2 august – Ne cunoaştem personal la sesiunile de schimb de experienţă\, discuţii cu alţi formatori sau interviuri în baza formularului de înscriere \nC. 3 august – 3 septembrie – Primim propunerile de module STEAM (serii de minim 4 ateliere) pe care doriţi să le dezvoltaţi în cadrul Braşov STEAM HUB \nD. 3 septembrie – 10 septembrie – Finalizăm selecţia atelierelor care vor lua parte la evenimentul de lansare al ofertei educationale alternative STEAM din 16 septembrie pe care îl vom pregăti împreună. Agreem modul de colaborare. \nSTART ateliere STEAM! \nAtelierele sunt susţinute în parteneriat cu Științescu Hub Sibiu.\nProiect finanţat prin Fondul Științescu Brașov şi susţinut de Fundația Comunitară Brașov \n
URL:https://ghidlocal.com/brasov/eveniment/schimb-de-experienta-pentru-formatori-si-pasionati-steam/2017-07-24/
LOCATION:Brasov STEAM HUB – Fondul Stiintescu Brasov\, Sitei 174\, Brasov\, Romania
ATTACH;FMTTYPE=image/jpeg:https://cdn.cluj.com/ghidlocalcom/sites/6/2017/07/7a6cbc1e054f0c65f2334b28d7ff50d0.jpg
END:VEVENT
BEGIN:VEVENT
DTSTART;TZID=Europe/Bucharest:20170724T163000
DTEND;TZID=Europe/Bucharest:20170724T130000
DTSTAMP:20260420T112136
CREATED:20170721T074045Z
LAST-MODIFIED:20170724T071916Z
UID:16459-1500913800-1500901200@ghidlocal.com
SUMMARY:Ateliere gratuite cu experimente interesante - Magic Science
DESCRIPTION:Să descoperim universul din jurul nostru prin experimente! \nMagicscience aduce în fața copiilor experimente spectaculoase de chimie – fizică\, structurate pe mari teme științifice precum lumina\, sunetul\, surse de energie\, electromagnetism. \nParticipanții descoperă la fiecare atelier noi fenomene\, înţelegând explicațiile științifice şi aplicabilitatea lor în viaţa reală. \nCând?\nLuni\, 24 iulie – 16:30- 19:00\nMarti\, 25 iulie- 10:30-13:00 \nCine?\nCopii cu vârsta de 6 – 14 ani \nUnde?\nSitei 174\, Brasov. La baza Colinei\, dinspre str. Bisericii Române (vezi harta) \nCum?\nCompletând formularul de înscriere de aici https://goo.gl/forms/kPhnuxeRL9t7R2IP2 \nCoordonatori atelier : Prof. Roca Olimpiu\, Prof. Roca Aurelia. \nPrin aceste ateliere lansăm Brasov STEAM HUB – singurul centru de resurse educationale și antreprenoriale STEAM din Brasov! Aici copiii și tinerii vor putea lua contact cu ştiintele exacte într-un cadru nonformal\, care încurajează creativitatea și descoperirea de abilități pentru aceste domenii.\nSTEAM înseamnă : Științe\, Tehnologie\, Inginerie\, Arte și Matematică \nAtelierele sunt susţinute în parteneriat cu Științescu Hub Sibiu.\nProiect finanţat prin Fondul Ştiinţescu Braşov şi susţinut de Fundația Comunitară Brașov \n
URL:https://ghidlocal.com/brasov/eveniment/ateliere-gratuite-cu-experimente-interesante-magic-science/2017-07-24/
ATTACH;FMTTYPE=image/jpeg:https://cdn.cluj.com/ghidlocalcom/sites/6/2017/07/086dca93f573139a81ad94f310c682a0.jpg
END:VEVENT
BEGIN:VEVENT
DTSTART;TZID=Europe/Bucharest:20170724T200000
DTEND;TZID=Europe/Bucharest:20170724T233000
DTSTAMP:20260420T112136
CREATED:20170724T065004Z
LAST-MODIFIED:20170724T065004Z
UID:16716-1500926400-1500939000@ghidlocal.com
SUMMARY:Proiecție de Film "What The Health"
DESCRIPTION:WHAT THE HEALTH este un film excepțional\, ce deconspiră impactul  industriei alimentare asupra sănătății și oferă înțelegere asupra promovării consumului de proteine animale\, în ciuda efectelor lor nocive. \nAflă că sănătatea este în mâinile fiecăruia dintre noi prin alegerile alimentare și ce putem face să prevenim sau să ne vindecăm de bolile civilizației moderne! \nParticiparea este gratuită în limita locurilor disponibile.\nRezervări: 0722.655.511 \n
URL:https://ghidlocal.com/brasov/eveniment/proiectie-de-film-what-the-health/
LOCATION:HOF CAFE\, 14 Piața Sfatului\, Brasov\, 500025\, Romania
CATEGORIES:Altele
ATTACH;FMTTYPE=image/jpeg:https://cdn.cluj.com/ghidlocalcom/sites/6/2017/07/00259020c31705e8705df76b2efa8281.jpg
END:VEVENT
END:VCALENDAR