BEGIN:VCALENDAR
VERSION:2.0
PRODID:-//Ghid Local Brasov - ECPv5.1.1//NONSGML v1.0//EN
CALSCALE:GREGORIAN
METHOD:PUBLISH
X-WR-CALNAME:Ghid Local Brasov
X-ORIGINAL-URL:https://ghidlocal.com/brasov
X-WR-CALDESC:Events for Ghid Local Brasov
BEGIN:VTIMEZONE
TZID:Europe/Bucharest
BEGIN:DAYLIGHT
TZOFFSETFROM:+0200
TZOFFSETTO:+0300
TZNAME:EEST
DTSTART:20170326T010000
END:DAYLIGHT
BEGIN:STANDARD
TZOFFSETFROM:+0300
TZOFFSETTO:+0200
TZNAME:EET
DTSTART:20171029T010000
END:STANDARD
END:VTIMEZONE
BEGIN:VEVENT
DTSTART;TZID=Europe/Bucharest:20170721T170000
DTEND;TZID=Europe/Bucharest:20170723T220000
DTSTAMP:20260420T142743
CREATED:20170721T075446Z
LAST-MODIFIED:20170721T075446Z
UID:16467-1500656400-1500847200@ghidlocal.com
SUMMARY:Weekend Special
DESCRIPTION:La Terroirs\, ca si vinurile\, preparatele lui Chef Shaun sunt adunate de prin lumea intreaga 🙂  \nIn acest weekend va invitam sa incercati:\nHummus cu Tahini – 28 lei\nHummus de casa\, carne tocata si seminte de pin prajite\, servite cu lipie\, rosii proaspete\, ridichi si castravete\nCurry cu carne de miel in stil Sud-African – 40 lei\nPulpa de miel gatita in sos de curry condimentat in stil sud-african traditional\, servita cu orez basmati\, salata de ceapa si rosii\, paine roti de casa\nPrajitura Pavlova – 15 lei\nCu frisca si mix de fructe de padure proaspete  \nPofta buna! 🙂 \n
URL:https://ghidlocal.com/brasov/eveniment/weekend-special/
LOCATION:Terroirs Boutique du Vin\, Diaconu Coresi\, Brasov\, 500025\, Romania
CATEGORIES:Culinar Brasov
ATTACH;FMTTYPE=image/jpeg:https://cdn.cluj.com/ghidlocalcom/sites/6/2017/07/0df60e64a79309987ada339ffb07ab76.jpg
END:VEVENT
BEGIN:VEVENT
DTSTART;TZID=Europe/Bucharest:20170722T083000
DTEND;TZID=Europe/Bucharest:20170722T113000
DTSTAMP:20260420T142743
CREATED:20170719T071604Z
LAST-MODIFIED:20170719T071604Z
UID:16249-1500712200-1500723000@ghidlocal.com
SUMMARY:Crosul Împreună pentru 2030
DESCRIPTION:Crosul Împreună pentru 2030 este organizat sâmbătă\, 22 iulie 2017 (primul start la ora 10)\, în Parcul Sportiv Tractorul din Brașov\, de Clubul Sportiv Transilvania Brașov\, Asociația Pacienților cu Afecțiuni Hepatice din România și Asociația Județeană de Atletism Brașov\, pentru a marca Ziua Mondială de Luptă Împotriva Hepatitelor (28 iulie în fiecare an). \n
URL:https://ghidlocal.com/brasov/eveniment/crosul-impreuna-pentru-2030/
LOCATION:Parcul Tractorul\, Tractoru\, B-dul 13 Decembrie\, Brasov\, Romania
ATTACH;FMTTYPE=image/jpeg:https://cdn.cluj.com/ghidlocalcom/sites/6/2017/07/627d8dda4cf62c8e1a3efe24d779d04e.jpg
END:VEVENT
BEGIN:VEVENT
DTSTART;TZID=Europe/Bucharest:20170722T190000
DTEND;TZID=Europe/Bucharest:20170722T203000
DTSTAMP:20260420T142743
CREATED:20170717T094855Z
LAST-MODIFIED:20170719T064912Z
UID:15942-1500750000-1500755400@ghidlocal.com
SUMMARY:Concert extraordinar de fanfară
DESCRIPTION:Prima ediție a Festivalului Promenadelor Brașovului se va încheia sâmbătă\, 22 iulie\, de la ora 19:00\, prin concertul extraordinar de fanfară susținut de două orchestre de tradiție în România:  \nMuzica militară a Academiei Forțelor Aeriene „Henri Coandă”  și Muzica Reprezentativă a Ministerului Apărării Naționale – pentru prima dată în Brașov după o perioadă îndelungată. \nConcertul se va desfășura în Piața Sfatului\, amintind de concertele de fanfară care însoțeau promenadele de altădată. \nUltima zi a Festivalului va cuprinde\, în prima parte\, evenimente de reconstituire istorică pe tema personajelor promenadei în Parcul N. Titulescu (în intervalul 11:00 – 14:00) susținute de grupul de reenactment Asociația „6 Dorobanți” și tururi ghidate: „Cetatea Brașovului văzută din Promenadă” (în intervalul 12:00 – 18:00) Sub Tâmpa.  \nLa toate evenimentele Festivalului intrarea va fi liberă. \nDespre Muzica reprezentativă a Ministerului Apărării Naționale \nFondată la 1 august 1951\, Muzica Reprezentativă a Ministerului Apărării Naţionale este o formaţie de referinţă în viaţa culturală a armatei şi a ţării. Din punct de vedere structural\, Muzica Reprezentativă a Armatei se manifestă ca o fanfară tradiţională\, dar a cărei organizare intimă implică şi o multitudine de elemente de tip simfonic.  \nCondusă de trei ofiţeri – dirijori\, absolvenţi ai Universităţii Naţionale de Muzică din Bucureşti\, formaţia este alcătuită din 70 de subofiţeri – instrumentişti care pot interpreta creaţii ce acoperă toate epocile (Baroc\, Clasic\, Romantic\, perioadele Modernă şi Contemporană) şi genurile muzicale (marşuri\, suite\, concerte\, uverturi\, simfonii\, opere\, jazz\, muzică uşoară şi folclor).  \nActivitatea de peste jumătate de secol a Muzicii Reprezentative\, o recomandă ca fiind un ansamblu de prestigiu\, care\, pe lângă faptul că participă constant la numeroase acţiuni de protocol\, onoruri şi ceremonii militare\, susţine frecvent concerte în unităţi militare şi pe cele mai importante scene bucureştene şi din ţară.  \nUnică în armata română\, această formaţie reprezentativă a lansat numeroase CD-uri\, casete audio – video\, obţinând întotdeauna aprecieri unanime din partea iubitorilor de muzică şi a presei de specialitate.  \nAu fost aclamaţi cu ocazia festivalurilor internaţionale de gen\, desfăşurate în Europa şi în afara ei: ELVEŢIA (Zürich\, Berna\, Morges)\, FRANŢA (Paris\, Albertville\, Riom en Montagnes\, Gap)\, BELGIA (Bruxelles\, Mons)\, POLONIA (Varşovia\, Cracovia)\, UNGARIA (Budapesta\, Debrečen)\, ITALIA (Modena\, Verona)\, AUSTRIA (Viena\, Salzburg\, Saalfelden)\, CHINA (Beijing)\, GERMANIA (Bonn\, Berlin\, Hamburg\, München\, Sttutgart ş.a.)\, OLANDA (Amsterdam\, Rotterdam)\, DANEMARCA (Aabenraa)\, CEHIA (Brno\, Kromeritz)\, TURCIA (Ankara\, Istanbul). \nDespre Muzica militară a Academiei Forțelor Aeriene ”Henri Coandă”  \nAnul 1830 a reprezentat începutul muzicii militare româneşti dotată cu instrumente moderne de suflat\, prin înfiinţarea la Iaşi şi la Craiova a primelor formații de muzici militare. \nUlterior\, muzicile militare şi-au sporit atribuţiile\, s-au consolidat şi s-au dezvoltat\, înregistrând realizări evidente ca formaţii de serviciu în armată şi instituţii de afirmare cultural-artistică în viaţa socială. \nMisiunea muzicii militare a Academiei este de a participa\, cu mijloace specifice\, la creşterea eficienţei procesului de instruire şi educare a efectivelor\, atât în timp de pace\, cât şi în alte situaţii. Aceasta îşi desfăşoară activitatea în conformitate cu prevederile legilor\, regulamentelor\, ordinelor eşaloanelor superioare. \nActivitatea muzicii militare de la Braşov se desfăşoară pe două direcţii: – ceremonii militare; – recepţii oficiale\, spectacole şi activităţi cultural-artistice (concerte sinfonice\, concerte de promenadă\, înregistrări audio-video\, etc.). \nExistă date că ea funcţionează în această locaţie dinainte de 1942\, pe lângă R.26VM\, primul şef al muzicii fiind Mr. Ioan Horşia. La 1 septembrie 1948 Şcoala de ofiţeri Artilerie Antiaeriană se mută la Braşov din Bucureşti (cazarma Ghencea). După mutarea acesteia au activat ca şefi ai muzicii militare Cpt. Paul Şerbu (1965-1981) muzica având 17 subofiţeri\, Lt.maj. Ioan Dobrin(1981-2000) muzica având 15 subofiţeri\, Cpt. Marius Crucianu(octombrie2001-octombrie2002)\, Lt.col. Sorinel Vînt (din martie 2006 până în prezent) muzica având 30 de subofițeri. \nPregătirea militară generală a personalului muzicii militare se execută potrivit regulamentelor militare generale\, ordinelor ministrului apărării naţionale şi dispoziţiilor şefului Statului Major General privind instrucţia în Armata României\, iar pregătirea militară de spacialitate se realizează prin convocări anuale organizate de Serviciul Muzicilor Militare\, cursuri de perfecţionare desfăşurate în Şcoala de Aplicaţie pentru Muzicile Militare\, prin studiu şi întocmirea unor lucrări prevăzute în tematica pentru perfecţionarea pregătirii profesionale elaborată de Serviciul Muzicilor Militare. \nProgramul pregătirii de specialitate a personalului muzicii militare cuprinde: studiu instrumental individual\, studiu instrumental de ansamblu\, teoria muzicii şi solfegiu\, istoria muzicii şi audiţii muzicale\, caligrafie muzicală\, instructaje privind metodica învăţării cântecelor patriotice şi ostăşeşti şi pregătirea formaţiilor artistice din unităţi şi din cercul militar. \nComponenţa instrumentală a muzicii Academiei include: flaut\, oboi\, clarinet\, saxofon\, corn\, fligorn\, trompetă\, trombon\, basfligorn\, liră\, cinele\, percuţie etc. \nŞeful muzicii Academiei coordonează pregătirea de specialitate a personalului din subordine\, coordonează pregătirea şi participarea muzicii militare întrunite la ceremonialuri şi onoruri militare\, la diferite manifestări cultural-artistice desfăşurate la nivel naţional şi internaţional\, participă la desfăşurarea activităţii cercurilor de aptitudini şi la educaţia patriotică a personalului şi studenţilor. \nFestivalul Promenadelor Brașovului\, aflat la prima ediție\, și-a propus să revalorifice spațiile tradiționale de plimbare prin intermediul a trei coordonate: istorie – muzică – artă\, prilej cu care activitățile Festivalului s-au conturat firesc pentru un nou tip de promenadă\, actuală\, desfășurată pe parcusul a 15 zile în perioada 8 – 22 iulie 2017.  \nReunite sub tema „Lumea cea nouă”\, activitățile festivalului au încercat să redea „noutatea” așa cum a apărut în istorie\, însă și noutatea contemporană dată de noul concept al Promenadei.  \nPe lângă faimoasele concerte de fanfară\, Promenadele de altădată au găzduit diverse activități culturale (cinematograf\, festivități locale) și au inspirat artiștii epocii. Ca o urmare firească\, organizatorii au propus trei noi promenade grupate tematic: Promenada Artelor\, Promenada Copiilor și Promenada Istorică\, fiecare marcate de evenimente dedicate. \nParteneri:\nExces Music\, Media Communication\, Waken Metal Battle România\, Aquatique\, Le Sommelier \nParteneri media:\nEnjoyTV.ro\, Radio România Cultural\, Radio România Muzical\, Radio România Târgu – Mureș\, Zie și Nopți\, Historia\, Rock FM\, Agenția de carte\, Capital Cultural\, România Pozitivă\, Urby App \nFestivalul Promenadelor Brașovului este organizat de UCIMR – Uniunea de Creație Interpretativă a Muzicienilor din România și Muzeul Județean de Istorie Brașov\, fiind finanțat din bugetul Municipiului Brașov și cofinațat de Consiliul Județean Brașov. \n
URL:https://ghidlocal.com/brasov/eveniment/concert-extraordinar-de-fanfara/
LOCATION:Piata Sfatului Brasov\, Brasov\, Romania
ATTACH;FMTTYPE=image/jpeg:https://cdn.cluj.com/ghidlocalcom/sites/6/2017/07/727599771e00b59176ced34bccdfbb49.jpg
END:VEVENT
BEGIN:VEVENT
DTSTART;TZID=Europe/Bucharest:20170722T200000
DTEND;TZID=Europe/Bucharest:20170722T210000
DTSTAMP:20260420T142743
CREATED:20170718T065226Z
LAST-MODIFIED:20170719T061726Z
UID:16036-1500753600-1500757200@ghidlocal.com
SUMMARY:In cursul zilei de azi-noapte
DESCRIPTION:Va asteptam cu drag mare la spectacolul de teatru „În cursul zilei de azi noapte”\, de Cornel Udrea. Piesa\, în regia actriţei Viorica Geantă Chelbea\, este o surpriză totală – atrage nu doar prin perspectiva regizorală originală\, cât mai ales prin ineditul situaţiei de a se juca in mijlocul publicului .\nBilet intrare:15lei \n
URL:https://ghidlocal.com/brasov/eveniment/in-cursul-zilei-de-azi-noapte-2/
LOCATION:Bonanzza Brasov\, Str. Zizinului\, nr.1-3-5\, Brassó\, 520063\, Romania
CATEGORIES:Concerte Brasov
ATTACH;FMTTYPE=image/jpeg:https://cdn.cluj.com/ghidlocalcom/sites/6/2017/07/a1d894f427b42d95fd602bc8a2eedbfd.jpg
END:VEVENT
BEGIN:VEVENT
DTSTART;TZID=Europe/Bucharest:20170722T210000
DTEND;TZID=Europe/Bucharest:20170722T000000
DTSTAMP:20260420T142743
CREATED:20170714T071104Z
LAST-MODIFIED:20170722T070043Z
UID:15646-1500757200-1500681600@ghidlocal.com
SUMMARY:Ultimate Kitsch Party - Last of the season - 22.07
DESCRIPTION:Sambata\, 22 iulie ne vedem la ultimul Ultimate Kitsch Party al sezonului\, in aceeasi formula: Buvnitz/Socol. \nScoate din casa cele mai colorate si noncomformiste haine si vino la Ultimate Kitsch Party unde vom dansa fara remuscari pe cele mai celebre\, vinovate si ridicole piese ale ultimilor 27 de ani. Da\, chiar si romanii anului 2017. \nIntrarea este libera \n
URL:https://ghidlocal.com/brasov/eveniment/ultimate-kitsch-party-last-of-the-season-22-07/
LOCATION:Kruhnen Musik Halle\, Nicolae Titulescu\, 2P\, Brasov\, Romania
CATEGORIES:Concerte Brasov
ATTACH;FMTTYPE=image/jpeg:https://cdn.cluj.com/ghidlocalcom/sites/6/2017/07/7053054eb31594c8441ba43daf2be446.jpg
END:VEVENT
END:VCALENDAR