BEGIN:VCALENDAR
VERSION:2.0
PRODID:-//Ghid Local Brasov - ECPv5.1.1//NONSGML v1.0//EN
CALSCALE:GREGORIAN
METHOD:PUBLISH
X-WR-CALNAME:Ghid Local Brasov
X-ORIGINAL-URL:https://ghidlocal.com/brasov
X-WR-CALDESC:Events for Ghid Local Brasov
BEGIN:VTIMEZONE
TZID:Europe/Bucharest
BEGIN:DAYLIGHT
TZOFFSETFROM:+0200
TZOFFSETTO:+0300
TZNAME:EEST
DTSTART:20170326T010000
END:DAYLIGHT
BEGIN:STANDARD
TZOFFSETFROM:+0300
TZOFFSETTO:+0200
TZNAME:EET
DTSTART:20171029T010000
END:STANDARD
END:VTIMEZONE
BEGIN:VEVENT
DTSTART;TZID=Europe/Bucharest:20170719T120000
DTEND;TZID=Europe/Bucharest:20170719T160000
DTSTAMP:20260420T191035
CREATED:20170718T063447Z
LAST-MODIFIED:20170718T074751Z
UID:15993-1500465600-1500480000@ghidlocal.com
SUMMARY:Aripi - Expoziție interactivă despre istoria aviației
DESCRIPTION:Consiliul Județean Brașov și Muzeul „Casa Mureșenilor” Brașov\, alături de partenerii S.C. Expoziții Călătoare S.R.L.-D\, Asociația Generală a Inginerilor din România – Sucursala Brașov\, Casa Municipală de Cultură Făgăraș și Școala Gimnazială Cristian\, vă invită miercuri\, 19 iulie 2017\, ora 18.00\, la vernisajul expoziției din cadrul proiectului cultural „ARIPI”- expoziție interactivă despre istoria aviației\, proiect cultural co-finanțat de Administrația Fondului Cultural Național.  \nExpoziția reunește informații foto-documentare despre evoluția zborului și obiecte interactive realizate de artistul plastic Daniel Roșca. \n
URL:https://ghidlocal.com/brasov/eveniment/aripi-expozitie-interactiva-despre-istoria-aviatiei/2017-07-19/
LOCATION:Muzeul Casa Muresenilor Brasov\, Piata Sfatului 25\, Brasov\, 500025\, Romania
ATTACH;FMTTYPE=image/jpeg:https://cdn.cluj.com/ghidlocalcom/sites/6/2017/07/60f7a0d307c8798e03a8a079e1cf6ed8.jpg
END:VEVENT
BEGIN:VEVENT
DTSTART;TZID=Europe/Bucharest:20170719T171500
DTEND;TZID=Europe/Bucharest:20170719T201500
DTSTAMP:20260420T191035
CREATED:20170711T063110Z
LAST-MODIFIED:20170719T064444Z
UID:15287-1500484500-1500495300@ghidlocal.com
SUMMARY:Vrei copii – ce știi despre fertilitate?
DESCRIPTION:Participarea este gratuită!\nDe ce să vorbim despre fertilitatea ta?\nPentru că puțini o fac corect!\nDacă ești într-o relație stabilă de mai mult de un an\, nu ai o metodă sigură de protecție și nu ai rămas însărcinată\, e un prim motiv pentru care să te întâlnești cu noi! \nDe ce să te întâlnești cu noi:\nÎntre fertilitate și infertilitate\, de multe ori distanța poate fi foarte scurtă!\nPentru că inferilitatea este o afecțiune medicală și ai nevoie de un sfat avizat!\nPentru că te întâlnești cu un specialist în infertilitate! \nȘi asta pentru că…\n…chiar dacă pentru o parte din femei aducerea pe lume este un act care se întâmplă în mod spontan\, pentru o altă parte de femei acest lucru nu este posibil în mod simplu\, natural!\n…discuțiile despre fertilitate sunt considerate de cele mai multe ori tabu!\n…primești doar proiecții ”sfătoase” de la persoane atotcunoscătoare\, care de cele mai multe ori te îndeamnă să ai răbdare\, sa fii relaxată…că în final doar relaxată\, vei avea un copil. Și astfel ceasul ticăie în defavoarea ta\, iar tu relaxată pentru cei din jur\, dar încordată undeva în sufletul tău aștepți…\, fii convinsă\, timpul nu-l vei putea da înapoi!\n…pentru că ceea ce se potrivește cuiva\, nu este valabil și pentru tine!\nVino să cunoști un specialist în infertilitate\, un specialist care îți stă la dispoziție cel puțin 2 ore\, care îti va răspunde corect la întrebările tale și care îți va povesti despre fertilitate și infertilitate. \nCui ne adresăm?\nFemei între 25 – 35 de ani;\nFemei căsătorite\, într-o relație\, singure;\nFemei care sunt în plină dezvoltare profesională;\nFemei care nu au copii\nFemei care își doresc copii.\nCând ne vedem: Miercuri 19 Iulie 2017\, ora: 17.30\, vă așteptăm începând cu ora 17.15.\nUnde ne vedem: Showroom Cafe\, str. Lungă nr. 250\, Brașov\nConfirmarea participării se face accesând link: https://goo.gl/cgMgVf  sau trimițând email la office@vivamed.ro\nMenționând „întâlnire”.\nCafeaua sau ceaiul însoțite de ceva dulce sunt din partea noastră!\nPentru buna desfășurare\, vă rugăm confirmați prezența cu cel puțin o zi înainte de eveniment. \nDr. Gabriela Lupu – este unul dintre primii specialiști din Brașov care tratează infertilitatea de mai mult de 10 ani. Acum 9 ani\, a pus bazele singurei clinici din Brașov\, în care nu doar se diagnostichează infertilitatea\, ci și se tratează prin tehnici de reproducere umană asistată (FIV\, IUI\, ICSI). În această perioadă\, împreună cu echipa Vivamed\, a reușit să readucă zâmbetul pe buzele multor cupluri aflate în dificultatea de a concepe.\n#infertilitate #sarcina #fertilitare #fiv #copii #gratuit \n
URL:https://ghidlocal.com/brasov/eveniment/vrei-copii-ce-stii-despre-fertilitate-2/
LOCATION:Showroom Cafe\, Str. Lunga Nr.250\, Brasov\, 500059\, Romania
CATEGORIES:Culinar Brasov
ATTACH;FMTTYPE=image/jpeg:https://cdn.cluj.com/ghidlocalcom/sites/6/2017/07/0540c6eab7dc9c6e884c09ac0190a69a.jpg
END:VEVENT
BEGIN:VEVENT
DTSTART;TZID=Europe/Bucharest:20170719T180000
DTEND;TZID=Europe/Bucharest:20170719T200000
DTSTAMP:20260420T191035
CREATED:20170712T065538Z
LAST-MODIFIED:20170801T063223Z
UID:15452-1500487200-1500494400@ghidlocal.com
SUMMARY:Deliciu la Borcan- Workshop Culinar cu Nora Maroiu
DESCRIPTION:Sa fie vara!\nCasa Bunatatilor a pregatit un atelier inedit\, destinat celor care vor sa-si incate simturile cu bunatati racoritoare\, la indemana oricui.\nCremele fine si fructele proaspete sunt alegerea perfecta pentru zilele toride de vara. Vom face impreuna delicii la borcan cu :\n– crema de branza si curd de lamaie\n– tiramisu si zmeura\n– mousse de ciocolata neagra si ganache after eight  \nInvestitie: 80 de lei\nLocatie: Ora0 Hive\, Razboieni\, nr.23\nCand : 19 Iulie\, ora 18:00\nPentru inscriere\, pe langa GOING\, va rugam sa trimiteti pe pagina Ora0 un mesaj privat de confirmare ferma\, cu numar de telefon\, pentru a ne pregati din timp cu materialele/ingredientele necesare. \nCasa Bunatatilor s-a nascut din pasiune pentru gatit\, pentru tot ce inseamna homemade. Casa Bunatatilor produce delicii naturale\, artizanale\, cu suflet\, care pastreaza si aduc in prezent gustul copilariei si a bunatatilor facute in casa. \n
URL:https://ghidlocal.com/brasov/eveniment/deliciu-la-borcan-workshop-culinar-cu-nora-maroiu/
LOCATION:Ora0\, De Mijloc nr.133\, Brasov\, Romania
CATEGORIES:Artă contemporană
ATTACH;FMTTYPE=image/jpeg:https://cdn.cluj.com/ghidlocalcom/sites/6/2017/07/c0fb0062bc4fed4fd4f248c1b3467e96.jpg
END:VEVENT
END:VCALENDAR