BEGIN:VCALENDAR
VERSION:2.0
PRODID:-//Ghid Local Brasov - ECPv5.1.1//NONSGML v1.0//EN
CALSCALE:GREGORIAN
METHOD:PUBLISH
X-WR-CALNAME:Ghid Local Brasov
X-ORIGINAL-URL:https://ghidlocal.com/brasov
X-WR-CALDESC:Events for Ghid Local Brasov
BEGIN:VTIMEZONE
TZID:Europe/Bucharest
BEGIN:DAYLIGHT
TZOFFSETFROM:+0200
TZOFFSETTO:+0300
TZNAME:EEST
DTSTART:20170326T010000
END:DAYLIGHT
BEGIN:STANDARD
TZOFFSETFROM:+0300
TZOFFSETTO:+0200
TZNAME:EET
DTSTART:20171029T010000
END:STANDARD
END:VTIMEZONE
BEGIN:VEVENT
DTSTART;TZID=Europe/Bucharest:20170708T120000
DTEND;TZID=Europe/Bucharest:20170708T230000
DTSTAMP:20260421T134243
CREATED:20170704T070700Z
LAST-MODIFIED:20170707T063427Z
UID:14875-1499515200-1499554800@ghidlocal.com
SUMMARY:Ziua Terroirs
DESCRIPTION:Vino cu prietenii la Terroirs Boutique du Vin\, sâmbătă\, 8 iulie: sărbătorim împreună 4 ani de la deschidere! \nProgram\n12.00 Welcome drink \n15.00 Lansare carte: Volumul 2 The Wine Book of Romania\, Marilena V. Ardelean. După o prima ediție de succes\, cu peste 6.000 de exemplare vândute\, se lanseaza al doilea volum al ghidului The Wine Book of Romania. În urma evaluării care a stat la baza acestui ghid\, au fost descrise și clasificate 279 de vinuri\, aparținând a 75 crame\, 60 din România si 15 din Republica Moldova. \n17.00 Live music – Ionuț Constantin\, solistul trupei de blues “Fernet”\, și Radu Mureșan\, chitaristul trupei electro-rock “The Sevenelevens”\, își unesc forțele muzicale pentru a crea o experiență alternative\, show-ul lor conținând cover-uri legende ale genului muzical ca de exemplu Madrugada\, Alice în Chains\, Pearl Jam\, Depeche Mode sau Queens of the Stone Age. \n19.00 DJ party  \nMeniu\nAll you can drink : 60 lei\nStreet-food buffet:\n1)Miniburger Terroirs\n2)Pulled pork Cuban sandwich\n3)Sushi-roll vegetarian (6 bucati)\n4)Wrap cu pui teriyaki\nToate la 20 lei / item.  \nVă așteptăm cu drag!\nInformații la 0733539586. \n
URL:https://ghidlocal.com/brasov/eveniment/ziua-terroirs/
LOCATION:Terroirs Boutique du Vin\, Diaconu Coresi\, Brasov\, 500025\, Romania
CATEGORIES:Culinar Brasov
ATTACH;FMTTYPE=image/jpeg:https://cdn.cluj.com/ghidlocalcom/sites/6/2017/07/ec7c8d990fecaac52cab94965ac3ed09.jpg
END:VEVENT
BEGIN:VEVENT
DTSTART;TZID=Europe/Bucharest:20170708T190000
DTEND;TZID=Europe/Bucharest:20170708T220000
DTSTAMP:20260421T134243
CREATED:20170703T094338Z
LAST-MODIFIED:20170704T065534Z
UID:14676-1499540400-1499551200@ghidlocal.com
SUMMARY:Concert
DESCRIPTION:Sâmbătă\, 8 iulie 2017\, de la ora 19.00\, în Piața Sfatului\, Opera Brașov vă invită la Concert\, în închiderea stagiunii 2016 – 2017\, un regal artistic oferit brașovenilor și turiștilor\, atât de așteptat în fiecare vară.\nÎn programul evenimentului\, sunt cuprinse arii și duete\, terțete din opere\, operete și musical-uri\, pagini de referință din istoria muzicii care\, cu siguranță\, vor încânta publicul prezent. Amintim doar o parte dintre acestea: „Bal mascat” de G. Verdi (următoarea premieră a Operei Brașov\, programată a fi pusă în scenă în toamna acestui an)\, „Ernani”\, „Il Trovatore”\, „Rigoletto”\, lucrări ale aceluiași titan\, „Carmen” de G. Bizet\, „Lakmé” de L. Delibes\, „Don Pasquale” de G. Donizetti\, „Voievodul țiganilor” și „Liliacul” de J. Strauss\, „Văduva veselă” de Fr. Lehar\, „Silvia” și „Contesa Maritza” de E. Kalman\, „West Side Story” de L. Bernstein\, „Cats” de A.L. Webber\, dar și alte surprize\, pe care vă invităm să le descoperiți în seara concertului. Vor interpreta soliștii Operei Brașov: Nicoleta Chirilă\, Aurelia Florian\, Corina Klein\, Valentina Mărgăraș\, Ioana Mărgărit\, Maria Petcu-Catrina\, Anda Pop\, Cristina Radu\, Lăcrămioara Schuller\, Asineta Răducan\, Cristina Roșu\, Liviu Iftene\, Mihai Irimia\, Alexandru Aghenie\, Adrian Mărcan\, Ștefan Schuller. La pupitrul Orchestrei Operei Brașov este invitat să dirijeze maestrul Ciprian Teodorașcu (Opera Națională București). Își dă\, de asemenea\, concursul Corul Operei Brașov\, pregătit de Leonard Boga.\n	Intrarea la acest concert este liberă. \n
URL:https://ghidlocal.com/brasov/eveniment/concert/
LOCATION:Piața Sfatului\, Piata Mare Nr. 1\, Bahnea\, 500025\, Romania
CATEGORIES:Opera Brasov
ATTACH;FMTTYPE=image/jpeg:https://cdn.cluj.com/ghidlocalcom/sites/6/2017/07/be4444187036841dd951cfdc92558d15.jpg
END:VEVENT
BEGIN:VEVENT
DTSTART;TZID=Europe/Bucharest:20170708T200000
DTEND;TZID=Europe/Bucharest:20170708T230000
DTSTAMP:20260421T134243
CREATED:20170704T070627Z
LAST-MODIFIED:20170707T064012Z
UID:14869-1499544000-1499554800@ghidlocal.com
SUMMARY:Vacanzza incepe la Bonanzza !
DESCRIPTION:intrare 10 lei \n
URL:https://ghidlocal.com/brasov/eveniment/vacanzza-incepe-la-bonanzza/
LOCATION:Bonanzza Brasov\, Str. Zizinului\, nr.1-3-5\, Brassó\, 520063\, Romania
CATEGORIES:Concerte Brasov
ATTACH;FMTTYPE=image/jpeg:https://cdn.cluj.com/ghidlocalcom/sites/6/2017/07/81c829121e8cd89b082fd99a372910c5.jpg
END:VEVENT
BEGIN:VEVENT
DTSTART;TZID=Europe/Bucharest:20170708T210000
DTEND;TZID=Europe/Bucharest:20170708T000000
DTSTAMP:20260421T134243
CREATED:20170703T094153Z
LAST-MODIFIED:20170707T064654Z
UID:14670-1499547600-1499472000@ghidlocal.com
SUMMARY:Luciri Optzeciste - 8.07 - Kruhnen Musik Halle
DESCRIPTION:Vă amintiţi de minunaţii interpreţi de muzică uşoară din perioada anilor ’80? \nProbabil unii dintre noi ştiu de petrecerile pe care părinţii noştri le organizau cu diverse ocazii\, şi în cadrul cărora\, dacă nu avea cineva vreun disc\, o bandă de magnetofon sau casete cu muzică “de dincolo”\, dansau în draci pe Margareta Pâslaru\, Trio Expres\, Runceanu\, Mirabela… \nPropunem\, aşadar\, o reînviere a perioadei muzicii uşoare optzeciste\, într-o caldă şi plăcută ambianţă\, prin seri fabuloase de dans\, încercând să recreăm atmosfera plină de farmec a sindrofiilor dansante din acei ani. \nDesigur\, pentru a răspunde unei plaje cât mai largi de gusturi\, printre celebrele şlagăre româneşti\, se vor strecura\, cu mare atenţie si gingăşie\, hit-uri din repertoriul internaţional din această prolifică decadă muzicală. \nAti cerut\, ati primit. O seara exclusiv 80s\, la Kruhnen Musik Halle. 8 iulie\, dupa 21:00 \nIntrarea este cat se poate de libera. \n
URL:https://ghidlocal.com/brasov/eveniment/luciri-optzeciste-8-07-kruhnen-musik-halle/
LOCATION:Kruhnen Musik Halle\, Nicolae Titulescu\, 2P\, Brasov\, Romania
CATEGORIES:Concerte Brasov
ATTACH;FMTTYPE=image/jpeg:https://cdn.cluj.com/ghidlocalcom/sites/6/2017/07/580533f8a5ac640b80a09883721e5332.jpg
END:VEVENT
END:VCALENDAR