BEGIN:VCALENDAR
VERSION:2.0
PRODID:-//Ghid Local Brasov - ECPv5.1.1//NONSGML v1.0//EN
CALSCALE:GREGORIAN
METHOD:PUBLISH
X-WR-CALNAME:Ghid Local Brasov
X-ORIGINAL-URL:https://ghidlocal.com/brasov
X-WR-CALDESC:Events for Ghid Local Brasov
BEGIN:VTIMEZONE
TZID:Europe/Bucharest
BEGIN:DAYLIGHT
TZOFFSETFROM:+0200
TZOFFSETTO:+0300
TZNAME:EEST
DTSTART:20170326T010000
END:DAYLIGHT
BEGIN:STANDARD
TZOFFSETFROM:+0300
TZOFFSETTO:+0200
TZNAME:EET
DTSTART:20171029T010000
END:STANDARD
END:VTIMEZONE
BEGIN:VEVENT
DTSTART;TZID=Europe/Bucharest:20170706T180000
DTEND;TZID=Europe/Bucharest:20170706T200000
DTSTAMP:20260421T204950
CREATED:20170703T095328Z
LAST-MODIFIED:20170706T063050Z
UID:14715-1499364000-1499371200@ghidlocal.com
SUMMARY:Atelier de vacanta pentru copii: modelaj in lut
DESCRIPTION:Asociaţia Culturală Artessentia ii invita pe copii\, parinti sau bunici\, la atelierele de arte si mestesuguri specifice zonei\,  organizate la Casa Junilor pe perioada vacantei de vara.  \nJoia aceasta\, ghidati de artistii de la Artessentia\, Ioan si Vladimir Taroi\, copiii  au ocazia sa descopere arta modelajului in lut\, sa experimenteze diferite tehnici de prelucrare a lutului\, sa se familiarizeze cu instrumentarul specific si sa se bucure de atingerea unui material natural\, cu valente benefice. \nAtelierul se adreseaza in special copiilor peste 4 ani\, dar atelierul nostru poate fi un bun prilej de a petrece timp impreuna\, in familie. \nTaxa participare: 25 lei  – Sunt incluse materialele si uneltele necesare. \nPentru inscrieri\, va rugam să transmiteţi un mesaj de confirmare fermă cu titlul „Inscriere atelier modelaj”\, pe  email casajunilor@gmail.com\, care să conţină numele participantilor si un numar de telefon de contact. \nVa asteptam cu drag! \n
URL:https://ghidlocal.com/brasov/eveniment/atelier-de-vacanta-pentru-copii-modelaj-in-lut-2/
LOCATION:Casa Junilor\, Prundului 1\, Brasov\, 500123\, Romania
ATTACH;FMTTYPE=image/jpeg:https://cdn.cluj.com/ghidlocalcom/sites/6/2017/07/81aff3fffce212a46c20fa2d661fa937.jpg
END:VEVENT
BEGIN:VEVENT
DTSTART;TZID=Europe/Bucharest:20170706T190000
DTEND;TZID=Europe/Bucharest:20170706T230000
DTSTAMP:20260421T204950
CREATED:20170704T070455Z
LAST-MODIFIED:20170706T063716Z
UID:14858-1499367600-1499382000@ghidlocal.com
SUMMARY:Celest Audition with DJ Silvermountain
DESCRIPTION:DJ Silvermountain va amesteca mai multe discuri de inspirație spațială în cadrul expoziției de instalații interactive Celest.\n Bogdan Runceanu aka Bo 2ironic.com ne va imersa vizual în spațiu.\nVă așteptăm să vă teleportați joi de al 19.00 la Muzeul Casa Mureșenilor să călătoriți printre stele.\nIntrare liberă. \nCelest este un proiect cultural susținut din bugetul municipiului Brașov și partenerii Asociația Laborazon și Muzeul Casa Muresenilor Brasov. \nExpoziția Celest este deschisă până pe 13 iulie cu program general de vizitare luni-sâmbătă\, 9.00-17.00.\nhttps://www.facebook.com/events/2382665315205721/ \n
URL:https://ghidlocal.com/brasov/eveniment/celest-audition-with-dj-silvermountain/
LOCATION:Muzeul Casa Muresenilor Brasov\, Piata Sfatului 25\, Brasov\, 500025\, Romania
ATTACH;FMTTYPE=image/jpeg:https://cdn.cluj.com/ghidlocalcom/sites/6/2017/07/8f7e8b8bb2f3c4403f6d1e458a31d7bd.jpg
END:VEVENT
BEGIN:VEVENT
DTSTART;TZID=Europe/Bucharest:20170706T193000
DTEND;TZID=Europe/Bucharest:20170706T223000
DTSTAMP:20260421T204950
CREATED:20170703T095243Z
LAST-MODIFIED:20170706T064717Z
UID:14706-1499369400-1499380200@ghidlocal.com
SUMMARY:Lansarea romanului Casa din Strada Sirenelor de Octavian Soviany
DESCRIPTION:Joi seara\, 6 iulie\, de la 19:30\, ne întâlnim la Tipografia cu Octavian Soviany și cel mai recent roman al său\, Casa din Strada Sirenelor\, publicat de curând la Editura Hyperliteratura. Alături de autor\, va vorbi și editorul cărții\, scriitorul Andrei Ruse\, și jurnalistul Liviu Mihaiu. \nDetalii despre carte\, video-trailer sau fragmente online\, aici:\nHyperliteratura.ro/produs/Casa-din-Strada-Sirenelor \n*** \n„Am scris Casa din Strada Sirenelor din plăcerea de a povesti\, poate și din pasiunea pentru Dumas”. \nDupă succesul obținut cu romanele „Viața lui Kostas Venetis” sau „Moartea lui Siegfried”\, Octavian Soviany\, considerat unul dintre cei mai importanți scriitori români contemporani\, revine cu un proiect în care misterul și povestirile stranii trimit cititorul într-un tărâm al supranaturalului și al unor întâmplări aproape mistice\, într-un stil demn de cel al scriitorilor clasici ai literaturii universale. \nÎntr-o seară de Sfântul Andrei\, profesorul Faustin invită la o masă îmbelșugată în casa sa veche de pe Strada Sirenelor doisprezece cunoscuți. Firi contrastante\, indivizi cu preocupări total diferite\, aceștia încep să-și depene amintiri inexplicabile din trecutul lor\, pornind de la articolul din presă al unuia dintre invitați\, care aborda decizia Bisericii Ortodoxe de a refuza înmormântarea creștinească pentru cei ce aleg să fie incinerați. Urmează o noapte înțesată de istorisiri care îți dau fiori\, pline de esoterism sau spiritism\, la limita dintre mister și horror\, vieți anterioare\, prezențe spectrale\, sindromul Lazăr și alte întâmplări ieșite din comun\, în care ceva cu toul neașteptat se petrece cu unul dintre personaje\, punând sub semnul întrebării întregul scop al serii\, aparent obișnuite. \nPagina cărții pe Facebook: Facebook.com/StradaSirenelor \nIntrarea liberă\nBun de tipar: 0722373090 \n
URL:https://ghidlocal.com/brasov/eveniment/lansarea-romanului-casa-din-strada-sirenelor-de-octavian-soviany/
LOCATION:Tipografia\, Str. Postăvarului Nr.1 (colț cu Str. Diaconu Coresi)\, Brasov\, 500024\, Romania
CATEGORIES:Altele
ATTACH;FMTTYPE=image/jpeg:https://cdn.cluj.com/ghidlocalcom/sites/6/2017/07/4ab21e05038605bb668b3dafa17b85e9.jpg
END:VEVENT
END:VCALENDAR