BEGIN:VCALENDAR
VERSION:2.0
PRODID:-//Ghid Local Brasov - ECPv5.1.1//NONSGML v1.0//EN
CALSCALE:GREGORIAN
METHOD:PUBLISH
X-WR-CALNAME:Ghid Local Brasov
X-ORIGINAL-URL:https://ghidlocal.com/brasov
X-WR-CALDESC:Events for Ghid Local Brasov
BEGIN:VTIMEZONE
TZID:Europe/Bucharest
BEGIN:DAYLIGHT
TZOFFSETFROM:+0200
TZOFFSETTO:+0300
TZNAME:EEST
DTSTART:20170326T010000
END:DAYLIGHT
BEGIN:STANDARD
TZOFFSETFROM:+0300
TZOFFSETTO:+0200
TZNAME:EET
DTSTART:20171029T010000
END:STANDARD
END:VTIMEZONE
BEGIN:VEVENT
DTSTART;TZID=Europe/Bucharest:20170624T110000
DTEND;TZID=Europe/Bucharest:20170624T200000
DTSTAMP:20260424T201256
CREATED:20170612T062444Z
LAST-MODIFIED:20170620T061217Z
UID:13449-1498302000-1498334400@ghidlocal.com
SUMMARY:La Târgul Românașul sărbătorim Ziua Internațională a IEI
DESCRIPTION:Și în acest an vom sărbători la târgul Românașul ZIUA INTERNAȚIONALĂ A IEI cu o minunată expoziție dedicată iei numită „HORA”\, realizată în colaborare cu Asociația Firul Întors și un târg cu produse handmade specifice acestei sărbători.\nVă invităm la un eveniment plin de frumos și drag. \n
URL:https://ghidlocal.com/brasov/eveniment/la-targul-romanasul-sarbatorim-ziua-internationala-a-iei/
LOCATION:Centrul-Cultural Reduta\, str.Apollonia Hirscher nr.8\, Brasov\, 500025\, Romania
CATEGORIES:Altele
ATTACH;FMTTYPE=image/jpeg:https://cdn.cluj.com/ghidlocalcom/sites/6/2017/06/054dacfc3cf464ac79689f1a06654be2.jpg
END:VEVENT
BEGIN:VEVENT
DTSTART;TZID=Europe/Bucharest:20170624T110000
DTEND;TZID=Europe/Bucharest:20170624T140000
DTSTAMP:20260424T201256
CREATED:20170613T063411Z
LAST-MODIFIED:20170615T063748Z
UID:13507-1498302000-1498312800@ghidlocal.com
SUMMARY:Freestyle Painting- Atelier pictura in aer liber
DESCRIPTION:Vino sambata\, 24 iunie\, la ora 11:00\, la Ora0 Hive si lasa-ti imaginatia sa vibreze…pe panza!  \nLocatie: Ora0 Hive\nAdresa: Str. Razboieni 23\nLocuri: 13\nTaxa participare: 80 de lei/persoana- cu materialele incluse (panza\, vopsele-acuarele si acrilice\, pensule) si bunatati de la Dulcineea!\nAsteptam confirmarile de participare pana pe data de 21 iunie. Confirmarile se fac prin mesaj privat pe pagina Ora0. \n
URL:https://ghidlocal.com/brasov/eveniment/freestyle-painting-atelier-pictura-in-aer-liber/
LOCATION:Ora0 Hive\, Str. RAZBOIENI NR.23\, Brasov\, Romania
CATEGORIES:Artă contemporană
ATTACH;FMTTYPE=image/jpeg:https://cdn.cluj.com/ghidlocalcom/sites/6/2017/06/027062dc73d235e164c21026c3a800e3.jpg
END:VEVENT
BEGIN:VEVENT
DTSTART;TZID=Europe/Bucharest:20170624T210000
DTEND;TZID=Europe/Bucharest:20170624T050000
DTSTAMP:20260424T201256
CREATED:20170613T063430Z
LAST-MODIFIED:20170615T063805Z
UID:13514-1498338000-1498280400@ghidlocal.com
SUMMARY:Fu(n)king With the 90s - 24.06 - Kruhnen Musik Halle
DESCRIPTION:Cel mai tare party din Brasov se intoarce – dupa 4 editii Sold Out – pe 24 iunie in acelasi loc\, Kruhnen Musik Halle. \nSambata\, 24 iunie te invitam la o noua editie Fu(n)king with the 90s. Daca ai prins vremurile Atomic TV\, discoteca Ring sau vrei sa iti faci o idee despre hit-urile care-i scoteau din casa pe ‘hipsterii’ anilor 90 (si pe care le asculti si tu acasa pe YouTube) te asteptam la un party concentrat exact pe perioada anilor 90\, de la celebrul eurodance pana la hiturile consacrate romanesti\, de la Ace Of Base sau Mc Hammer pana la A.S.I.A. si N&D. \nIntrarea este cat se poate de libera! Incepe dupa 21:00 \n
URL:https://ghidlocal.com/brasov/eveniment/funking-with-the-90s-24-06-kruhnen-musik-halle/
LOCATION:Kruhnen Musik Halle\, Nicolae Titulescu\, 2P\, Brasov\, Romania
CATEGORIES:Concerte Brasov
ATTACH;FMTTYPE=image/jpeg:https://cdn.cluj.com/ghidlocalcom/sites/6/2017/06/0530db50f198ce96ab76ffddf7d988ce.jpg
END:VEVENT
END:VCALENDAR