BEGIN:VCALENDAR
VERSION:2.0
PRODID:-//Ghid Local Brasov - ECPv5.1.1//NONSGML v1.0//EN
CALSCALE:GREGORIAN
METHOD:PUBLISH
X-WR-CALNAME:Ghid Local Brasov
X-ORIGINAL-URL:https://ghidlocal.com/brasov
X-WR-CALDESC:Events for Ghid Local Brasov
BEGIN:VTIMEZONE
TZID:Europe/Bucharest
BEGIN:DAYLIGHT
TZOFFSETFROM:+0200
TZOFFSETTO:+0300
TZNAME:EEST
DTSTART:20180325T010000
END:DAYLIGHT
BEGIN:STANDARD
TZOFFSETFROM:+0300
TZOFFSETTO:+0200
TZNAME:EET
DTSTART:20181028T010000
END:STANDARD
END:VTIMEZONE
BEGIN:VEVENT
DTSTART;TZID=Europe/Bucharest:20180426T183000
DTEND;TZID=Europe/Bucharest:20180426T203000
DTSTAMP:20260423T044356
CREATED:20180306T133747Z
LAST-MODIFIED:20180306T133747Z
UID:44332-1524767400-1524774600@ghidlocal.com
SUMMARY:Workshop Inteligenta Emotionala - Cum sa iesi din cutie
DESCRIPTION:Ce este cutia? Poate intuiesti sau stii deja… Daca nu\, vei afla. \nCum si de ce sa iesi din ea?\nCa sa ai relatii implinite\, sa comunici autentic si eficient\, sa te faci auzit\, si sa gasesti solutii\, in loc sa vezi probleme. Intr-un cuvant\, ca sa-ti faci viata mai frumoasa. \nCu ce pleci de la workshop?\nCu tehnici si exercitii concrete prin care poti realiza acest lucru si prin care ii poti sustine si pe altii. \nDaca vrei si tu sa te bucuri de o viata mai frumoasa\, relatii implinite si o comunicare mai buna\,  urmareste in continuare postarile pentru detalii si rezerva-ti locul din timp! \n#iesidincutie #antreneazatimintea \n
URL:https://ghidlocal.com/brasov/eveniment/workshop-inteligenta-emotionala-cum-sa-iesi-din-cutie/
LOCATION:Training si Coaching Transformational\, Brasov\, Brasov\, RO
CATEGORIES:Workshop Brasov
ATTACH;FMTTYPE=image/jpeg:https://cdn.cluj.com/ghidlocalcom/sites/6/2018/03/44332_image_28619326_1708730202518720_4509850907405077061_o.jpg
END:VEVENT
END:VCALENDAR