BEGIN:VCALENDAR
VERSION:2.0
PRODID:-//Ghid Local Brasov - ECPv5.1.1//NONSGML v1.0//EN
CALSCALE:GREGORIAN
METHOD:PUBLISH
X-WR-CALNAME:Ghid Local Brasov
X-ORIGINAL-URL:https://ghidlocal.com/brasov
X-WR-CALDESC:Events for Ghid Local Brasov
BEGIN:VTIMEZONE
TZID:Europe/Bucharest
BEGIN:DAYLIGHT
TZOFFSETFROM:+0200
TZOFFSETTO:+0300
TZNAME:EEST
DTSTART:20180325T010000
END:DAYLIGHT
BEGIN:STANDARD
TZOFFSETFROM:+0300
TZOFFSETTO:+0200
TZNAME:EET
DTSTART:20181028T010000
END:STANDARD
END:VTIMEZONE
BEGIN:VEVENT
DTSTART;TZID=Europe/Bucharest:20180505T100000
DTEND;TZID=Europe/Bucharest:20180506T180000
DTSTAMP:20260423T013826
CREATED:20180323T083448Z
LAST-MODIFIED:20180323T083448Z
UID:46620-1525514400-1525629600@ghidlocal.com
SUMMARY:Workshop Cluj: Numerologie aplicata
DESCRIPTION:„Cel care este stapanul mintii sale este stapanul Universului.” Confucius \nCe vei descoperi la workshop? \nNumerologia de-a lungul secolelor\nSemnificatia cifrelor\, forma lor\, caracteristici\nVibratia interioara\nVibratia sociala\nCalea destinului\nNumerele si culorile\nActiv/pasiv si masculin/feminin in numerologie\nCele 4 elemente in constructia vietii\nVectorii si interpretarea lor\nNumerele si culorile \nUnde si cand ne intalnim?\nCluj – locatia se transmite celor inscrisi\n5-6 mai\, 10.00-18.00\nMA INSCRIU: https://alexaevent.ro/2018/03/18/workshop-cluj-numerologie-aplicata/ \nNumerologia este stiinta numerelor. Insa aceasta stiinta se intereseaza de valoarea simbolica sau calitativa a numerelor\, comparativ cu matematica care apartine de domeniul cantitativ al numerelor. \nChiar daca este o stiinta straveche\, mult timp a fost tinuta secreta si era accesibila doar celor initiati. Insa acum ai ocazia sa o descoperi si tu printr-un workshop de initiere in aceasta stiinta exacta si cuprinzatoare. \nIn urma acestui prim modul vei putea sa intelegi si sa descifrezi caracteristicile unei persoane doar din data de nastere! In urma celor 2 zile de curs\, cei ce vor dori sa intre in profunzime\, pot participa la un al doilea modul in care vom discuta: scara fericirii\, graficul energetic\, ciclurile\, numele si interpretarea acestuia\, literele si cifrele\, etc. \nBeneficiile participarii la workhop? \nDescoperi o stiinta fascintanta ce iti aduce raspunsul la intrebarile tale\, de orice natura ar fi\nAfli care este drumul tau in viata\, calea destinului\nDescoperi cum poti folosi numerele in cuplu\, familie\, cariera si viata personala\nPoti cunoaste atat partea vazuta cat si cea nevazuta a oamenilor din jurul tau!\nPoti descoperi talentele cu care ai venit in aceasta viata! Mai mult\, ii poti ajuta pe cei din jurul tau sa isi descopere talentele lor!\nDescoperi ce aspecte necesita imbunatatite si cum poti face acest lucru\nTabloul numerologic al datei de nastere iti ofera de cel putin 10 ori mai multe informatii comparativ cu testul standardizat!\nTe ajuta sa constientizezi lucruri si aspecte ce pana acum nu le intelegeai!\nDaca workshop-ul nu iti este de ajutor\, sau cele mentionate mai sus nu sunt atinse\, atunci noi iti oferim banii integral inapoi! \nCum ma inscriu?\nInscrierea se face prin completarea formularului de participare din pagina. In urma completarii formularului veti primi detaliile pentru plata avansului de 200 lei. Rezervarea ferma se face in baza avansului \nCost curs 450 lei\, pret redus pana la 24 aprilie\, ulterior pretul fiind de 600 lei! \nCost curs 450 lei\, pret redus pana la 24 aprilie\, ulterior pretul fiind de 600 lei!\nMA INSCRIU – https://alexaevent.ro/2018/03/18/workshop-cluj-numerologie-aplicata/\nDetalii si informatii la 0742483333 sau office@alexaevent.ro \n
URL:https://ghidlocal.com/brasov/eveniment/workshop-cluj-numerologie-aplicata/
LOCATION:Alexaevent.ro\, Strada15 noiembrie nr 44\, Brasov\, RO
CATEGORIES:Cursuri
ATTACH;FMTTYPE=image/jpeg:https://cdn.cluj.com/ghidlocalcom/sites/6/2018/03/46620_image_29313904_2062942153745820_981380351890817024_o.jpg
END:VEVENT
END:VCALENDAR