BEGIN:VCALENDAR
VERSION:2.0
PRODID:-//Ghid Local Brasov - ECPv5.1.1//NONSGML v1.0//EN
CALSCALE:GREGORIAN
METHOD:PUBLISH
X-WR-CALNAME:Ghid Local Brasov
X-ORIGINAL-URL:https://ghidlocal.com/brasov
X-WR-CALDESC:Events for Ghid Local Brasov
BEGIN:VTIMEZONE
TZID:Europe/Bucharest
BEGIN:DAYLIGHT
TZOFFSETFROM:+0200
TZOFFSETTO:+0300
TZNAME:EEST
DTSTART:20180325T010000
END:DAYLIGHT
BEGIN:STANDARD
TZOFFSETFROM:+0300
TZOFFSETTO:+0200
TZNAME:EET
DTSTART:20181028T010000
END:STANDARD
END:VTIMEZONE
BEGIN:VEVENT
DTSTART;TZID=Europe/Bucharest:20180414T100000
DTEND;TZID=Europe/Bucharest:20180414T150000
DTSTAMP:20260423T162701
CREATED:20180316T083452Z
LAST-MODIFIED:20180316T083452Z
UID:45756-1523700000-1523718000@ghidlocal.com
SUMMARY:Workshop Brasov: Corpul\, senzorul fericirii cu Luana Ibacka
DESCRIPTION:Workshop Brasov: Corpul\, senzorul fericirii cu Luana Ibacka \n● Workshop  de constienta si comunicare  corporala ( prezenta\, postura & miscare) \, destinat intelegerii comunicarii cu sine si cu ceilalti\, prin propriul corp. Raspunde prin experienta corporala intrebarii  „Ce fac eu subconștient zi de zi și nu funcționează pentru mine în mod benefic?”.  \nMajoritatea evenimentelor de dezvoltare personala\, sunt teoretice. Insa „orezul nu se coace stand de vorba”- spune un proverb care-mi place. O pauza de „minte” si gandire\, pentru a ne trezi intuitia\, feminitatea\, energia naturala\, este esenta acestui workshop. \nIn programul workshop ului :\n– Mimica\, gesturile si postura\n– Conexiunea\, contactul vizual\, privirea\, zambetul\n– Cele 7 emotii universale si modul in care sunt somatizate in corp (cauzele emotionale ale bolilor)\n– Informații transmise prin atingere\n– Cum influențeaza proximitatea\n– Modul in care am putea interpreta timpul si spatiul \n Pentru ca ceilalti sa te vada in forma\, tu te vezi asa? Pentru a intelege ce te blocheaza\, iti asculti corpul? Faci legatura intre dependentele tale psihologice\, si felul in care arati\, te simti\, te misti? \n● Programul „Body Influencer by Luana Ibacka”\, din care s-a desprins acest workshop\,  te invata cum sa folosesti o atitudine controlata\, bazata pe trairi autentice. Iubirea de sine presupune o disciplina si o constientizare clipa de clipa\, a alegerilor. Pe de o parte te accepti asa cum esti acum\, pe de alta parte esti vigilenta / atenta la transferul gandurilor in plan fizic.\n● Vei primi deopotriva informatii teoretice de comunicare non verbala si exercitii practice pentru postura si atitudine. Vom exersa creativitatea și spontaneitatea prin intermediul improvizației in miscare.  \nVrei sa fii mereu in forma? FLEXIBILITATEA este cheia tineretii ! \nObserva-ti obiceiurile comportamentale\, postura\, echilibrul corpului. Pofta de a te misca\, de a te expune fizic. Pe o scara de la 1 la 10\, unde te afli cu exprimarea corporala constienta? Emotiile\, stresul\, problemele nerezolvate pot crea epuizare\, si in general\, un cadru defectuos de functionare a organelor\, muschilor\,etc.  \n✿ WK RASPUNDE intrebarilor :\n– Care este baza pentru CUM ARAT si CE SIMT? Ce este echilibrul minte/corp?\n– Care este CONSTIINTA mea CORPORALA? Cum pot cultiva prezenta?\n– Ce alternative am sa imi gestionez energia FIZICA prin ganduri \, cuvinte\, exercitii?\n– Pot imbunatati postura\, fiind prezent atunci cand fac orice tip de miscare?\n– Ce natura au blocajele concrete și tensiunile care se declanșează la nivel corporal?\n– Ce inseamna cand spun „NU POT” unor propuneri care se adreseaza corpului?\nLucram prin relaxare\, conexiune\, constientizare\, improvizatie. \n  ✿ Exploram prin meditatie ghidata: \n-Imaginea corpului\n-Limitele corpului\n-Conceptul de sine \n? Dacă dorești să împartășești această minunată experiență îți poți invita prietenii și familia. Se negociaza inscrieri de grup sau familie.Cu toate ca femeile isi doresc mai mult sa se exprime prin corp\, workshopul este ideal sa se desfasoare gender propotion ( femei/barbati)\, Dacă esti trainer sau instructor de dans\, vei afla multe exercitii utile comunicarii prin constienta si conexiune.? \n ● Participarea se face pe baza inscrierii in formular si plata anticipata!\n ● workshop: 14 aprilie orele 10.00 – 15.00\n ●  Preț special! 200 lei  pt inscrieri pana in data de 3 aprilie! Ulterior pretul intreg este de 300 lei!\nIn pauza servim ritualul de cacao si ritualul de ceai.\nOutfit: trening sau colanti\, tricou+1 de schimb\,sosete groase sau balerini sport\n✿ Inscrieri aici: https://alexaevent.ro/2018/03/12/workshop-brasov-corpul-senzorul-fericirii-cu-luana-ibacka/\nSe considera rezervat locul in momentul achitarii sumei 200 ron in campanie de pret special\, sau 150 ron avans din suma intreaga\, dupa data de 3 aprilie.\nDetalii la 0742483333 sau office@alexaevent.ro\nDacă vrei să afli mai multe informații despre curs\, le găsești aici: \n\nWorkshop BODY Influencer Program \n\n
URL:https://ghidlocal.com/brasov/eveniment/workshop-brasov-corpul-senzorul-fericirii-cu-luana-ibacka/
LOCATION:Alexaevent.ro\, Strada15 noiembrie nr 44\, Brasov\, RO
CATEGORIES:Cursuri
ATTACH;FMTTYPE=image/jpeg:https://cdn.cluj.com/ghidlocalcom/sites/6/2018/03/45756_image_29066828_2053752474664788_7944461334521839616_o.jpg
END:VEVENT
END:VCALENDAR