BEGIN:VCALENDAR
VERSION:2.0
PRODID:-//Ghid Local Brasov - ECPv5.1.1//NONSGML v1.0//EN
CALSCALE:GREGORIAN
METHOD:PUBLISH
X-WR-CALNAME:Ghid Local Brasov
X-ORIGINAL-URL:https://ghidlocal.com/brasov
X-WR-CALDESC:Events for Ghid Local Brasov
BEGIN:VTIMEZONE
TZID:Europe/Bucharest
BEGIN:DAYLIGHT
TZOFFSETFROM:+0200
TZOFFSETTO:+0300
TZNAME:EEST
DTSTART:20180325T010000
END:DAYLIGHT
BEGIN:STANDARD
TZOFFSETFROM:+0300
TZOFFSETTO:+0200
TZNAME:EET
DTSTART:20181028T010000
END:STANDARD
END:VTIMEZONE
BEGIN:VEVENT
DTSTART;TZID=Europe/Bucharest:20180415T180000
DTEND;TZID=Europe/Bucharest:20180415T210000
DTSTAMP:20260423T145514
CREATED:20180306T093634Z
LAST-MODIFIED:20180306T093634Z
UID:44293-1523815200-1523826000@ghidlocal.com
SUMMARY:Work Shop cu elevii Asociatiei Prefix TM
DESCRIPTION:a doua runda de cantare cu elevii asociatiei Prefix TM\, dupa ce prima a avut loc in ianuarie si s-a bucurat de mult succes 🙂 \nAcest gen de eveniment este facut in special pentru elevii asociatiei noastre\, impartasirea gustului de a fi pe scena in fata oamenilor facand parte din procesul de invatare a ceea ce ne am propus sa facem cu acesti minunati copii . \nPe rand\, toti elevii nostri vor canta fie melodii studiate in prealabil in sala de repetitii\, fie vor face Jam Session \n
URL:https://ghidlocal.com/brasov/eveniment/work-shop-cu-elevii-asociatiei-prefix-tm/
LOCATION:Britishpubbrasov\, Alexandru Ioan Cuza 5\, Brasov\, 500014\, RO
CATEGORIES:Party-uri Brasov
ATTACH;FMTTYPE=image/jpeg:https://cdn.cluj.com/ghidlocalcom/sites/6/2018/03/44293_image_17991351_727728454098537_3024802473218272283_o.jpg
END:VEVENT
END:VCALENDAR