BEGIN:VCALENDAR
VERSION:2.0
PRODID:-//Ghid Local Brasov - ECPv5.1.1//NONSGML v1.0//EN
CALSCALE:GREGORIAN
METHOD:PUBLISH
X-WR-CALNAME:Ghid Local Brasov
X-ORIGINAL-URL:https://ghidlocal.com/brasov
X-WR-CALDESC:Events for Ghid Local Brasov
BEGIN:VTIMEZONE
TZID:Europe/Bucharest
BEGIN:DAYLIGHT
TZOFFSETFROM:+0200
TZOFFSETTO:+0300
TZNAME:EEST
DTSTART:20180325T010000
END:DAYLIGHT
BEGIN:STANDARD
TZOFFSETFROM:+0300
TZOFFSETTO:+0200
TZNAME:EET
DTSTART:20181028T010000
END:STANDARD
END:VTIMEZONE
BEGIN:VEVENT
DTSTART;TZID=Europe/Bucharest:20180331T170000
DTEND;TZID=Europe/Bucharest:20180331T230000
DTSTAMP:20260421T004753
CREATED:20180312T202342Z
LAST-MODIFIED:20180312T202342Z
UID:45228-1522515600-1522537200@ghidlocal.com
SUMMARY:Work Shop & Concert
DESCRIPTION:Asociatia Prefix TM revine cu un work shop pentru elevii sai si cu ocazia acestui eveniment\, da ocazia unor trupe noi de a se afirma.  \nAsadar\, intre orele 17 si 19 30\, vor urca pe scena pubului elevii din cadrul asociatiei\, iar intre orele 20 30 SI 23 vom avea concert cu doua trupe  \nDin Bucuresti vin Time Machine\, o trupa formata din artisti cu ceva state vechi de plata in ale scenei \nhttps://www.facebook.com/trupatimemachine/ \nIar din Brasov avem trupa Nameless Horizons care cu aceasta ocazie\, isi vor lansa materialul \nhttps://www.facebook.com/namelesshorizons13/ \npentru concert\, accesul costa 20 lei/ pers\npentru work shop\, intrarea este libera \n
URL:https://ghidlocal.com/brasov/eveniment/work-shop-concert/
LOCATION:Britishpubbrasov\, Alexandru Ioan Cuza 5\, Brasov\, 500014\, RO
CATEGORIES:Party-uri Brasov
ATTACH;FMTTYPE=image/jpeg:https://cdn.cluj.com/ghidlocalcom/sites/6/2018/03/45228_image_28616654_745487612322621_3824035968606015877_o.jpg
END:VEVENT
END:VCALENDAR