BEGIN:VCALENDAR
VERSION:2.0
PRODID:-//Ghid Local Brasov - ECPv5.1.1//NONSGML v1.0//EN
CALSCALE:GREGORIAN
METHOD:PUBLISH
X-WR-CALNAME:Ghid Local Brasov
X-ORIGINAL-URL:https://ghidlocal.com/brasov
X-WR-CALDESC:Events for Ghid Local Brasov
BEGIN:VTIMEZONE
TZID:Europe/Bucharest
BEGIN:DAYLIGHT
TZOFFSETFROM:+0200
TZOFFSETTO:+0300
TZNAME:EEST
DTSTART:20180325T010000
END:DAYLIGHT
BEGIN:STANDARD
TZOFFSETFROM:+0300
TZOFFSETTO:+0200
TZNAME:EET
DTSTART:20181028T010000
END:STANDARD
END:VTIMEZONE
BEGIN:VEVENT
DTSTART;TZID=Europe/Bucharest:20180331T230000
DTEND;TZID=Europe/Bucharest:20180401T050000
DTSTAMP:20260421T181826
CREATED:20180329T074233Z
LAST-MODIFIED:20180329T074233Z
UID:47318-1522537200-1522558800@ghidlocal.com
SUMMARY:Who Needs Boys?
DESCRIPTION:Girls\, this saturday get LOST IN TEMPLE! \nGood music\, beautiful people\, best atmosphere and a lot of FUN!\nLet’s dance like we own the place on DJ ALEX’s vibes!! \n–––––\nFree Entry!\nINFO & RSVP: 0733800700 | M.Kogalniceanu 15\, Brasov\n–––––––––––\nAccesul este permis doar persoanelor care au împlinit vârsta de 18 ani!\nTemple Pub isi rezerva dreptul de a-si selecta clientela \nartwork by Roland Muresan \n
URL:https://ghidlocal.com/brasov/eveniment/who-needs-boys/
LOCATION:Temple Pub\, Strada Mihail Kogalniceanu no. 15\, Brasov\, 500173\, RO
CATEGORIES:Divertisment Brasov
ATTACH;FMTTYPE=image/jpeg:https://cdn.cluj.com/ghidlocalcom/sites/6/2018/03/47318_image_29354976_1895912423775674_3157114886070377058_o.jpg
END:VEVENT
END:VCALENDAR