BEGIN:VCALENDAR
VERSION:2.0
PRODID:-//Ghid Local Brasov - ECPv5.1.1//NONSGML v1.0//EN
CALSCALE:GREGORIAN
METHOD:PUBLISH
X-WR-CALNAME:Ghid Local Brasov
X-ORIGINAL-URL:https://ghidlocal.com/brasov
X-WR-CALDESC:Events for Ghid Local Brasov
BEGIN:VTIMEZONE
TZID:Europe/Bucharest
BEGIN:DAYLIGHT
TZOFFSETFROM:+0200
TZOFFSETTO:+0300
TZNAME:EEST
DTSTART:20180325T010000
END:DAYLIGHT
BEGIN:STANDARD
TZOFFSETFROM:+0300
TZOFFSETTO:+0200
TZNAME:EET
DTSTART:20181028T010000
END:STANDARD
END:VTIMEZONE
BEGIN:VEVENT
DTSTART;TZID=Europe/Bucharest:20180213T163000
DTEND;TZID=Europe/Bucharest:20180213T183000
DTSTAMP:20260420T125039
CREATED:20180212T095047Z
LAST-MODIFIED:20180212T095727Z
UID:40413-1518539400-1518546600@ghidlocal.com
SUMMARY:Wellness Day
DESCRIPTION:Evalueaa-ti starea de SANATATE intr-o clipa\n*Afli care este compozitia ta corporala\n*Descoperi care este varsta ta biologica\n*primesti recomandari privind sanatatea si stilul de viata\n*poti sa intri intr-un Program de Stil de Viata Sanatos sau Programul Controlul Greutatii alaturi \n
URL:https://ghidlocal.com/brasov/eveniment/wellness-day/2018-02-13/
LOCATION:Studio Oriflame Brasov\, Str.Lunga nr.248\, Brasov\, 500002\, RO
CATEGORIES:Cursuri
ATTACH;FMTTYPE=image/jpeg:https://cdn.cluj.com/ghidlocalcom/sites/6/2018/02/40413_image_27751848_1553553878097086_6264253261536552070_n.jpg
END:VEVENT
END:VCALENDAR