BEGIN:VCALENDAR
VERSION:2.0
PRODID:-//Ghid Local Brasov - ECPv5.1.1//NONSGML v1.0//EN
CALSCALE:GREGORIAN
METHOD:PUBLISH
X-WR-CALNAME:Ghid Local Brasov
X-ORIGINAL-URL:https://ghidlocal.com/brasov
X-WR-CALDESC:Events for Ghid Local Brasov
BEGIN:VTIMEZONE
TZID:Europe/Bucharest
BEGIN:DAYLIGHT
TZOFFSETFROM:+0200
TZOFFSETTO:+0300
TZNAME:EEST
DTSTART:20180325T010000
END:DAYLIGHT
BEGIN:STANDARD
TZOFFSETFROM:+0300
TZOFFSETTO:+0200
TZNAME:EET
DTSTART:20181028T010000
END:STANDARD
END:VTIMEZONE
BEGIN:VEVENT
DTSTART;TZID=Europe/Bucharest:20180421T100000
DTEND;TZID=Europe/Bucharest:20180422T100000
DTSTAMP:20260423T081331
CREATED:20180305T100544Z
LAST-MODIFIED:20180305T100544Z
UID:44135-1524304800-1524391200@ghidlocal.com
SUMMARY:Weekend la Richiș cu atelier de ilustrație botanică în acuarelă
DESCRIPTION:Pictură botanică în Transilvania – flori sălbatice\nAtelierele de Weekend în Transilvania sunt o invitație de a explora Transilvania intr-un mod creativ si relaxant.\nPe 21 și 22 aprilie vă invit la un weekend de poveste la Richiș\, jud. Sibiu\, pentru a ne bucura împreună de primăvară\, de florile sălbatice\, și de un atelier creativ de pictură botanică. Atelierul se desfășoară sâmbătă\, și este potrivit atât începătorilor\, cât și celor intermediari și avansați în lucrul cu acuarela. Pentru că suntem norocoși să avem în jur flora sălbatică a Transilvaniei\, pășim pe urmele botaniștilor și artiștilor botanici din întreaga lume și explorăm prin pictură florile preferate\, pe care le vom culege chiar sâmbătă dimineața.\nPachetul include cazarea sâmbătă noapte\, prânzul și cina sâmbătă\, și mic dejun duminică\, atelierul și toate materialele necesare pentru lucru. Puteti veni insotiti\, chiar daca insotitorul nu doreste sa participe la ateliere\, în acest caz suplimentul pentru însoțitor este de 400ron. De asemenea\, sosirea se poate face de vineri seara. Pentru toate aceste optiuni\, pachetul se va recalcula in functie de preferinte. Capacitatea casei de oaspeți este de 9 persoane\, ce vor fi cazate in camere single\, double sau twin. Casa de oaspeși Richis 119 a fost dată în folosință în 2017\, și oferă un cadru elegant și confortabil pentru un weekend relaxant. Atelierul se va desfășura în biblioteca casei de oaspeți\, iar mesele se vor servi în sala de mese a casei\, cu meniu tradițional. Toate materialele pentru atelier sunt incluse in pret.\nPreț 680ron ron / 148euro\nLocație: http://www.experiencetransylvania.ro/guesthouse/richis-119/\nSâmbătă\, 21 aprilie:9.00-10.00 – check in (sau mic dejun pentru cei care au ajuns de vineri seara – pachet optional)\, cafea\, prezentări\n10.00-12.00 – începem atelierul cu o scurtă plimbare și cu alegerea florilor pe care dorim să le pictăm. Apoi revenim în spațiul de lucru și învățăm să desenăm și să trasăm contururile cu acuratețea necesară ilustrației botanice\, urmând ca după pauza de prânz să transferăm desenul pe coala finală de lucru\n12.00-13.00 – pauză de prânz\, cu masa de prânz inclusă\n13.00-16.00 – atelier de pictură în acuarelă cu tema botanica – se desfasoara in biblioteca sasei de oaspeți. Îndrumările sunt individuale\, asadar fiecare va lucra la gradul de complexitate pe care îl dorește.\n16.00-19.00 – timp liber\, se va discuta la fața locului posibilitatea unor activități\, în funcție de vreme\n19.00 – cina inclusă\nDupa cina putem vedea un film\, sta de povesti si savura un pahar de vin.\nDuminică\, 22 aprilie:\n9.00-10.00 – micul dejun inclus\n10.00 – check ou \n
URL:https://ghidlocal.com/brasov/eveniment/weekend-la-richis-cu-atelier-de-ilustratie-botanica-in-acuarela/
CATEGORIES:Ateliere Brasov
ATTACH;FMTTYPE=image/jpeg:https://cdn.cluj.com/ghidlocalcom/sites/6/2018/03/44135_image_28827806_1715705951784734_8849050853088466243_o.jpg
END:VEVENT
END:VCALENDAR