BEGIN:VCALENDAR
VERSION:2.0
PRODID:-//Ghid Local Brasov - ECPv5.1.1//NONSGML v1.0//EN
CALSCALE:GREGORIAN
METHOD:PUBLISH
X-WR-CALNAME:Ghid Local Brasov
X-ORIGINAL-URL:https://ghidlocal.com/brasov
X-WR-CALDESC:Events for Ghid Local Brasov
BEGIN:VTIMEZONE
TZID:Europe/Bucharest
BEGIN:DAYLIGHT
TZOFFSETFROM:+0200
TZOFFSETTO:+0300
TZNAME:EEST
DTSTART:20180325T010000
END:DAYLIGHT
BEGIN:STANDARD
TZOFFSETFROM:+0300
TZOFFSETTO:+0200
TZNAME:EET
DTSTART:20181028T010000
END:STANDARD
END:VTIMEZONE
BEGIN:VEVENT
DTSTART;TZID=Europe/Bucharest:20180414T210000
DTEND;TZID=Europe/Bucharest:20180415T000000
DTSTAMP:20260423T145916
CREATED:20180131T155400Z
LAST-MODIFIED:20180131T155400Z
UID:38425-1523739600-1523750400@ghidlocal.com
SUMMARY:W3 4RE Num83r5: Lansare de album - 14.04 - Rockstadt
DESCRIPTION:Un moment asteptat al anului o reprezinta lansarea primului album W3 4RE NUM83R5 intitulat simplu NUM83R5. Iata ca acest moment a sosit si va fi sarbatorit printr-un concert la care sunteti invitati la dans pe gresie pe\ncele 7 piese de pe album plus inca doua piese noi cantate in premiera. In seara concertului veti gasi si tricouri si CD-uri.* \nPentru o viata sanatoasa\, ascultati cel putin 3 breakdown-uri pe zi. \nhttps://www.facebook.com/wearenumbers.band/\nhttps://www.facebook.com/wearenumbers.band/ \nInvitati speciali: BETWEEN COLORS \nFormata in 2012 in Bucuresti\, Between Colors sunt formatia cea mai in voga la momentul actual din Metalul Melodic Modern. Combinand compozitiile dominate de riffuri Nu Metal\, orchestratii\, breakdown-uri\, sintetizatoare si efecte Industrial precum si refrene catchy cu un show live plin de energie\, formatia a dovedit de numeroase ori ca trebuie vazuta.Trupa a fost desemnata Best Metal Newcomer in 2016 de catre site-ul Metalhead\, iar in 2017 a castigat Premiul I la Festivalul Posada Rock.”Simulacrum” vine la doar un an dupa primul lor album\, „M.A.D.” ce a fost lansat pe 19 noiembrie in 2016\, in club Quantic printr-un concert aparte si teatral la care au luat parte peste 400 de spectatori. Discul nou prezinta influente din muzica electronica\, metalcore si industrial metal.Cu un concept puternic si o pasiune sincera\, Between Colors vin sa animeze publicul si sa zguduie scena! \n*https://www.facebook.com/betweencolors.band/\n * \n
URL:https://ghidlocal.com/brasov/eveniment/w3-4re-num83r5-lansare-de-album-14-04-rockstadt/
LOCATION:Rockstadt\, Strada Nicolae Titulescu\, Brasov\, 500271\, RO
CATEGORIES:Party-uri Brasov
ATTACH;FMTTYPE=image/jpeg:https://cdn.cluj.com/ghidlocalcom/sites/6/2018/01/38425_image_27067536_1796327653745849_6593652719083895929_n.jpg
END:VEVENT
END:VCALENDAR