BEGIN:VCALENDAR
VERSION:2.0
PRODID:-//Ghid Local Brasov - ECPv5.1.1//NONSGML v1.0//EN
CALSCALE:GREGORIAN
METHOD:PUBLISH
X-WR-CALNAME:Ghid Local Brasov
X-ORIGINAL-URL:https://ghidlocal.com/brasov
X-WR-CALDESC:Events for Ghid Local Brasov
BEGIN:VTIMEZONE
TZID:Europe/Bucharest
BEGIN:DAYLIGHT
TZOFFSETFROM:+0200
TZOFFSETTO:+0300
TZNAME:EEST
DTSTART:20180325T010000
END:DAYLIGHT
BEGIN:STANDARD
TZOFFSETFROM:+0300
TZOFFSETTO:+0200
TZNAME:EET
DTSTART:20181028T010000
END:STANDARD
END:VTIMEZONE
BEGIN:VEVENT
DTSTART;TZID=Europe/Bucharest:20180420T230000
DTEND;TZID=Europe/Bucharest:20180421T010000
DTSTAMP:20260423T081306
CREATED:20180402T165219Z
LAST-MODIFIED:20180402T165219Z
UID:47872-1524265200-1524272400@ghidlocal.com
SUMMARY:VUNK - 20.04 - Kruhnen Musik Halle
DESCRIPTION:Vunk ajunge pentru prima data la Kruhnen Musik Halle. Se intampla pe 20 aprilie. \nDe peste 13 ani\, Trupa Vunk este trupa premierelor în rockul românesc. Cel mai bun concert românesc\, primul show multimedia\, primul clip viu\, primul afiș realizat exclusiv din gifuri\, concertul indoor cu cea mai mare participare a unui public plătitor din România\, primul concert filmat folosind tehnologia 360 – virtual reality\, un turneu național acustic sau primul videoclip filmat live pe Facebook în februarie 2017 pentru piesa “ Camera ei. “. În plus Vunk este prima formație românească premiată pentru o campanie creativă de comunicare\, “Orașul Minunilor”\, la Gala PR Awards. \nShow-uri spectaculoase\, utilizarea celor mai noi inovații tehnologice și cântece ce aveau să fie pe primul loc în topurile radio de-a lungul multor săptămâni: “1000”\, “Baladă pentru o minune”\, “Lacrimi de coniac”\, “Vreau o țară ca afară”\, “Pleacă”\, “Așa\, și”\, “Scapă-mă de ea” sau “Numai la doi”. \nBilete in curand. \n
URL:https://ghidlocal.com/brasov/eveniment/vunk-20-04-kruhnen-musik-halle/
LOCATION:Kruhnen Musik Halle\, Nicolae Titulescu\, 2P\, Brasov\, RO
CATEGORIES:Party-uri Brasov
ATTACH;FMTTYPE=image/jpeg:https://cdn.cluj.com/ghidlocalcom/sites/6/2018/04/47872_image_29982780_997389020416204_3760715158320876597_o.jpg
END:VEVENT
END:VCALENDAR