BEGIN:VCALENDAR
VERSION:2.0
PRODID:-//Ghid Local Brasov - ECPv5.1.1//NONSGML v1.0//EN
CALSCALE:GREGORIAN
METHOD:PUBLISH
X-WR-CALNAME:Ghid Local Brasov
X-ORIGINAL-URL:https://ghidlocal.com/brasov
X-WR-CALDESC:Events for Ghid Local Brasov
BEGIN:VTIMEZONE
TZID:Europe/Bucharest
BEGIN:DAYLIGHT
TZOFFSETFROM:+0200
TZOFFSETTO:+0300
TZNAME:EEST
DTSTART:20180325T010000
END:DAYLIGHT
BEGIN:STANDARD
TZOFFSETFROM:+0300
TZOFFSETTO:+0200
TZNAME:EET
DTSTART:20181028T010000
END:STANDARD
END:VTIMEZONE
BEGIN:VEVENT
DTSTART;TZID=Europe/Bucharest:20180419T180000
DTEND;TZID=Europe/Bucharest:20180419T210000
DTSTAMP:20260423T094844
CREATED:20180323T074940Z
LAST-MODIFIED:20180323T074940Z
UID:46593-1524160800-1524171600@ghidlocal.com
SUMMARY:Vindecarea copilului interior
DESCRIPTION:Pregătim o serie de workshop-uri în care ne-am propus să abordăm pe rând\, aspecte precum: copilul interior\, femeia și mama\, bărbatul și tatăl\, astfel încât\, la final\, să realizăm și să integrăm familia interioară. \nAcest concept al familiei interioare am fost călăuzite să îl lucrăm în terapiile individuale și am ajuns la concluzia că aceste aspecte se pot lucra foarte bine pe grup. In acest fel\, participanții se pot potența pentru a elibera și conștientiza traumele de acum și de altă dată ale copilului\, ale femeii și al mamei și bineînțeles\, ale bărbatului și ale tatălui din fiecare dintre noi. \nIn data de 19 aprilie 2018 vom lucra tema copilului interior. Acest copil a fost de multe ori neiubit\, abandonat\, tratat cu indiferență\, a fost pe câmpurile de luptă și a fost supus să îndure multă durere și suferință. Avem pregatite exerciții pentru a vă pune în contact cu copilul din voi și pentru a vă ajuta să vindecați acest aspect. \nCine suntem noi?\nSilvia Niță – bioenergoterapeut și cristaloterapeut;\nAnca Sin – psiholog și Points of you Practitioner; \nCost: 80 Ron\nVă așteptăm cu drag la o întâlnire magică cu copilul vostru interior! \n
URL:https://ghidlocal.com/brasov/eveniment/vindecarea-copilului-interior/
LOCATION:Leia\, Calea Bucuresti\, 54\, Brasov\, 500365\, RO
CATEGORIES:Cursuri
ATTACH;FMTTYPE=image/jpeg:https://cdn.cluj.com/ghidlocalcom/sites/6/2018/03/46593_image_29541373_2072115296359225_5120397647366062080_n.jpg
END:VEVENT
END:VCALENDAR