BEGIN:VCALENDAR
VERSION:2.0
PRODID:-//Ghid Local Brasov - ECPv5.1.1//NONSGML v1.0//EN
CALSCALE:GREGORIAN
METHOD:PUBLISH
X-WR-CALNAME:Ghid Local Brasov
X-ORIGINAL-URL:https://ghidlocal.com/brasov
X-WR-CALDESC:Events for Ghid Local Brasov
BEGIN:VTIMEZONE
TZID:Europe/Bucharest
BEGIN:DAYLIGHT
TZOFFSETFROM:+0200
TZOFFSETTO:+0300
TZNAME:EEST
DTSTART:20180325T010000
END:DAYLIGHT
BEGIN:STANDARD
TZOFFSETFROM:+0300
TZOFFSETTO:+0200
TZNAME:EET
DTSTART:20181028T010000
END:STANDARD
END:VTIMEZONE
BEGIN:VEVENT
DTSTART;TZID=Europe/Bucharest:20180103T080000
DTEND;TZID=Europe/Bucharest:20180103T180000
DTSTAMP:20260423T020234
CREATED:20180102T141705Z
LAST-MODIFIED:20180102T142437Z
UID:33510-1514966400-1515002400@ghidlocal.com
SUMMARY:Vacanta anti-hibernare
DESCRIPTION:Incepem noul an cum se cuvine: cu o vacanta super activa si distractiva.\nCost: 45 lei/zi cu masa de pranz inclusa\nMiercuri\, 3 ianuarie 2018:\n8.00 – 10.00: sosirea copiilor\n10.00 – 13.00: jocuri in aer liber\, plimbare in parc sa adunam materiale pentru hranitoare pentru pasari.\n13.00 – 14.00: masa de pranz\n14.00 – 16.00: confectionam hranitoare pentru pasari\n16.00 – 18.00: confectionam calendare 3D personalizate\nJoi\, 4 ianuarie 2018:\n8.00 – 10.00: sosirea copiilor\n10.00 – 13.00: jocuri in aer liber\, plimbare in parc\, montam hranitoarele pentru pasari.\n13.00 – 14.00: masa de pranz\n14.00 – 18.00: stiinta pe pereti (construim impreuna dispozitive functionale cu care studiem fizica\, matematica\, muzica\, chimie\, etc).\nVineri\, 5 ianuarie 2018:\n8.00 – 10.00: sosirea copiilor\n10.00 – 13.00: jocuri de coordonare\, miscare in aer liber\n13.00 – 14.00: masa de pranz\n14.00 – 18.00: Party (incheiem prima saptamana din noul an cu petrecere\, sa ne mearga bine tot anul) \n
URL:https://ghidlocal.com/brasov/eveniment/vacanta-anti-hibernare/2018-01-03/
LOCATION:Asociatia pentru Educatie Practica si Creativa\, Victor Babes 36\, Brasov\, RO
CATEGORIES:Activitati Copii
ATTACH;FMTTYPE=image/jpeg:https://cdn.cluj.com/ghidlocalcom/sites/6/2018/01/33510_image_26025756_1567813619971802_2038962288824460335_o.jpg
END:VEVENT
END:VCALENDAR