BEGIN:VCALENDAR
VERSION:2.0
PRODID:-//Ghid Local Brasov - ECPv5.1.1//NONSGML v1.0//EN
CALSCALE:GREGORIAN
METHOD:PUBLISH
X-WR-CALNAME:Ghid Local Brasov
X-ORIGINAL-URL:https://ghidlocal.com/brasov
X-WR-CALDESC:Events for Ghid Local Brasov
BEGIN:VTIMEZONE
TZID:Europe/Bucharest
BEGIN:DAYLIGHT
TZOFFSETFROM:+0200
TZOFFSETTO:+0300
TZNAME:EEST
DTSTART:20170326T010000
END:DAYLIGHT
BEGIN:STANDARD
TZOFFSETFROM:+0300
TZOFFSETTO:+0200
TZNAME:EET
DTSTART:20171029T010000
END:STANDARD
END:VTIMEZONE
BEGIN:VEVENT
DTSTART;TZID=Europe/Bucharest:20171219T190000
DTEND;TZID=Europe/Bucharest:20171219T210000
DTSTAMP:20260422T084205
CREATED:20171211T123253Z
LAST-MODIFIED:20171211T123253Z
UID:31257-1513710000-1513717200@ghidlocal.com
SUMMARY:Unspoken Tales
DESCRIPTION:“UNSPOKEN TALES”              Concert Brasov Winter Classics \n19 Decembrie\, ora 19:00 – Sala Patria \nBdul. 15 Noiembrie\, Nr. 50A \nConcertul ”Povesti nerostite” propune o calatorie fascinanta in lumea povestilor\, basmelor si a istorisirilor cu talc. Cantecele\, melodiile si dansurile din acest program reprezinta o sursa infinita de inspiratie atat pentru interpreti cat si pentru public. Va invitam sa calatoriti cu noi\, dand frau liber imaginatiei. \nProgram: \n•	Frank Bridge – “Lament” pentru 2 viole\n•	Wolfgang Amadeus Mozart – Cvintetul cu 2 viole K.V. 516\, in sol minor \n……………………………………………………………………………………………. \n•	Antonin Dvorak – Cvintetul cu pian op.81 nr.2 in La major \nArtisti: \nDragos  Dimitriu – pian\nValentin Serban – vioara\nAndrei Stanciu – vioara\nLea Hennino – viola\nEmma Rotomeza – viola\nYuuki Bouterey-Ishido – violoncel \n…………………………………………………………………………………………… \n**Intrarea libera  \n……………………………………………………………………………………………. \nBun venit\,\nDragi iubitori ai muzicii de cameră\, la prima ediţie a festivalului “Brasov Winter Classics”! Suntem încântati să vă avem alături în această călătorie muzicală şi vă mulţumim pentru susţinerea acordată!\nFestivalul nostru se desfaşoară în inima României\, în frumosul oraţ Braşov\, în pragul sărbătorilor de iarna şi doreşte să ofere un cadou muzical auditoriului. Sperăm ca\, în timp\, un public cât mai larg şi divers să se simtă apropiat atât de repertoriul prezentat cât şi de artişti\, toţi cei aflaţi în vizită descoperind totodată minunatele peisaje ale oraşului şi judeţului Brasov.\nNoi ne-am întalnit în Geneva\, în anul 2011\, în cadrul Academiei Internaţionale de Muzică “Yehudi Menuhin” din Elveţia şi am cântat muzică de cameră împreuna toţi anii petrecuţi în Academie. Am fost încurajaţi de mentorii noştri să construim proiecte frumoase\, prin care să răspândim învăţăturile primite.\nPetrecând fiecare iarna în Brasov\, oraşul natal al lui Andrei şi din pasiunea noastră pentru muzica de cameră\, am conceput un festival în care muzicieni de pretutindeni să se întalnească în acest cadru de poveste şi să se bucure\, împreuna cu publicul\, de un program foarte special.\nSperăm ca initiativa noastră să vă ajungă în suflet iar din acest schimb energetic\, vibraţional şi cultural să se creeze un ambient în care să ne detaşăm cu toţii pentru câteva ore de viaţa cotidiană.\nVă urăm audiţie placută! \n
URL:https://ghidlocal.com/brasov/eveniment/unspoken-tales-2/
LOCATION:Sala Patria\, Bulevardul 15 Noiembrie 50A\, Brasov\, 500096\, RO
CATEGORIES:Concerte Brasov
ATTACH;FMTTYPE=image/jpeg:https://cdn.cluj.com/ghidlocalcom/sites/6/2017/12/31257_image_24958706_506885243017457_3629945804827990576_o.jpg
END:VEVENT
END:VCALENDAR