BEGIN:VCALENDAR
VERSION:2.0
PRODID:-//Ghid Local Brasov - ECPv5.1.1//NONSGML v1.0//EN
CALSCALE:GREGORIAN
METHOD:PUBLISH
X-WR-CALNAME:Ghid Local Brasov
X-ORIGINAL-URL:https://ghidlocal.com/brasov
X-WR-CALDESC:Events for Ghid Local Brasov
BEGIN:VTIMEZONE
TZID:Europe/Bucharest
BEGIN:DAYLIGHT
TZOFFSETFROM:+0200
TZOFFSETTO:+0300
TZNAME:EEST
DTSTART:20180325T010000
END:DAYLIGHT
BEGIN:STANDARD
TZOFFSETFROM:+0300
TZOFFSETTO:+0200
TZNAME:EET
DTSTART:20181028T010000
END:STANDARD
END:VTIMEZONE
BEGIN:VEVENT
DTSTART;TZID=Europe/Bucharest:20180126T210000
DTEND;TZID=Europe/Bucharest:20180126T210000
DTSTAMP:20260420T082607
CREATED:20180118T165156Z
LAST-MODIFIED:20180120T211152Z
UID:35989-1517000400-1517000400@ghidlocal.com
SUMMARY:Ultimate Kitsch Party - 26.01 - Kruhnen Musik Halle
DESCRIPTION:Primul Ultimate Kitsch Party din acest an il inauguram vineri\, 26 ianuarie la Kruhnen Musik Halle. \nReteta este simpla\, lasam deoparte toate prejudecatile\, ne distram si dansam fara remuscari pe cele mai celebre\, vinovate si ridicole piese din ultimii 27 de ani. D-ale noastre si d-ale lor. Cu Buvnitz si Lexi. \nSe intampla dupa 21:00. Entry: 10 lei \nACCES: 18+ \n
URL:https://ghidlocal.com/brasov/eveniment/ultimate-kitsch-party-26-01-kruhnen-musik-halle/
LOCATION:Kruhnen Musik Halle\, Nicolae Titulescu\, 2P\, Brasov\, RO
CATEGORIES:Party-uri Brasov
ATTACH;FMTTYPE=image/jpeg:https://cdn.cluj.com/ghidlocalcom/sites/6/2018/01/35989_image_26850142_954220244733082_6320975073105584454_o.jpg
END:VEVENT
END:VCALENDAR