BEGIN:VCALENDAR
VERSION:2.0
PRODID:-//Ghid Local Brasov - ECPv5.1.1//NONSGML v1.0//EN
CALSCALE:GREGORIAN
METHOD:PUBLISH
X-WR-CALNAME:Ghid Local Brasov
X-ORIGINAL-URL:https://ghidlocal.com/brasov
X-WR-CALDESC:Events for Ghid Local Brasov
BEGIN:VTIMEZONE
TZID:Europe/Bucharest
BEGIN:DAYLIGHT
TZOFFSETFROM:+0200
TZOFFSETTO:+0300
TZNAME:EEST
DTSTART:20180325T010000
END:DAYLIGHT
BEGIN:STANDARD
TZOFFSETFROM:+0300
TZOFFSETTO:+0200
TZNAME:EET
DTSTART:20181028T010000
END:STANDARD
END:VTIMEZONE
BEGIN:VEVENT
DTSTART;TZID=Europe/Bucharest:20180331T100000
DTEND;TZID=Europe/Bucharest:20180401T160000
DTSTAMP:20260420T083332
CREATED:20180209T090913Z
LAST-MODIFIED:20180209T090913Z
UID:39956-1522490400-1522598400@ghidlocal.com
SUMMARY:Timisoara - Curs Incepatori - Flori torturi de nunta
DESCRIPTION:Inscrieri si informatii suplimentare la telefon 0747.359.830 sau www.magieincofetarie.ro \n
URL:https://ghidlocal.com/brasov/eveniment/timisoara-curs-incepatori-flori-torturi-de-nunta/
CATEGORIES:Culinar Brasov
ATTACH;FMTTYPE=image/jpeg:https://cdn.cluj.com/ghidlocalcom/sites/6/2018/02/39956_image_27629538_1976734229246167_7564700725822476291_o.jpg
END:VEVENT
END:VCALENDAR