BEGIN:VCALENDAR
VERSION:2.0
PRODID:-//Ghid Local Brasov - ECPv5.1.1//NONSGML v1.0//EN
CALSCALE:GREGORIAN
METHOD:PUBLISH
X-WR-CALNAME:Ghid Local Brasov
X-ORIGINAL-URL:https://ghidlocal.com/brasov
X-WR-CALDESC:Events for Ghid Local Brasov
BEGIN:VTIMEZONE
TZID:Europe/Bucharest
BEGIN:DAYLIGHT
TZOFFSETFROM:+0200
TZOFFSETTO:+0300
TZNAME:EEST
DTSTART:20180325T010000
END:DAYLIGHT
BEGIN:STANDARD
TZOFFSETFROM:+0300
TZOFFSETTO:+0200
TZNAME:EET
DTSTART:20181028T010000
END:STANDARD
END:VTIMEZONE
BEGIN:VEVENT
DTSTART;TZID=Europe/Bucharest:20180418T200000
DTEND;TZID=Europe/Bucharest:20180418T230000
DTSTAMP:20260423T113419
CREATED:20180330T212628Z
LAST-MODIFIED:20180330T212628Z
UID:47532-1524081600-1524092400@ghidlocal.com
SUMMARY:Tică Lumînare la Cenaclul Dacia Folk
DESCRIPTION:Bilet intrare: 20 lei\nRezervări la telefon: 0729283570 \n
URL:https://ghidlocal.com/brasov/eveniment/tica-luminare-la-cenaclul-dacia-folk/
LOCATION:Luther Brasserie & Lounge Brasov\, Piata Sfatului Nr.10\, Brasov\, 500025\, RO
CATEGORIES:Concerte Brasov
ATTACH;FMTTYPE=image/jpeg:https://cdn.cluj.com/ghidlocalcom/sites/6/2018/03/47532_image_10462593_908210809358207_1415216708237818379_n.jpg
END:VEVENT
END:VCALENDAR