BEGIN:VCALENDAR
VERSION:2.0
PRODID:-//Ghid Local Brasov - ECPv5.1.1//NONSGML v1.0//EN
CALSCALE:GREGORIAN
METHOD:PUBLISH
X-WR-CALNAME:Ghid Local Brasov
X-ORIGINAL-URL:https://ghidlocal.com/brasov
X-WR-CALDESC:Events for Ghid Local Brasov
BEGIN:VTIMEZONE
TZID:Europe/Bucharest
BEGIN:DAYLIGHT
TZOFFSETFROM:+0200
TZOFFSETTO:+0300
TZNAME:EEST
DTSTART:20180325T010000
END:DAYLIGHT
BEGIN:STANDARD
TZOFFSETFROM:+0300
TZOFFSETTO:+0200
TZNAME:EET
DTSTART:20181028T010000
END:STANDARD
END:VTIMEZONE
BEGIN:VEVENT
DTSTART;TZID=Europe/Bucharest:20180315T200000
DTEND;TZID=Europe/Bucharest:20180316T020000
DTSTAMP:20260421T070236
CREATED:20180308T132713Z
LAST-MODIFIED:20180308T132713Z
UID:44721-1521144000-1521165600@ghidlocal.com
SUMMARY:Thursday Void #4
DESCRIPTION:Thursday Void – eveniment gandit ca ‘pretext’ de iesit in oras\, de a socializa si de ce nu de a asculta atat noutati cat si ‘hituri’ din aria muzicii underground! \nCand? Bineinteles ca joi seara (15.03.2018/ora 20:00)!\nUnde? Alt Square\nDe ce? Pentru a uita de rutina saptamanala si a te bucura de muzica ta preferata! \nDupa cum bine stiti deja din data de 1 martie am demarat un proiect de promovare a trupelor autohtone si asta prin auditia ultimelor  materiale semnate de catre acestea\, mai recente sau nu.\nDaca seara de 1 martie a fost dedicata preponderent death metalului si subgenurilor\, de aceasta data va asteptam la o seara de doom metal si subgenuri… Ca si auditie vom avea parte de ultimul material    Descend into Despair – Synaptic Veil lansat pe data de 05.06.2017 prin Loud Rage Music.\n Pe langa auditia integrala a materialului mai avem o surpriza pentru cei prezenti si asta constand intr-o tombola ce va avea ca si premii doua cd-uri Descend into Despair – Synaptic Veil! \n\nHome \n\nwww.facebook.com/DinIntunerec/\nhttps://www.facebook.com/AltSquare/ \nAccesul interzis persoanelor sub 18 ani! \n
URL:https://ghidlocal.com/brasov/eveniment/thursday-void-4/
LOCATION:Alt Square\, Piata Sfatului nr. 27\, Brasov\, 500025\, RO
CATEGORIES:Party-uri Brasov
ATTACH;FMTTYPE=image/jpeg:https://cdn.cluj.com/ghidlocalcom/sites/6/2018/03/44721_image_28516769_1751537688237627_2501754648421102170_o.jpg
END:VEVENT
END:VCALENDAR