BEGIN:VCALENDAR
VERSION:2.0
PRODID:-//Ghid Local Brasov - ECPv5.1.1//NONSGML v1.0//EN
CALSCALE:GREGORIAN
METHOD:PUBLISH
X-WR-CALNAME:Ghid Local Brasov
X-ORIGINAL-URL:https://ghidlocal.com/brasov
X-WR-CALDESC:Events for Ghid Local Brasov
BEGIN:VTIMEZONE
TZID:Europe/Bucharest
BEGIN:DAYLIGHT
TZOFFSETFROM:+0200
TZOFFSETTO:+0300
TZNAME:EEST
DTSTART:20180325T010000
END:DAYLIGHT
BEGIN:STANDARD
TZOFFSETFROM:+0300
TZOFFSETTO:+0200
TZNAME:EET
DTSTART:20181028T010000
END:STANDARD
END:VTIMEZONE
BEGIN:VEVENT
DTSTART;TZID=Europe/Bucharest:20180419T130000
DTEND;TZID=Europe/Bucharest:20180420T060000
DTSTAMP:20260423T095509
CREATED:20180316T213253Z
LAST-MODIFIED:20180316T213253Z
UID:45813-1524142800-1524204000@ghidlocal.com
SUMMARY:The Motans • Live in Times [19.04.2018]
DESCRIPTION:The Motans live in Times Brasov!\nThursday 19.04.2018\nFree Entry\nInfo & RSVP: 0736 73 73 73 \n
URL:https://ghidlocal.com/brasov/eveniment/the-motans-%e2%80%a2-live-in-times-19-04-2018/
LOCATION:Times Brasov\, Republicii 59 Modarom\, Brasov\, 500030\, RO
CATEGORIES:Party-uri Brasov
ATTACH;FMTTYPE=image/jpeg:https://cdn.cluj.com/ghidlocalcom/sites/6/2018/03/45813_image_29216530_1551561958275191_1986055554128150528_o.jpg
END:VEVENT
END:VCALENDAR