BEGIN:VCALENDAR
VERSION:2.0
PRODID:-//Ghid Local Brasov - ECPv5.1.1//NONSGML v1.0//EN
CALSCALE:GREGORIAN
METHOD:PUBLISH
X-WR-CALNAME:Ghid Local Brasov
X-ORIGINAL-URL:https://ghidlocal.com/brasov
X-WR-CALDESC:Events for Ghid Local Brasov
BEGIN:VTIMEZONE
TZID:Europe/Bucharest
BEGIN:DAYLIGHT
TZOFFSETFROM:+0200
TZOFFSETTO:+0300
TZNAME:EEST
DTSTART:20170326T010000
END:DAYLIGHT
BEGIN:STANDARD
TZOFFSETFROM:+0300
TZOFFSETTO:+0200
TZNAME:EET
DTSTART:20171029T010000
END:STANDARD
END:VTIMEZONE
BEGIN:VEVENT
DTSTART;TZID=Europe/Bucharest:20170804T200000
DTEND;TZID=Europe/Bucharest:20170804T230000
DTSTAMP:20260423T080612
CREATED:20170802T071521Z
LAST-MODIFIED:20170803T071454Z
UID:18329-1501876800-1501887600@ghidlocal.com
SUMMARY:The Ineloquent - live at Hof Cafe
DESCRIPTION:
URL:https://ghidlocal.com/brasov/eveniment/the-ineloquent-live-at-hof-cafe/
LOCATION:HOF CAFE\, 14 Piața Sfatului\, Brasov\, 500025\, Romania
CATEGORIES:Altele
ATTACH;FMTTYPE=image/jpeg:https://cdn.cluj.com/ghidlocalcom/sites/6/2017/08/20525282_1954664274775087_7291217583269584944_n.jpg
END:VEVENT
END:VCALENDAR