BEGIN:VCALENDAR
VERSION:2.0
PRODID:-//Ghid Local Brasov - ECPv5.1.1//NONSGML v1.0//EN
CALSCALE:GREGORIAN
METHOD:PUBLISH
X-WR-CALNAME:Ghid Local Brasov
X-ORIGINAL-URL:https://ghidlocal.com/brasov
X-WR-CALDESC:Events for Ghid Local Brasov
BEGIN:VTIMEZONE
TZID:Europe/Bucharest
BEGIN:DAYLIGHT
TZOFFSETFROM:+0200
TZOFFSETTO:+0300
TZNAME:EEST
DTSTART:20180325T010000
END:DAYLIGHT
BEGIN:STANDARD
TZOFFSETFROM:+0300
TZOFFSETTO:+0200
TZNAME:EET
DTSTART:20181028T010000
END:STANDARD
END:VTIMEZONE
BEGIN:VEVENT
DTSTART;TZID=Europe/Bucharest:20180419T190000
DTEND;TZID=Europe/Bucharest:20180419T213000
DTSTAMP:20260423T113354
CREATED:20180314T135729Z
LAST-MODIFIED:20180314T135729Z
UID:45533-1524164400-1524173400@ghidlocal.com
SUMMARY:Teatru • Profesiunea Doamnei Warren @Mangalia
DESCRIPTION:? TEATRALIS vă invită JOI\, 19 APRILIE\, de la ora 19:00 la Casa De Cultură Mangalia\, pentru a viziona piesa de TEATRU – PROFESIUNEA DOAMNEI WARREN cu Maia Morgenstern\, Ilinca Manolache\, Claudiu Istodor\, Tudor Aaron Istodor\, Avram Birau și Ion Lupu. \n?️ Bilet: 50 lei\n☎️ INFO & REZERVĂRI: 0756.201.225\n? Va recomandam sa va rezervati biletele din timp!\n? CASA de CULTURĂ MANGALIA! \n? Autor: George Bernard Shaw\n? Traducerea: Claudiu Istodor\n? Regia: Claudiu Istodor\n? Scenografia: Maria Miu\n? Light Design: Iulian Bălțătescu\n? Ilustraţie muzicală: Tudor Aaron Istodor \n? Scrisă în 1893\, piesa a fost cenzurată timp de opt ani\, iar când\, în sfârşit\, a avut premiera la Londra în 1902\, publicul a fost de-a dreptul indignat de conţinutul controversat la vremea aceea. Povestea se desfăşoară în jurul relaţiei dintre doamna Kitty Warren\, matroana unui bordel şi fiica ei\, Vivie. Având ca atuuri umorul acid şi intuiţia abilă\, Shaw le pune pe mamă şi fiică în ipostaza de a se confrunta pentru a demasca ipocrizia şi decadenţa aşa-numitei societăţi de bon ton. Va rezista relaţia lor în urma unei lupte date în jurul sexului\, dragostei\, banilor\, carierei şi moralităţii? \n? Parteneri TEATRALIS:\n– Aktis Tipografie Ambalaje – www.aktis.com.ro\n– Arômes Noirs – www.aromes-noirs.com\n– eHaiHui • Around The World – www.eHaiHui.net\n– Secret TRIP – www.SecretTRIP.ro\n– MyPR – www.MyPR.ro\n– McNiNO.ro – www.McNino.ro\n– DJ Reck – www.DJReck.ro \n
URL:https://ghidlocal.com/brasov/eveniment/teatru-%e2%80%a2-profesiunea-doamnei-warren-mangalia/
LOCATION:Casa De Cultura Mangalia\, sos constantei 7-8 mangalia\, Mangalia\, 905500\, RO
CATEGORIES:Teatru Brasov
ATTACH;FMTTYPE=image/jpeg:https://cdn.cluj.com/ghidlocalcom/sites/6/2018/03/45533_image_29213924_1603668366419980_3180165163743444992_o.jpg
END:VEVENT
END:VCALENDAR