BEGIN:VCALENDAR
VERSION:2.0
PRODID:-//Ghid Local Brasov - ECPv5.1.1//NONSGML v1.0//EN
CALSCALE:GREGORIAN
METHOD:PUBLISH
X-WR-CALNAME:Ghid Local Brasov
X-ORIGINAL-URL:https://ghidlocal.com/brasov
X-WR-CALDESC:Events for Ghid Local Brasov
BEGIN:VTIMEZONE
TZID:Europe/Bucharest
BEGIN:DAYLIGHT
TZOFFSETFROM:+0200
TZOFFSETTO:+0300
TZNAME:EEST
DTSTART:20170326T010000
END:DAYLIGHT
BEGIN:STANDARD
TZOFFSETFROM:+0300
TZOFFSETTO:+0200
TZNAME:EET
DTSTART:20171029T010000
END:STANDARD
END:VTIMEZONE
BEGIN:VEVENT
DTSTART;TZID=Europe/Bucharest:20170729T160000
DTEND;TZID=Europe/Bucharest:20170729T230000
DTSTAMP:20260422T102738
CREATED:20170727T065626Z
LAST-MODIFIED:20170728T073237Z
UID:17316-1501344000-1501369200@ghidlocal.com
SUMMARY:TASTEmakers - Champagne In The Sky
DESCRIPTION:TASTEmakers\, comunitatea creatorilor de gusturi\, te invita sa privesti apusul de la 50 de metri inaltime.Ti-am pregatit o experienta unica\, servita cu ingrediente atent alese: sampanie\,  gourmet cuisine\, rafinamentul TASTEmakers si eleganta desavarsita Luther\, un loc atat de bogat in gusturi si povesti. \nIncepe petrecerea cu capul in nori\, la 50 de metri deasupra Pietei Sfatului\, apoi continua la Luther\, intr-o atmosfera speciala.\nTe așteptăm\, alaturi de prieteni cu gusturi bune\, sa descoperi\, dincolo de orizont\, experiențe nebanuite.�� \n★ Experiența fine dining și cocktailurile cu personalitate\, îti stau la dispoziție pe durata întregii seri.\n��★ Acces doar pe bază de invitație/brățară. Informații Brasserie Luther 0732034472\n★ P.S. A night that is anything BUT ordinary! / Let’s toast to what lies beyond the horizon! \n
URL:https://ghidlocal.com/brasov/eveniment/tastemakers-champagne-in-the-sky/
LOCATION:Luther Brasserie & Lounge Brasov\, Piata Sfatului Nr.10\, Brasov\, 500025\, Romania
CATEGORIES:Culinar Brasov
ATTACH;FMTTYPE=image/jpeg:https://cdn.cluj.com/ghidlocalcom/sites/6/2017/07/8447da84c678edd5bed817dda6096301.jpg
END:VEVENT
END:VCALENDAR