BEGIN:VCALENDAR
VERSION:2.0
PRODID:-//Ghid Local Brasov - ECPv5.1.1//NONSGML v1.0//EN
CALSCALE:GREGORIAN
METHOD:PUBLISH
X-WR-CALNAME:Ghid Local Brasov
X-ORIGINAL-URL:https://ghidlocal.com/brasov
X-WR-CALDESC:Events for Ghid Local Brasov
BEGIN:VTIMEZONE
TZID:Europe/Bucharest
BEGIN:DAYLIGHT
TZOFFSETFROM:+0200
TZOFFSETTO:+0300
TZNAME:EEST
DTSTART:20170326T010000
END:DAYLIGHT
BEGIN:STANDARD
TZOFFSETFROM:+0300
TZOFFSETTO:+0200
TZNAME:EET
DTSTART:20171029T010000
END:STANDARD
END:VTIMEZONE
BEGIN:VEVENT
DTSTART;TZID=Europe/Bucharest:20171108T190000
DTEND;TZID=Europe/Bucharest:20171108T200000
DTSTAMP:20260420T112545
CREATED:20171106T120929Z
LAST-MODIFIED:20171106T120929Z
UID:27893-1510167600-1510171200@ghidlocal.com
SUMMARY:Spooky Fun Gym- Gimnastică pentru adulți
DESCRIPTION:Vă invit ( de data acesta fără copii) la o oră de gimnastică pentru sănătatea coloanei vertebrale\, creșterea gradului de eficiență prin întărirea conexiunii dintre emisfere\, îmbunătățirea moblității\, creșterea tonusului muscular și conștientizarea respirației.\nEchipament necesar: șosete de schimb și ținută sport.\nLa ce să vă așteptați?\nÎn primul rând veți afla lucruri pe care nu le-ați știut despre corpul vostru\, de ce funcționează așa cum o face\, care este ochiul dominant și care este urechea dominantă și ce importanță au ele.\nExerciții de echilibrare pentru coloana vertebrală\, o mică încălzire exerciții de mobilitate\, trasee și jocuri concepute pentru a ascuții mintea și a o conecta de corpul fizic și exerciții de respirație 🙂\nIntensitatea efortului fizic: medie \nOra este condusă de Ioana Medrea\, profesor de gimnastică artistică de performanță din 2003\, maseour din 2004 și fondator BeBe Rostogol-baby gym.\nData: miercuri 8 noiembrie 2017\nOra: 7.00 pm \nInvestitie:  -prima sedinta -gratuita\n                  – 30 lei/ pers\n                  – 50 lei/ 2 adulți din aceeași familie \nÎnscrierile se fac printr-un mesaj privat la Ioana Medrea \nMesajul sa conțină: nume participant\, cursul și număr de telefon \n
URL:https://ghidlocal.com/brasov/eveniment/spooky-fun-gym-gimnastica-pentru-adulti-2/
LOCATION:BeBe Rostogol\, Lunga 130\, Brasov\, 400045\, RO
CATEGORIES:Ateliere Brasov,Cursuri,Expozitii Brasov,Workshop Brasov
ATTACH;FMTTYPE=image/jpeg:https://cdn.cluj.com/ghidlocalcom/sites/6/2017/11/27893_image_23172814_766173850233521_5796965128828399694_n.jpg
END:VEVENT
END:VCALENDAR