BEGIN:VCALENDAR
VERSION:2.0
PRODID:-//Ghid Local Brasov - ECPv5.1.1//NONSGML v1.0//EN
CALSCALE:GREGORIAN
METHOD:PUBLISH
X-WR-CALNAME:Ghid Local Brasov
X-ORIGINAL-URL:https://ghidlocal.com/brasov
X-WR-CALDESC:Events for Ghid Local Brasov
BEGIN:VTIMEZONE
TZID:Europe/Bucharest
BEGIN:DAYLIGHT
TZOFFSETFROM:+0200
TZOFFSETTO:+0300
TZNAME:EEST
DTSTART:20180325T010000
END:DAYLIGHT
BEGIN:STANDARD
TZOFFSETFROM:+0300
TZOFFSETTO:+0200
TZNAME:EET
DTSTART:20181028T010000
END:STANDARD
END:VTIMEZONE
BEGIN:VEVENT
DTSTART;TZID=Europe/Bucharest:20180331T180000
DTEND;TZID=Europe/Bucharest:20180331T190000
DTSTAMP:20260421T024249
CREATED:20180315T073319Z
LAST-MODIFIED:20180315T073319Z
UID:45580-1522519200-1522522800@ghidlocal.com
SUMMARY:Spectacol - Aventuri în pădurea iepurașului de Paște
DESCRIPTION:Ce poate fi mai comic decât aventurile unor animăluțe haioase și puse pe șotii care au o misiune importantă de îndeplinit în așteptarea Paștelui? Așadar\, trei iepurași\, un urs\, un lup și o vulpe sunt cei care\, în încercarea lor de a traversa pământul pentru a ajunge la bătrânul iepuraș din Pădurea Fermecată pentru a-i duce dulciuri și ouă colorate pentru copii\, vor trece printr-o serie de peripeții care mai de care mai amuzante. \nVor cântă și vor dansa în drumul lor pentru a face că misiunea să fie cât mai ușoară\, deși … între noi fie vorba … din cauza lupului buclucaș\, nu va fi deloc așa. O vor duce oare la bun sfârșit? \nVino alaturi de noi la spectacolul Aventuri în pădurea iepurașului de Paște să aflăm împreună aventurile animăluțelor haioase. Haideți să dăm o mână de ajutor animăluțelor\, să reușească să treacă de lupul cel buclucaș\, pentru a ajunge la bătrânul iepuraș din Pădurea Fermecată\, să le ducă dulciuri și ouă colorate copiilor. \nSpectacolul va avea loc în data de 31 Martie\, de la ora 18:00\nDurata spectacol: 1 ora\nVârsta recomandata: 3+\nLocatie: Centrul Cultural Reduta \nPreț bilet: 35 lei (menționăm că pe un bilet poate sa intre o singură persoana; pentru siguranța tuturor spectatorilor în caz de pericol\, conform legislației în vigoare\, nu se permite sa fie ținuți în brațe copii). \nBiletele se pot achiziționa de la casa de bilete a Centrului Cultural Reduta sau online pe www.biletebrasov.ro \n
URL:https://ghidlocal.com/brasov/eveniment/spectacol-aventuri-in-padurea-iepurasului-de-paste/
LOCATION:Centrul-Cultural Reduta\, str.Apollonia Hirscher nr.8\, Brasov\, 500025\, RO
CATEGORIES:Cultural
ATTACH;FMTTYPE=image/jpeg:https://cdn.cluj.com/ghidlocalcom/sites/6/2018/03/45580_image_29196320_1520611274728957_6645245965496550947_n.jpg
END:VEVENT
END:VCALENDAR