BEGIN:VCALENDAR
VERSION:2.0
PRODID:-//Ghid Local Brasov - ECPv5.1.1//NONSGML v1.0//EN
CALSCALE:GREGORIAN
METHOD:PUBLISH
X-WR-CALNAME:Ghid Local Brasov
X-ORIGINAL-URL:https://ghidlocal.com/brasov
X-WR-CALDESC:Events for Ghid Local Brasov
BEGIN:VTIMEZONE
TZID:Europe/Bucharest
BEGIN:DAYLIGHT
TZOFFSETFROM:+0200
TZOFFSETTO:+0300
TZNAME:EEST
DTSTART:20180325T010000
END:DAYLIGHT
BEGIN:STANDARD
TZOFFSETFROM:+0300
TZOFFSETTO:+0200
TZNAME:EET
DTSTART:20181028T010000
END:STANDARD
END:VTIMEZONE
BEGIN:VEVENT
DTSTART;TZID=Europe/Bucharest:20180331T220000
DTEND;TZID=Europe/Bucharest:20180401T050000
DTSTAMP:20260421T123232
CREATED:20180219T214757Z
LAST-MODIFIED:20180219T214757Z
UID:41799-1522533600-1522558800@ghidlocal.com
SUMMARY:SocialTrance Party V2 [at] Social Pub
DESCRIPTION:More info soon! 🙂  \nIntrarea LIBERA\nRezervari: +4 (0748) 33 22 11 \n
URL:https://ghidlocal.com/brasov/eveniment/socialtrance-party-v2-at-social-pub/
LOCATION:Social Pub – Lounge\, B-dul. Mihail Kogalniceanu\, nr.15\, Brasov\, 500090\, RO
CATEGORIES:Party-uri Brasov
ATTACH;FMTTYPE=image/jpeg:https://cdn.cluj.com/ghidlocalcom/sites/6/2018/02/41799_image_28061446_1748939221816088_5574819862991270997_o.jpg
END:VEVENT
END:VCALENDAR