BEGIN:VCALENDAR
VERSION:2.0
PRODID:-//Ghid Local Brasov - ECPv5.1.1//NONSGML v1.0//EN
CALSCALE:GREGORIAN
METHOD:PUBLISH
X-WR-CALNAME:Ghid Local Brasov
X-ORIGINAL-URL:https://ghidlocal.com/brasov
X-WR-CALDESC:Events for Ghid Local Brasov
BEGIN:VTIMEZONE
TZID:Europe/Bucharest
BEGIN:DAYLIGHT
TZOFFSETFROM:+0200
TZOFFSETTO:+0300
TZNAME:EEST
DTSTART:20180325T010000
END:DAYLIGHT
BEGIN:STANDARD
TZOFFSETFROM:+0300
TZOFFSETTO:+0200
TZNAME:EET
DTSTART:20181028T010000
END:STANDARD
END:VTIMEZONE
BEGIN:VEVENT
DTSTART;TZID=Europe/Bucharest:20180316T163000
DTEND;TZID=Europe/Bucharest:20180316T183000
DTSTAMP:20260421T085854
CREATED:20180310T120922Z
LAST-MODIFIED:20180310T120922Z
UID:44957-1521217800-1521225000@ghidlocal.com
SUMMARY:Socializare Rostogolicioasă - Tupperware
DESCRIPTION:Vineri\, 16 martie\, am o invitată care va veni să ne prezinte produsele Tupperware! Doamna Viorica Bulzan este foarte încântată de ele și dorește să ne bucure cu informații utile legate de aceste produse!  \nVom discuta despre cum depozităm alimentele și nu numai\, despre calitate vs preț\, despre reciclare și viață sănătoasă!\nCopii se vor putea juca bineînțeles\, având la dispoziție toată sala Bebe Rostogol. \nCine rezonează cu tema acestei întâlniri este așteptat vineri\, 16.03.2018 ora 16:30 la Bebe Rostogol  \nTe rog să confirmi prezența prin mesaj la Ionela Tontsch sau la telefon 0721333158. \nÎn sală este permis accesul în șosete sau cu protecție peste încălțări (găsiți la sala)\, este important ca toti cei prezenți să fie sănătoși și voioși!  \nContribuție: 30lei\nDacă participi la 3 întâlniri\, a 4-a este GRATUITĂ! \nCu drag\, Ionela ??? \n
URL:https://ghidlocal.com/brasov/eveniment/socializare-rostogolicioasa-tupperware/
LOCATION:BeBe Rostogol\, Lunga 130\, Brasov\, 400045\, RO
CATEGORIES:Ateliere Brasov,Cursuri,Expozitii Brasov,Workshop Brasov
END:VEVENT
END:VCALENDAR