BEGIN:VCALENDAR
VERSION:2.0
PRODID:-//Ghid Local Brasov - ECPv5.1.1//NONSGML v1.0//EN
CALSCALE:GREGORIAN
METHOD:PUBLISH
X-WR-CALNAME:Ghid Local Brasov
X-ORIGINAL-URL:https://ghidlocal.com/brasov
X-WR-CALDESC:Events for Ghid Local Brasov
BEGIN:VTIMEZONE
TZID:Europe/Bucharest
BEGIN:DAYLIGHT
TZOFFSETFROM:+0200
TZOFFSETTO:+0300
TZNAME:EEST
DTSTART:20170326T010000
END:DAYLIGHT
BEGIN:STANDARD
TZOFFSETFROM:+0300
TZOFFSETTO:+0200
TZNAME:EET
DTSTART:20171029T010000
END:STANDARD
END:VTIMEZONE
BEGIN:VEVENT
DTSTART;TZID=Europe/Bucharest:20170804T180000
DTEND;TZID=Europe/Bucharest:20170804T190000
DTSTAMP:20260423T044428
CREATED:20170803T070017Z
LAST-MODIFIED:20170803T074532Z
UID:18422-1501869600-1501873200@ghidlocal.com
SUMMARY:Simboluri si motive cusute pe ii și cămăși din SE Transilvaniei
DESCRIPTION:Expoziția Simboluri și motive cusute pe iile și cămășile din SE Transilvaniei reunește 20 de cusături care redau simboluri recuperate de pe camăși de june din Șchei\, de pe ii sau alte țesături din SE Transilvaniei\, provenind din colecții muzeale sau particulare. \nExponatele sunt însoțite de o mențiune a motivului/semnului redat\, zona de proveniență\, perioada istorică. \nModele de cusături au fost culese și desenate în format digital de Melinda Puskas și Antonela Cristina Lungu (Comunitatea Motive tradiționale din Țara Bârsei și împrejurimi)\, iar apoi cusute de membrele acestei comunități\, ale grupului Șezătoare la Brașov și de către alte doamne pasionate de arta cusăturilor tradiționale: Melinda Puskas mama\, Vasilica Crișan\, Anna Pană\, Aurelia Grozea\, Elena Dănilă\, Rafila Săracu\, Maria Szabo\, Melinda Puskas fiica\, Iulia Ruginosu\, Viviana Costan-Moiseanu\, Gabriela Radeș și Antonela Lungu. \nMotive tradiționale din Țara Bârsei și împrejurimi\, este o comunitate care își dorește să aducă un aport la transmiterea și păstrarea în timp a motivelor tradiționale românești\, săsești și ungurești din zona în care trăim. Eforturile echipei se concentreaza asupra culegerii de motive tradiționale rare\, transferul acestora în format digital și în organizarea de evenimente prin care aceste motive sunt restituite comunității.\n____________________________________________\nAcest eveniment face parte din proiectul „Muzeul din Casa Junilor” (august-noiembrie 2017)\, inițiat de Uniunea Junilor din Șcheii Brașovului și Brașovul Vechi și finanțat de Primăria Municipiului Brașov și Asociația Mă Implic. \n
URL:https://ghidlocal.com/brasov/eveniment/simboluri-si-motive-cusute-pe-ii-si-camasi-din-se-transilvaniei/2017-08-04/
LOCATION:Casa Junilor\, Prundului 1\, Brasov\, 500123\, Romania
ATTACH;FMTTYPE=image/jpeg:https://cdn.cluj.com/ghidlocalcom/sites/6/2017/08/20525916_248164785703063_649898965678769956_n.jpg
END:VEVENT
END:VCALENDAR