BEGIN:VCALENDAR
VERSION:2.0
PRODID:-//Ghid Local Brasov - ECPv5.1.1//NONSGML v1.0//EN
CALSCALE:GREGORIAN
METHOD:PUBLISH
X-WR-CALNAME:Ghid Local Brasov
X-ORIGINAL-URL:https://ghidlocal.com/brasov
X-WR-CALDESC:Events for Ghid Local Brasov
BEGIN:VTIMEZONE
TZID:Europe/Bucharest
BEGIN:DAYLIGHT
TZOFFSETFROM:+0200
TZOFFSETTO:+0300
TZNAME:EEST
DTSTART:20180325T010000
END:DAYLIGHT
BEGIN:STANDARD
TZOFFSETFROM:+0300
TZOFFSETTO:+0200
TZNAME:EET
DTSTART:20181028T010000
END:STANDARD
END:VTIMEZONE
BEGIN:VEVENT
DTSTART;TZID=Europe/Bucharest:20180331T200000
DTEND;TZID=Europe/Bucharest:20180331T230000
DTSTAMP:20260421T080451
CREATED:20171107T075810Z
LAST-MODIFIED:20171107T075810Z
UID:27982-1522526400-1522537200@ghidlocal.com
SUMMARY:Siberian Meat Grinder - 31.03 - Rockstadt\, Brasov
DESCRIPTION:INFO SOON \n
URL:https://ghidlocal.com/brasov/eveniment/siberian-meat-grinder-31-03-rockstadt-brasov/
LOCATION:Rockstadt\, Strada Nicolae Titulescu\, Brasov\, 500271\, RO
CATEGORIES:Festivaluri Brasov
ATTACH;FMTTYPE=image/jpeg:https://cdn.cluj.com/ghidlocalcom/sites/6/2017/11/27982_image_23157433_973544016128366_2748513761687230684_o.jpg
END:VEVENT
END:VCALENDAR