BEGIN:VCALENDAR
VERSION:2.0
PRODID:-//Ghid Local Brasov - ECPv5.1.1//NONSGML v1.0//EN
CALSCALE:GREGORIAN
METHOD:PUBLISH
X-WR-CALNAME:Ghid Local Brasov
X-ORIGINAL-URL:https://ghidlocal.com/brasov
X-WR-CALDESC:Events for Ghid Local Brasov
BEGIN:VTIMEZONE
TZID:Europe/Bucharest
BEGIN:DAYLIGHT
TZOFFSETFROM:+0200
TZOFFSETTO:+0300
TZNAME:EEST
DTSTART:20170326T010000
END:DAYLIGHT
BEGIN:STANDARD
TZOFFSETFROM:+0300
TZOFFSETTO:+0200
TZNAME:EET
DTSTART:20171029T010000
END:STANDARD
END:VTIMEZONE
BEGIN:VEVENT
DTSTART;TZID=Europe/Bucharest:20171109T090000
DTEND;TZID=Europe/Bucharest:20171109T170000
DTSTAMP:20260420T175207
CREATED:20171030T081147Z
LAST-MODIFIED:20171105T120119Z
UID:27170-1510218000-1510246800@ghidlocal.com
SUMMARY:Sesiune Interviuri Starboard Cruise Services
DESCRIPTION:Job Selection Brașov și Starboard Cruise Services\, cel mai important concesionar la bordul vaselor de croazieră\, organizează sesiune de interviuri la Brașov în perioada 09-10 Noiembrie 2017.\nJoburile de pe vasele de croazieră pentru care se organizează sesiunea de interviuri sunt următoarele:\n*Consilier Vânzări / Sales Associate\n*Specialist Vânzări Ceasuri și Bijuterii / Watches & Jewellery Specialist\n*Manager Vânzări / Fast Track Manager \n
URL:https://ghidlocal.com/brasov/eveniment/sesiune-interviuri-starboard-cruise-services/2017-11-09/
LOCATION:Job Selection\, Str. Alexandru Odobescu nr.9\, Brasov\, 500271\, RO
CATEGORIES:Altele
ATTACH;FMTTYPE=image/jpeg:https://cdn.cluj.com/ghidlocalcom/sites/6/2017/10/27170_image_22459319_1730581227001693_2905475102186314343_o.jpg
END:VEVENT
END:VCALENDAR