BEGIN:VCALENDAR
VERSION:2.0
PRODID:-//Ghid Local Brasov - ECPv5.1.1//NONSGML v1.0//EN
CALSCALE:GREGORIAN
METHOD:PUBLISH
X-WR-CALNAME:Ghid Local Brasov
X-ORIGINAL-URL:https://ghidlocal.com/brasov
X-WR-CALDESC:Events for Ghid Local Brasov
BEGIN:VTIMEZONE
TZID:Europe/Bucharest
BEGIN:DAYLIGHT
TZOFFSETFROM:+0200
TZOFFSETTO:+0300
TZNAME:EEST
DTSTART:20180325T010000
END:DAYLIGHT
BEGIN:STANDARD
TZOFFSETFROM:+0300
TZOFFSETTO:+0200
TZNAME:EET
DTSTART:20181028T010000
END:STANDARD
END:VTIMEZONE
BEGIN:VEVENT
DTSTART;TZID=Europe/Bucharest:20180331T120000
DTEND;TZID=Europe/Bucharest:20180331T160000
DTSTAMP:20260420T162116
CREATED:20180122T092330Z
LAST-MODIFIED:20180122T092330Z
UID:36580-1522497600-1522512000@ghidlocal.com
SUMMARY:Semimaraton Brașov Intersport
DESCRIPTION:În data de 31 martie 2018\, în Piața Unirii din Brașov\, asteptăm cât mai mulți sportivi profesioniști și amatori\, din țară și din străinătate să se bucure împreună cu noi de mișcarea în aer liber.\nȘi la cea de-a șasea ediție a Semimaratonului Brașov Intersport\, concurenții își vor putea testa limitele la proba de Semimaraton de 21 km sau la cea de Cros de 10 km. Traseul îi va purta pe concurenți pe străduțele cu iz medieval ale orașului vechi și pe potecile montane din jurul Brașovului. \nSTART ÎNSCRIERI: 15 ianuarie 2018 \nNumăr maxim de concurenți: 1200 (cumulat la ambele probe) \nTRASEU semimaraton și cros: http://semimaraton.ro/traseu/ \nREGULAMENT: http://semimaraton.ro/regulament/ \nVă așteptăm! \n
URL:https://ghidlocal.com/brasov/eveniment/semimaraton-brasov-intersport/
CATEGORIES:Sport Brasov
ATTACH;FMTTYPE=image/jpeg:https://cdn.cluj.com/ghidlocalcom/sites/6/2018/01/36580_image_24254944_1891406504210315_3383437084341473953_o.jpg
END:VEVENT
END:VCALENDAR