BEGIN:VCALENDAR
VERSION:2.0
PRODID:-//Ghid Local Brasov - ECPv5.1.1//NONSGML v1.0//EN
CALSCALE:GREGORIAN
METHOD:PUBLISH
X-WR-CALNAME:Ghid Local Brasov
X-ORIGINAL-URL:https://ghidlocal.com/brasov
X-WR-CALDESC:Events for Ghid Local Brasov
BEGIN:VTIMEZONE
TZID:Europe/Bucharest
BEGIN:DAYLIGHT
TZOFFSETFROM:+0200
TZOFFSETTO:+0300
TZNAME:EEST
DTSTART:20180325T010000
END:DAYLIGHT
BEGIN:STANDARD
TZOFFSETFROM:+0300
TZOFFSETTO:+0200
TZNAME:EET
DTSTART:20181028T010000
END:STANDARD
END:VTIMEZONE
BEGIN:VEVENT
DTSTART;TZID=Europe/Bucharest:20180224T170000
DTEND;TZID=Europe/Bucharest:20180224T183000
DTSTAMP:20260421T084747
CREATED:20180204T132607Z
LAST-MODIFIED:20180206T174130Z
UID:39033-1519491600-1519497000@ghidlocal.com
SUMMARY:Relaţia părinte-copil\, ateliere de Artterapie
DESCRIPTION:Vă invităm la o serie de cinci ateliere pentru părinţi şi copii în care să vă petreceţi timpul împreună\, să vă conectaţi prin artă\, să aflaţi şi să înţelegeţi mai bine nevoile copilului \, să vedeţi cum sunteţi percepuţi\, să vă consolidaţi relaţia şi să descoperişi cum aţi putea să o îmbunătăţiţi. \nDesenul este modalitatea copiilor de a se exprima şi poate fi o unealtă minunată pentru părinte de a se apropia şi de a-şi înţelege mai bine copilul. \nVă propunem un modul de cinci ateliere\, sâmbăta\, o dată la două săptămâni\, de la ora 17.\nÎnscrierea presupune participarea la toate cele cinci ateliere. La sfârşitul modulului\, cei care doresc pot beneficia de evaluare si recomandari. \nLocul desfăşurării: strada Avram Iancu nr. 76 \nFacilitatori: \nRaluca Robu\, psiholog cu formare în Evaluarea şi Consilierea Experienţială a Adultului\, Copilului\, Cuplului şi Familiei în cadrul Societăţii de Psihoterapie Experenţială Română (SPER).\nAndreea Crăciun\, consilier psihologic cu formare în Psihoterapia Experienţială a Unificării. \nÎnscrierile se fac de către părinţi\, menţionând un număr de telefon\, vârsta şi numele copilului/ copiilor la telefon 0730223528 (Andreea Craciun). \n
URL:https://ghidlocal.com/brasov/eveniment/relatia-parinte-copil-ateliere-de-artterapie/2018-02-24/
LOCATION:Artterapie – Brasov\, Strada Avram Iancu nr. 76\, Brasov\, 505200\, RO
CATEGORIES:Ateliere Brasov
ATTACH;FMTTYPE=image/jpeg:https://cdn.cluj.com/ghidlocalcom/sites/6/2018/02/39033_image_27336285_2294013637291140_7847951594774707509_n.jpg
END:VEVENT
END:VCALENDAR