BEGIN:VCALENDAR
VERSION:2.0
PRODID:-//Ghid Local Brasov - ECPv5.1.1//NONSGML v1.0//EN
CALSCALE:GREGORIAN
METHOD:PUBLISH
X-WR-CALNAME:Ghid Local Brasov
X-ORIGINAL-URL:https://ghidlocal.com/brasov
X-WR-CALDESC:Events for Ghid Local Brasov
BEGIN:VTIMEZONE
TZID:Europe/Bucharest
BEGIN:DAYLIGHT
TZOFFSETFROM:+0200
TZOFFSETTO:+0300
TZNAME:EEST
DTSTART:20170326T010000
END:DAYLIGHT
BEGIN:STANDARD
TZOFFSETFROM:+0300
TZOFFSETTO:+0200
TZNAME:EET
DTSTART:20171029T010000
END:STANDARD
END:VTIMEZONE
BEGIN:VEVENT
DTSTART;TZID=Europe/Bucharest:20171108T190000
DTEND;TZID=Europe/Bucharest:20171108T203000
DTSTAMP:20260420T095559
CREATED:20171106T074002Z
LAST-MODIFIED:20171106T074002Z
UID:27860-1510167600-1510173000@ghidlocal.com
SUMMARY:Recital Kodály Zoltán
DESCRIPTION:Karasszon Eszter – violoncel\nHotzi Panni – pian\nKiss Judit Anna – mezzosoprană. \nÎn program:\nBartók Béla: Trei burleşci – pian\n1.   Perpatvar. Presto\n2.   Kicsit ázottan. Allegretto\n3.   Molto vivo – capriccioso\nVajda János: Just for you – violoncel\nKodály Zoltán: Meditaţie pe un motiv de Debussy – pian\nKodály Zoltán: Solosonata pentru violoncel partea  I.\nKodály Zoltán: A rossz feleség – voce-pian\nKodály Zoltán: Mónár Anna – voce-pian\nKodály Zoltán: Barcsai – voce-pian\nKodály Zoltán: Romanţă lirică – violoncel-pian \nInterpreţi:\nKarasszon Eszter – violoncel\n„Cu violoncelul în jurul lumii.” – nimic nu caracterizează mai bine viaţa tinerei violonceliste decât titlul cărţii lui Gregor Piatigorsky. Deşi proaspătă absolventă a Universităţii de Muzică Liszt Ferenc din Budapesta\, Karasszon Eszter a concertat deja în numeroase ţări din Europa – printre care se numără şi Olanda\, Austria\, Germania\, Italia şi  Elveţia –\, respectiv în China\, Israel şi Statele Unite ale Americii. La opt ani a obţinut primul său premiu la un concurs naţional\, fiind cel mai tânăr concurent\, apoi au urmat numeroase premii la concursuri naţionale şi internaţionale\, cel mai recent fiind premiul I la Concursul internaţional de violoncel Popper Dávid. Karasszon Eszter are experiență şi în domeniul muzicii de cameră\, în 2013 obţinând marele premiul la Concursul de muzică de cameră Dohnányi Ernő. Cântă adesea cu Szabadi Vilmos\, de curând concertând împreună în China şi la New York. În ultima vreme este preocupată de muzica lui Şostakovici\, la concertul de diplomă din Sala Mare a Academiei de Muzică interpretând Concertul pentru violoncel şi orchestră nr. 1 al lui Şostakovici. În repertoriul ei figurează şi opusuri ale compozitorilor maghiari din secolul 20 şi de astăzi – Kodály\, Bartók\, Dohnányi\, Vajda\, Gárdonyi.  \nHotzi Panni – pian\nA absolvit Universitatea Naţională de Muzică Liszt Ferenc în anul 2016. Este deopotrivă interesată de muzica de cameră şi adesea participă la seri literare\, iar în anul universitar 2016/17 a predat pian  la Universitatea de Muzică Liszt Ferenc. A fost invitata renumitului pianist şi dirijor Vásáry Tamás (la Szeged şi Budapesta)\, dar a cântat şi cu Orchestra Simfonică Savaria (Szombathely)\, cu Orchestra de camerăa Camerata pro Musica\, a susţinut recitaluri în centre muzicale importante\, precum Sala de sticlă din Palatul Artelor\, Centrul de cultură Klebelsberg din Budapesta\, Institutul Maghiar din Praga sau festivalul Piano aux Jacobins Festival (Toulouse\, Franţa). \nKiss Judit Anna – mezzosoprană\nS-a născut la Budapesta\, în anul 1996. Este laureată a câtorva concursuri foarte importante: Concursul Internaţional de Canto Simándy József – Premiul special Wagner (2013)\, Concursul Internaţional de Canto Gregor József – Premiul I (2014) şi Concursul de Canto Andor Éva – Premiul III (2016).\nÎn prezent este studentă la Universitatea de Muzică Liszt Ferenc din Budapesta\, la clasa profesorului Halmai Katalin. În 2016 a participat la Budapesti Tavaszi Fesztivál (Festivalul de Primăvară din Budapesta)\, interpretând rolul Aristeei în opera Orontea de Antonio Cesti. În aprilie 2017 a participat la cursurile de măiestrie susţinute de Thomas Quasthoff la Berlin. Se remarcă prin interpretarea inspirată a liedurilor. \nUn eveniment organizat de Institutul Maghiar din București \n
URL:https://ghidlocal.com/brasov/eveniment/recital-kodaly-zoltan/
LOCATION:Centrul Multicultural al Universității Transilvania din Brașov\, Bd. Eroilor 29\, parter Rectorat UTBv\, Brasov\, 500036\, RO
CATEGORIES:Cultural
ATTACH;FMTTYPE=image/jpeg:https://cdn.cluj.com/ghidlocalcom/sites/6/2017/11/27860_image_23270126_554079634939599_1447207761895758734_o.jpg
END:VEVENT
END:VCALENDAR