BEGIN:VCALENDAR
VERSION:2.0
PRODID:-//Ghid Local Brasov - ECPv5.1.1//NONSGML v1.0//EN
CALSCALE:GREGORIAN
METHOD:PUBLISH
X-WR-CALNAME:Ghid Local Brasov
X-ORIGINAL-URL:https://ghidlocal.com/brasov
X-WR-CALDESC:Events for Ghid Local Brasov
BEGIN:VTIMEZONE
TZID:Europe/Bucharest
BEGIN:DAYLIGHT
TZOFFSETFROM:+0200
TZOFFSETTO:+0300
TZNAME:EEST
DTSTART:20180325T010000
END:DAYLIGHT
BEGIN:STANDARD
TZOFFSETFROM:+0300
TZOFFSETTO:+0200
TZNAME:EET
DTSTART:20181028T010000
END:STANDARD
END:VTIMEZONE
BEGIN:VEVENT
DTSTART;TZID=Europe/Bucharest:20180331T140000
DTEND;TZID=Europe/Bucharest:20180331T161500
DTSTAMP:20260420T192246
CREATED:20180325T112550Z
LAST-MODIFIED:20180325T112550Z
UID:46856-1522504800-1522512900@ghidlocal.com
SUMMARY:PRO Afaceri Junior - Curs de public speaking pentru copii
DESCRIPTION:Mai multe detalii aici: http://www.proafaceri.com/event/pro-afaceri-junior/ \nCUI SE ADRESEAZĂ?\n–	copiilor şi adolescenţilor cu vârste cuprinse între 8 şi 14 ani;\n–	celor care au dificultăţi în a-şi face prieteni;\n–	celor care se simt sfioşi atunci când sunt nevoiţi să poarte o conversaţie;\n–	celor care întâmpină dificultăţi în a face prezentări şi a vorbi în faţa clasei;\n–	celor care vor să interacţioneze şi să comunice efiecient cu cei din jur;\n–	celor care nu vor ezita să spună mulţumesc atunci când îşi primesc aprecierile în public.	 \nCUM ESTE GÂNDIT PROGRAMUL?\nNume program:        PRO afaceri Junior – Curs de Public Speaking pentru copii\nDurata:                    membership de 6 luni\nIntalniri bilunare:     Sâmbătă\, 14:00 – 16:15 (15 min pauza)\, prima sesiune are loc în data de 31.03.2018\nLocatia:                    Str. Vulcan 103\, Brașov\nGrupa:                      10 copii  \nCe conţine programul?\n•	20% teorie (unelte\, strategii\, principii)\n•	80% practică (exerciţii pe prezentare\, oganizarea prezentării\, studii de caz\, activităţi)\n	Elemente de control personal;\n	Elemente de structură a mesajului şi pregătire;\n	Elemente de limbaj nonverbal şi captare a atenţiei publicului. \nTrainer: Mihaela Mathe\nMotto: Totul în joc\, nimic în joaca.\n•	Autor al primului Manual de Public Speaking copii şi adolescenţi: ABC-ul Vorbitului în Public\n•	Peste 100 de copii şi adolescenţi îndrumaţi să işi dezvolte abilităţile de comunicare.\n•	A antrenat copii pentru a susţine discurs la conferinţe precum: TEDx\, KIDx\, Bussiness Day Junior\, Noaptea Devoratorilor de Discursuri\, Concursuri de public speaking şi emisiuni televizate la TVR+ şi Prima TV\n•	Peste 300 de ore de practică în faţa publicului.\n•	Peste 3 ani de activitate ca profesor îndrumător de limba engleză.\n•	Colaborări multiple în calitate de trainer cu diverse şcoli din Bucureşti şi centrul de copii supradotaţi “Gifted Education”. \nCum se va dezvolta copilul tău datorită acestui program?\n1.	Va scăpa de timiditate;\n2.	Îşi va diminua teama că va fi ascultat la lecţie în cadrul orelor de curs ;\n3.	Va căpăta mai multă încredere în el însuşi şi în a-şi exprima ideile;\n4.	Va vorbi mai clar de fiecare dată când vrea să se exprime;\n5.	Va învăţa să comunice mai eficient;\n6.	Va invăţa să asculte cu mai mult calm ;\n7.	Îşi va îmbunătăţi vocabularul;\n8.	Va şti să îşi structureze mai bine informaţia;\n9.	Va avea mai multe oportunităţi de carieră datorită unei abilităţi necesare oricarui job;\n10.	Îşi va dezvolta carisma. \nInvestiţia: 290 euro (este fară TVA pentru că nu suntem platitori de TVA)\n–	15% reducere pentru al doilea copil din familie\n–	Pentru rezervarea locului în perioada 20.03.2018 – 25.03.2018 este necesară achitarea unui avans de 50%\, iar diferenţa de 50% se va achita cel târziu până pe 30.03.2018. \nCe va pierde copilul tău dacă nu alegi PRO afaceri Junior – Curs de Public Speaking pentru copii?\n–	nu va putea să îşi dezvolte abilităţile de comunicare\, esenţiale în relaţionarea cu cei din jur;\n–	nu va putea practica într-un cadru şi mediu diferit decât cel oferit de şcoală;\n–	nu va avea perspectiva învăţării împreuna cu ceilalţi\, bazată în primul rând pe practică decât pe baze teoretice;\n–	nu va avea şansa de a primi o cantitate impresionantă de feed-back pozitiv\, un lucru care lipseşte atât de mult în stilul tradiţional de învăţare şi care este de fapt fundamentul dorinţei de a merge mai departe în aprofundarea unui domeniu. \nVă mulţumesc pentru interesul acordat comunităţii noastre şi vă invit să participaţi la prima grupa de practică alături de juniori\, pentru a înţelege practic cadrul de desfăşurare al evenimentelor. \nAdrian Doroşin\nProject Coordinator\nM:+40 799.800.300\nE: adrian@proafaceri.com \nInscrie-te aici : http://www.proafaceri.com/pro-junior-form \n„Investiţia în cunoaştere generează cea mai bună dobândă” – Benjamin Franklin\n“Investiţiaîin comunicare generează cel mai mare profit” – PRO afaceri Junior \n
URL:https://ghidlocal.com/brasov/eveniment/pro-afaceri-junior-curs-de-public-speaking-pentru-copii-2/
CATEGORIES:Conferinte Brasov
ATTACH;FMTTYPE=image/jpeg:https://cdn.cluj.com/ghidlocalcom/sites/6/2018/03/46856_image_29432655_224351404781251_7943123495158808576_o.jpg
END:VEVENT
END:VCALENDAR