BEGIN:VCALENDAR
VERSION:2.0
PRODID:-//Ghid Local Brasov - ECPv5.1.1//NONSGML v1.0//EN
CALSCALE:GREGORIAN
METHOD:PUBLISH
X-WR-CALNAME:Ghid Local Brasov
X-ORIGINAL-URL:https://ghidlocal.com/brasov
X-WR-CALDESC:Events for Ghid Local Brasov
BEGIN:VTIMEZONE
TZID:Europe/Bucharest
BEGIN:DAYLIGHT
TZOFFSETFROM:+0200
TZOFFSETTO:+0300
TZNAME:EEST
DTSTART:20180325T010000
END:DAYLIGHT
BEGIN:STANDARD
TZOFFSETFROM:+0300
TZOFFSETTO:+0200
TZNAME:EET
DTSTART:20181028T010000
END:STANDARD
END:VTIMEZONE
BEGIN:VEVENT
DTSTART;TZID=Europe/Bucharest:20180331T140000
DTEND;TZID=Europe/Bucharest:20180331T160000
DTSTAMP:20260420T180057
CREATED:20180209T083447Z
LAST-MODIFIED:20180209T083447Z
UID:39935-1522504800-1522512000@ghidlocal.com
SUMMARY:Preselectii Miss Brasov 2018
DESCRIPTION:Am dat startul la inscrierile pentru cea de a patra  editie de Miss Brasov! \nDe ce sa participi? Iti dam cel putin 5 motive!\n– Posibilitatea de a te afirma si de a incepe o cariera in modelling!\n– Ai parte de o experienta UNICA!\n– Premii atractive!\n– Ai parte de cursuri de dezvoltare personala diverse!\n– Inveti ce presupune o prezentare de moda\, mers scenic\, curs de fashion si make-up\, etc\n– Ai parte de un curs de 2 zile cu Mihaela Tatu!\n– Sesiuni photo profesionale!\n– Multa distractie si posibilitatea de a cunoaste o lume noua 🙂 \nCe ai de facut?\nSa completezi formularul de participare la Preselectiile din 31 martie si sa fii prezenta pentru a impresionea juriul! \nPrimul pas este simplu. Formularul il regasesti aici:  \n\nPreselectii Miss Brasov 2018 \n\nAi nevoie de detalii suplimentare? Ne poti scrie pe office@alexaevent.ro sau miss.brasov@yahoo.ro\nTelefon organizator: 0742483333 – AlexaEvent \nRegulamentul Preselectiilor le gasesti aici: https://alexaevent.ro/2018/01/30/regulament-miss-brasov2018/ \nTe asteptam cu drag sa fii alaturi de noi! \n
URL:https://ghidlocal.com/brasov/eveniment/preselectii-miss-brasov-2018/
LOCATION:Miss Brasov\, str\,Lunga nr. 85\, Brasov\, 500051\, RO
CATEGORIES:Cursuri
ATTACH;FMTTYPE=image/jpeg:https://cdn.cluj.com/ghidlocalcom/sites/6/2018/02/39935_image_27624618_2118715871748356_4377289363120080408_o.jpg
END:VEVENT
END:VCALENDAR